Workbook
Name Excel_BuiltIn_Print_Area: ISCED!$A$1:$D$2
Name Excel_BuiltIn_Print_Area: KODY!$A$1:$C$57

Sheet PLAN ST
B2: Załącznik nr 1 do Programu studiów na kierunku FINANSE I RACHUNKOWOŚĆ, studia I stopnia, profil praktyczny, stanowiącego załącznik nr 1 do Uchwały nr 26/2023 Senatu ANS w Wałczu z dnia 28.09.2023 r. | J2: ROK 1 | P2: ROK 2 | V2: ROK 3 | AB2: ROK 4 | AH2: ROK 5
F3: Nazwa przedmiotu / zajęć / grupy zajęć | G3: Prowadzący zajęcia | H3: głowna forma zajęć | I3: Czy posiada ECTS | J3: SEMESTR 1 | M3: SEMESTR 2 | P3: SEMESTR 3 | S3: SEMESTR 4 | V3: SEMESTR 5 | Y3: SEMESTR 6 | AB3: SEMESTR 7 | AE3: SEMESTR 8 | AH3: SEMESTR 9 | AK3: SEMESTR 10 | AN3: ROZLICZENIE CZASU PRACY
B4: kod ISCED | C4: kod dziedziny / dyscypliny | D4: numer modułu | E4: cecha zajęć | J4: zajęcia | K4: ECTS | L4: forma zaliczenia | M4: zajęcia | N4: ECTS | O4: forma zaliczenia | P4: zajęcia | Q4: ECTS | R4: forma zaliczenia | S4: zajęcia | T4: ECTS | U4: forma zaliczenia | V4: zajęcia | W4: ECTS | X4: forma zaliczenia | Y4: zajęcia | Z4: ECTS | AA4: forma zaliczenia | AB4: zajęcia | AC4: ECTS | AD4: forma zaliczenia | AE4: zajęcia | AF4: ECTS | AG4: forma zaliczenia | AH4: zajęcia | AI4: ECTS | AJ4: forma zaliczenia | AK4: zajęcia | AL4: ECTS | AM4: forma zaliczenia | AN4: ECTS razem | AO4: ECTS przypisane zajęciom kształtującym umiejętności praktyczne | AP4: ECTS z bezpośrednim udziałem nauczycieli akademickich lub innych osób prowadzących zajęcia i studentów | AQ4: godziny pracy studenta razem | AR4: liczba godzin samokształcenia | AS4: liczba godzin konsultacji | AT4: liczba godzin weryfikacji/ewaluacji | AU4: liczba godzin zajęć na planie studiów | AV4: Stosunek procentowy liczby ECTS zajęć w bezpośrednim kontakcie do pracy własnej studenta
F5: RAZEM ZA CAŁOŚĆ
F6: Księgowość i podatki w przedsiębiorstwie | J6: =SUM(Tabela_ogolne[sem1.godziny],Tabela_podst[sem1.godziny],Tabela_kier[sem1.godziny],Tabela_SP1[sem1.godziny], Tabela_do_wyboru[sem1.godziny]) -> 330 | K6: =SUM(Tabela_ogolne[sem1.ects],Tabela_podst[sem1.ects],Tabela_kier[sem1.ects],Tabela_SP1[sem1.ects], Tabela_do_wyboru[sem1.ects]) -> 28 | M6: =SUM(Tabela_ogolne[sem2.godziny],Tabela_podst[sem2.godziny],Tabela_kier[sem2.godziny],Tabela_SP1[sem2.godziny], Tabela_do_wyboru[sem2.godziny]) -> 470 | N6: =SUM(Tabela_ogolne[sem2.ects],Tabela_podst[sem2.ects],Tabela_kier[sem2.ects],Tabela_SP1[sem2.ects], Tabela_do_wyboru[sem2.ects]) -> 29 | P6: =SUM(Tabela_ogolne[sem3.godziny],Tabela_podst[sem3.godziny],Tabela_kier[sem3.godziny],Tabela_SP1[sem3.godziny], Tabela_do_wyboru[sem3.godziny]) -> 455 | Q6: =SUM(Tabela_ogolne[sem3.ects],Tabela_podst[sem3.ects],Tabela_kier[sem3.ects],Tabela_SP1[sem3.ects], Tabela_do_wyboru[sem3.ects]) -> 29 | S6: =SUM(Tabela_ogolne[sem4.godziny],Tabela_podst[sem4.godziny],Tabela_kier[sem4.godziny],Tabela_SP1[sem4.godziny], Tabela_do_wyboru[sem4.godziny]) -> 455 | T6: =SUM(Tabela_ogolne[sem4.ects],Tabela_podst[sem4.ects],Tabela_kier[sem4.ects],Tabela_SP1[sem4.ects], Tabela_do_wyboru[sem4.ects]) -> 30 | V6: =SUM(Tabela_ogolne[sem5.godziny],Tabela_podst[sem5.godziny],Tabela_kier[sem5.godziny],Tabela_SP1[sem5.godziny], Tabela_do_wyboru[sem5.godziny]) -> 485 | W6: =SUM(Tabela_ogolne[sem5.ects],Tabela_podst[sem5.ects],Tabela_kier[sem5.ects],Tabela_SP1[sem5.ects], Tabela_do_wyboru[sem5.ects]) -> 32 | Y6: =SUM(Tabela_ogolne[sem6.godziny],Tabela_podst[sem6.godziny],Tabela_kier[sem6.godziny],Tabela_SP1[sem6.godziny], Tabela_do_wyboru[sem6.godziny]) -> 478 | Z6: =SUM(Tabela_ogolne[sem6.ects],Tabela_podst[sem6.ects],Tabela_kier[sem6.ects],Tabela_SP1[sem6.ects], Tabela_do_wyboru[sem6.ects]) -> 32 | AB6: =SUM(Tabela_ogolne[sem7.godziny],Tabela_podst[sem7.godziny],Tabela_kier[sem7.godziny],Tabela_SP1[sem7.godziny], Tabela_do_wyboru[sem7.godziny]) -> 0 | AC6: =SUM(Tabela_ogolne[sem7.ects],Tabela_podst[sem7.ects],Tabela_kier[sem7.ects],Tabela_SP1[sem7.ects], Tabela_do_wyboru[sem7.ects]) -> 0 | AE6: =SUM(Tabela_ogolne[sem8.godziny],Tabela_podst[sem8.godziny],Tabela_kier[sem8.godziny],Tabela_SP1[sem8.godziny], Tabela_do_wyboru[sem8.godziny]) -> 0 | AF6: =SUM(Tabela_ogolne[sem8.ects],Tabela_podst[sem8.ects],Tabela_kier[sem8.ects],Tabela_SP1[sem8.ects], Tabela_do_wyboru[sem8.ects]) -> 0 | AH6: =SUM(Tabela_ogolne[sem9.godziny],Tabela_podst[sem9.godziny],Tabela_kier[sem9.godziny],Tabela_SP1[sem9.godziny], Tabela_do_wyboru[sem9.godziny]) -> 0 | AI6: =SUM(Tabela_ogolne[sem9.ects],Tabela_podst[sem9.ects],Tabela_kier[sem9.ects],Tabela_SP1[sem9.ects], Tabela_do_wyboru[sem9.ects]) -> 0 | AK6: =SUM(Tabela_ogolne[sem10.godziny],Tabela_podst[sem10.godziny],Tabela_kier[sem10.godziny],Tabela_SP1[sem10.godziny], Tabela_do_wyboru[sem10.godziny]) -> 0 | AL6: =SUM(Tabela_ogolne[sem10.ects],Tabela_podst[sem10.ects],Tabela_kier[sem10.ects],Tabela_SP1[sem10.ects], Tabela_do_wyboru[sem10.ects]) -> 0 | AN6: =SUM(Tabela_ogolne[ects.razem],Tabela_podst[ects.razem],Tabela_kier[ects.razem],Tabela_SP1[ects.razem], Tabela_do_wyboru[ects.razem]) -> 180 | AO6: =SUM(Tabela_ogolne[ects.umiej.prakt.],Tabela_podst[ects.umiej.prakt.],Tabela_kier[ects.umiej.prakt.],Tabela_SP1[ects.umiej.prakt.], Tabela_do_wyboru[ects.umiej.prakt.]) -> 134 | AP6: =SUM(Tabela_ogolne[ects.bezposr.nauczyciel],Tabela_podst[ects.bezposr.nauczyciel],Tabela_kier[ects.bezposr.nauczyciel],Tabela_SP1[ects.bezposr.nauczyciel], Tabela_do_wyboru[ects.bezposr.nauczyciel]) -> 115 | AQ6: =SUM(Tabela_ogolne[godziny.razem.student],Tabela_podst[godziny.razem.student],Tabela_kier[godziny.razem.student],Tabela_SP1[godziny.razem.student], Tabela_do_wyboru[godziny.razem.student]) -> 4584 | AR6: =SUM(Tabela_ogolne[godziny.samoksztalcenie],Tabela_podst[godziny.samoksztalcenie],Tabela_kier[godziny.samoksztalcenie],Tabela_SP1[godziny.samoksztalcenie], Tabela_do_wyboru[godziny.samoksztalcenie]) -> 1515 | AS6: =SUM(Tabela_ogolne[godziny.konsultacja],Tabela_podst[godziny.konsultacja],Tabela_kier[godziny.konsultacja],Tabela_SP1[godziny.konsultacja], Tabela_do_wyboru[godziny.konsultacja]) -> 254 | AT6: =SUM(Tabela_ogolne[godziny.egzamin],Tabela_podst[godziny.egzamin],Tabela_kier[godziny.egzamin],Tabela_SP1[godziny.egzamin], Tabela_do_wyboru[godziny.egzamin]) -> 142 | AU6: =SUM(Tabela_ogolne[godziny.zajec.razem],Tabela_podst[godziny.zajec.razem],Tabela_kier[godziny.zajec.razem],Tabela_SP1[godziny.zajec.razem], Tabela_do_wyboru[godziny.zajec.razem]) -> 2673 | AV6: =IF(AP6,AP6/AN6,"") -> 0.63888889
F7: Płace i kadry | J7: =SUM(Tabela_ogolne[sem1.godziny],Tabela_podst[sem1.godziny],Tabela_kier[sem1.godziny],Tabela_SP2[sem1.godziny], Tabela_do_wyboru[sem1.godziny]) -> 330 | K7: =SUM(Tabela_ogolne[sem1.ects],Tabela_podst[sem1.ects],Tabela_kier[sem1.ects],Tabela_SP2[sem1.ects], Tabela_do_wyboru[sem1.ects]) -> 28 | M7: =SUM(Tabela_ogolne[sem2.godziny],Tabela_podst[sem2.godziny],Tabela_kier[sem2.godziny],Tabela_SP2[sem2.godziny], Tabela_do_wyboru[sem2.godziny]) -> 470 | N7: =SUM(Tabela_ogolne[sem2.ects],Tabela_podst[sem2.ects],Tabela_kier[sem2.ects],Tabela_SP2[sem2.ects], Tabela_do_wyboru[sem2.ects]) -> 29 | P7: =SUM(Tabela_ogolne[sem3.godziny],Tabela_podst[sem3.godziny],Tabela_kier[sem3.godziny],Tabela_SP2[sem3.godziny], Tabela_do_wyboru[sem3.godziny]) -> 455 | Q7: =SUM(Tabela_ogolne[sem3.ects],Tabela_podst[sem3.ects],Tabela_kier[sem3.ects],Tabela_SP2[sem3.ects], Tabela_do_wyboru[sem3.ects]) -> 29 | S7: =SUM(Tabela_ogolne[sem4.godziny],Tabela_podst[sem4.godziny],Tabela_kier[sem4.godziny],Tabela_SP2[sem4.godziny], Tabela_do_wyboru[sem4.godziny]) -> 455 | T7: =SUM(Tabela_ogolne[sem4.ects],Tabela_podst[sem4.ects],Tabela_kier[sem4.ects],Tabela_SP2[sem4.ects], Tabela_do_wyboru[sem4.ects]) -> 30 | V7: =SUM(Tabela_ogolne[sem5.godziny],Tabela_podst[sem5.godziny],Tabela_kier[sem5.godziny],Tabela_SP2[sem5.godziny], Tabela_do_wyboru[sem5.godziny]) -> 500 | W7: =SUM(Tabela_ogolne[sem5.ects],Tabela_podst[sem5.ects],Tabela_kier[sem5.ects],Tabela_SP2[sem5.ects], Tabela_do_wyboru[sem5.ects]) -> 32 | Y7: =SUM(Tabela_ogolne[sem6.godziny],Tabela_podst[sem6.godziny],Tabela_kier[sem6.godziny],Tabela_SP2[sem6.godziny], Tabela_do_wyboru[sem6.godziny]) -> 478 | Z7: =SUM(Tabela_ogolne[sem6.ects],Tabela_podst[sem6.ects],Tabela_kier[sem6.ects],Tabela_SP2[sem6.ects], Tabela_do_wyboru[sem6.ects]) -> 32 | AB7: =SUM(Tabela_ogolne[sem7.godziny],Tabela_podst[sem7.godziny],Tabela_kier[sem7.godziny],Tabela_SP2[sem7.godziny], Tabela_do_wyboru[sem7.godziny]) -> 0 | AC7: =SUM(Tabela_ogolne[sem7.ects],Tabela_podst[sem7.ects],Tabela_kier[sem7.ects],Tabela_SP2[sem7.ects], Tabela_do_wyboru[sem7.ects]) -> 0 | AE7: =SUM(Tabela_ogolne[sem8.godziny],Tabela_podst[sem8.godziny],Tabela_kier[sem8.godziny],Tabela_SP2[sem8.godziny], Tabela_do_wyboru[sem8.godziny]) -> 0 | AF7: =SUM(Tabela_ogolne[sem8.ects],Tabela_podst[sem8.ects],Tabela_kier[sem8.ects],Tabela_SP2[sem8.ects], Tabela_do_wyboru[sem8.ects]) -> 0 | AH7: =SUM(Tabela_ogolne[sem9.godziny],Tabela_podst[sem9.godziny],Tabela_kier[sem9.godziny],Tabela_SP2[sem9.godziny], Tabela_do_wyboru[sem9.godziny]) -> 0 | AI7: =SUM(Tabela_ogolne[sem9.ects],Tabela_podst[sem9.ects],Tabela_kier[sem9.ects],Tabela_SP2[sem9.ects], Tabela_do_wyboru[sem9.ects]) -> 0 | AK7: =SUM(Tabela_ogolne[sem10.godziny],Tabela_podst[sem10.godziny],Tabela_kier[sem10.godziny],Tabela_SP2[sem10.godziny], Tabela_do_wyboru[sem10.godziny]) -> 0 | AL7: =SUM(Tabela_ogolne[sem10.ects],Tabela_podst[sem10.ects],Tabela_kier[sem10.ects],Tabela_SP2[sem10.ects], Tabela_do_wyboru[sem10.ects]) -> 0 | AN7: =SUM(Tabela_ogolne[ects.razem],Tabela_podst[ects.razem],Tabela_kier[ects.razem],Tabela_SP2[ects.razem], Tabela_do_wyboru[ects.razem]) -> 180 | AO7: =SUM(Tabela_ogolne[ects.umiej.prakt.],Tabela_podst[ects.umiej.prakt.],Tabela_kier[ects.umiej.prakt.],Tabela_SP2[ects.umiej.prakt.], Tabela_do_wyboru[ects.umiej.prakt.]) -> 134 | AP7: =SUM(Tabela_ogolne[ects.bezposr.nauczyciel],Tabela_podst[ects.bezposr.nauczyciel],Tabela_kier[ects.bezposr.nauczyciel],Tabela_SP2[ects.bezposr.nauczyciel], Tabela_do_wyboru[ects.bezposr.nauczyciel]) -> 115.5 | AQ7: =SUM(Tabela_ogolne[godziny.razem.student],Tabela_podst[godziny.razem.student],Tabela_kier[godziny.razem.student],Tabela_SP2[godziny.razem.student], Tabela_do_wyboru[godziny.razem.student]) -> 4611 | AR7: =SUM(Tabela_ogolne[godziny.samoksztalcenie],Tabela_podst[godziny.samoksztalcenie],Tabela_kier[godziny.samoksztalcenie],Tabela_SP2[godziny.samoksztalcenie], Tabela_do_wyboru[godziny.samoksztalcenie]) -> 1524 | AS7: =SUM(Tabela_ogolne[godziny.konsultacja],Tabela_podst[godziny.konsultacja],Tabela_kier[godziny.konsultacja],Tabela_SP2[godziny.konsultacja], Tabela_do_wyboru[godziny.konsultacja]) -> 255 | AT7: =SUM(Tabela_ogolne[godziny.egzamin],Tabela_podst[godziny.egzamin],Tabela_kier[godziny.egzamin],Tabela_SP2[godziny.egzamin], Tabela_do_wyboru[godziny.egzamin]) -> 144 | AU7: =SUM(Tabela_ogolne[godziny.zajec.razem],Tabela_podst[godziny.zajec.razem],Tabela_kier[godziny.zajec.razem],Tabela_SP2[godziny.zajec.razem], Tabela_do_wyboru[godziny.zajec.razem]) -> 2688 | AV7: =IF(AP7,AP7/AN7,"") -> 0.64166667
F8: Menedżer projektów europejskich | J8: =SUM(Tabela_ogolne[sem1.godziny],Tabela_podst[sem1.godziny],Tabela_kier[sem1.godziny],Tabela_SP3[sem1.godziny], Tabela_do_wyboru[sem1.godziny]) -> 330 | K8: =SUM(Tabela_ogolne[sem1.ects],Tabela_podst[sem1.ects],Tabela_kier[sem1.ects],Tabela_SP3[sem1.ects], Tabela_do_wyboru[sem1.ects]) -> 28 | M8: =SUM(Tabela_ogolne[sem2.godziny],Tabela_podst[sem2.godziny],Tabela_kier[sem2.godziny],Tabela_SP3[sem2.godziny], Tabela_do_wyboru[sem2.godziny]) -> 470 | N8: =SUM(Tabela_ogolne[sem2.ects],Tabela_podst[sem2.ects],Tabela_kier[sem2.ects],Tabela_SP3[sem2.ects], Tabela_do_wyboru[sem2.ects]) -> 29 | P8: =SUM(Tabela_ogolne[sem3.godziny],Tabela_podst[sem3.godziny],Tabela_kier[sem3.godziny],Tabela_SP3[sem3.godziny], Tabela_do_wyboru[sem3.godziny]) -> 455 | Q8: =SUM(Tabela_ogolne[sem3.ects],Tabela_podst[sem3.ects],Tabela_kier[sem3.ects],Tabela_SP3[sem3.ects], Tabela_do_wyboru[sem3.ects]) -> 29 | S8: =SUM(Tabela_ogolne[sem4.godziny],Tabela_podst[sem4.godziny],Tabela_kier[sem4.godziny],Tabela_SP3[sem4.godziny], Tabela_do_wyboru[sem4.godziny]) -> 440 | T8: =SUM(Tabela_ogolne[sem4.ects],Tabela_podst[sem4.ects],Tabela_kier[sem4.ects],Tabela_SP3[sem4.ects], Tabela_do_wyboru[sem4.ects]) -> 29 | V8: =SUM(Tabela_ogolne[sem5.godziny],Tabela_podst[sem5.godziny],Tabela_kier[sem5.godziny],Tabela_SP3[sem5.godziny], Tabela_do_wyboru[sem5.godziny]) -> 500 | W8: =SUM(Tabela_ogolne[sem5.ects],Tabela_podst[sem5.ects],Tabela_kier[sem5.ects],Tabela_SP3[sem5.ects], Tabela_do_wyboru[sem5.ects]) -> 33 | Y8: =SUM(Tabela_ogolne[sem6.godziny],Tabela_podst[sem6.godziny],Tabela_kier[sem6.godziny],Tabela_SP3[sem6.godziny], Tabela_do_wyboru[sem6.godziny]) -> 478 | Z8: =SUM(Tabela_ogolne[sem6.ects],Tabela_podst[sem6.ects],Tabela_kier[sem6.ects],Tabela_SP3[sem6.ects], Tabela_do_wyboru[sem6.ects]) -> 32 | AB8: =SUM(Tabela_ogolne[sem7.godziny],Tabela_podst[sem7.godziny],Tabela_kier[sem7.godziny],Tabela_SP3[sem7.godziny], Tabela_do_wyboru[sem7.godziny]) -> 0 | AC8: =SUM(Tabela_ogolne[sem7.ects],Tabela_podst[sem7.ects],Tabela_kier[sem7.ects],Tabela_SP3[sem7.ects], Tabela_do_wyboru[sem7.ects]) -> 0 | AE8: =SUM(Tabela_ogolne[sem8.godziny],Tabela_podst[sem8.godziny],Tabela_kier[sem8.godziny],Tabela_SP3[sem8.godziny], Tabela_do_wyboru[sem8.godziny]) -> 0 | AF8: =SUM(Tabela_ogolne[sem8.ects],Tabela_podst[sem8.ects],Tabela_kier[sem8.ects],Tabela_SP3[sem8.ects], Tabela_do_wyboru[sem8.ects]) -> 0 | AH8: =SUM(Tabela_ogolne[sem9.godziny],Tabela_podst[sem9.godziny],Tabela_kier[sem9.godziny],Tabela_SP3[sem9.godziny], Tabela_do_wyboru[sem9.godziny]) -> 0 | AI8: =SUM(Tabela_ogolne[sem9.ects],Tabela_podst[sem9.ects],Tabela_kier[sem9.ects],Tabela_SP3[sem9.ects], Tabela_do_wyboru[sem9.ects]) -> 0 | AK8: =SUM(Tabela_ogolne[sem10.godziny],Tabela_podst[sem10.godziny],Tabela_kier[sem10.godziny],Tabela_SP3[sem10.godziny], Tabela_do_wyboru[sem10.godziny]) -> 0 | AL8: =SUM(Tabela_ogolne[sem10.ects],Tabela_podst[sem10.ects],Tabela_kier[sem10.ects],Tabela_SP3[sem10.ects], Tabela_do_wyboru[sem10.ects]) -> 0 | AN8: =SUM(Tabela_ogolne[ects.razem],Tabela_podst[ects.razem],Tabela_kier[ects.razem],Tabela_SP3[ects.razem], Tabela_do_wyboru[ects.razem]) -> 180 | AO8: =SUM(Tabela_ogolne[ects.umiej.prakt.],Tabela_podst[ects.umiej.prakt.],Tabela_kier[ects.umiej.prakt.],Tabela_SP3[ects.umiej.prakt.], Tabela_do_wyboru[ects.umiej.prakt.]) -> 134 | AP8: =SUM(Tabela_ogolne[ects.bezposr.nauczyciel],Tabela_podst[ects.bezposr.nauczyciel],Tabela_kier[ects.bezposr.nauczyciel],Tabela_SP3[ects.bezposr.nauczyciel], Tabela_do_wyboru[ects.bezposr.nauczyciel]) -> 115 | AQ8: =SUM(Tabela_ogolne[godziny.razem.student],Tabela_podst[godziny.razem.student],Tabela_kier[godziny.razem.student],Tabela_SP3[godziny.razem.student], Tabela_do_wyboru[godziny.razem.student]) -> 4584 | AR8: =SUM(Tabela_ogolne[godziny.samoksztalcenie],Tabela_podst[godziny.samoksztalcenie],Tabela_kier[godziny.samoksztalcenie],Tabela_SP3[godziny.samoksztalcenie], Tabela_do_wyboru[godziny.samoksztalcenie]) -> 1515 | AS8: =SUM(Tabela_ogolne[godziny.konsultacja],Tabela_podst[godziny.konsultacja],Tabela_kier[godziny.konsultacja],Tabela_SP3[godziny.konsultacja], Tabela_do_wyboru[godziny.konsultacja]) -> 254 | AT8: =SUM(Tabela_ogolne[godziny.egzamin],Tabela_podst[godziny.egzamin],Tabela_kier[godziny.egzamin],Tabela_SP3[godziny.egzamin], Tabela_do_wyboru[godziny.egzamin]) -> 142 | AU8: =SUM(Tabela_ogolne[godziny.zajec.razem],Tabela_podst[godziny.zajec.razem],Tabela_kier[godziny.zajec.razem],Tabela_SP3[godziny.zajec.razem], Tabela_do_wyboru[godziny.zajec.razem]) -> 2673 | AV8: =IF(AP8,AP8/AN8,"") -> 0.63888889
F9: SP4 | J9: =SUM(Tabela_ogolne[sem1.godziny],Tabela_podst[sem1.godziny],Tabela_kier[sem1.godziny],Tabela_SP4[sem1.godziny], Tabela_do_wyboru[sem1.godziny]) -> 330 | K9: =SUM(Tabela_ogolne[sem1.ects],Tabela_podst[sem1.ects],Tabela_kier[sem1.ects],Tabela_SP4[sem1.ects], Tabela_do_wyboru[sem1.ects]) -> 28 | M9: =SUM(Tabela_ogolne[sem2.godziny],Tabela_podst[sem2.godziny],Tabela_kier[sem2.godziny],Tabela_SP4[sem2.godziny], Tabela_do_wyboru[sem2.godziny]) -> 470 | N9: =SUM(Tabela_ogolne[sem2.ects],Tabela_podst[sem2.ects],Tabela_kier[sem2.ects],Tabela_SP4[sem2.ects], Tabela_do_wyboru[sem2.ects]) -> 29 | P9: =SUM(Tabela_ogolne[sem3.godziny],Tabela_podst[sem3.godziny],Tabela_kier[sem3.godziny],Tabela_SP4[sem3.godziny], Tabela_do_wyboru[sem3.godziny]) -> 455 | Q9: =SUM(Tabela_ogolne[sem3.ects],Tabela_podst[sem3.ects],Tabela_kier[sem3.ects],Tabela_SP4[sem3.ects], Tabela_do_wyboru[sem3.ects]) -> 29 | S9: =SUM(Tabela_ogolne[sem4.godziny],Tabela_podst[sem4.godziny],Tabela_kier[sem4.godziny],Tabela_SP4[sem4.godziny], Tabela_do_wyboru[sem4.godziny]) -> 165 | T9: =SUM(Tabela_ogolne[sem4.ects],Tabela_podst[sem4.ects],Tabela_kier[sem4.ects],Tabela_SP4[sem4.ects], Tabela_do_wyboru[sem4.ects]) -> 15 | V9: =SUM(Tabela_ogolne[sem5.godziny],Tabela_podst[sem5.godziny],Tabela_kier[sem5.godziny],Tabela_SP4[sem5.godziny], Tabela_do_wyboru[sem5.godziny]) -> 150 | W9: =SUM(Tabela_ogolne[sem5.ects],Tabela_podst[sem5.ects],Tabela_kier[sem5.ects],Tabela_SP4[sem5.ects], Tabela_do_wyboru[sem5.ects]) -> 12 | Y9: =SUM(Tabela_ogolne[sem6.godziny],Tabela_podst[sem6.godziny],Tabela_kier[sem6.godziny],Tabela_SP4[sem6.godziny], Tabela_do_wyboru[sem6.godziny]) -> 120 | Z9: =SUM(Tabela_ogolne[sem6.ects],Tabela_podst[sem6.ects],Tabela_kier[sem6.ects],Tabela_SP4[sem6.ects], Tabela_do_wyboru[sem6.ects]) -> 11 | AB9: =SUM(Tabela_ogolne[sem7.godziny],Tabela_podst[sem7.godziny],Tabela_kier[sem7.godziny],Tabela_SP4[sem7.godziny], Tabela_do_wyboru[sem7.godziny]) -> 0 | AC9: =SUM(Tabela_ogolne[sem7.ects],Tabela_podst[sem7.ects],Tabela_kier[sem7.ects],Tabela_SP4[sem7.ects], Tabela_do_wyboru[sem7.ects]) -> 0 | AE9: =SUM(Tabela_ogolne[sem8.godziny],Tabela_podst[sem8.godziny],Tabela_kier[sem8.godziny],Tabela_SP4[sem8.godziny], Tabela_do_wyboru[sem8.godziny]) -> 0 | AF9: =SUM(Tabela_ogolne[sem8.ects],Tabela_podst[sem8.ects],Tabela_kier[sem8.ects],Tabela_SP4[sem8.ects], Tabela_do_wyboru[sem8.ects]) -> 0 | AH9: =SUM(Tabela_ogolne[sem9.godziny],Tabela_podst[sem9.godziny],Tabela_kier[sem9.godziny],Tabela_SP4[sem9.godziny], Tabela_do_wyboru[sem9.godziny]) -> 0 | AI9: =SUM(Tabela_ogolne[sem9.ects],Tabela_podst[sem9.ects],Tabela_kier[sem9.ects],Tabela_SP4[sem9.ects], Tabela_do_wyboru[sem9.ects]) -> 0 | AK9: =SUM(Tabela_ogolne[sem10.godziny],Tabela_podst[sem10.godziny],Tabela_kier[sem10.godziny],Tabela_SP4[sem10.godziny], Tabela_do_wyboru[sem10.godziny]) -> 0 | AL9: =SUM(Tabela_ogolne[sem10.ects],Tabela_podst[sem10.ects],Tabela_kier[sem10.ects],Tabela_SP4[sem10.ects], Tabela_do_wyboru[sem10.ects]) -> 0 | AN9: =SUM(Tabela_ogolne[ects.razem],Tabela_podst[ects.razem],Tabela_kier[ects.razem],Tabela_SP4[ects.razem], Tabela_do_wyboru[ects.razem]) -> 124 | AO9: =SUM(Tabela_ogolne[ects.umiej.prakt.],Tabela_podst[ects.umiej.prakt.],Tabela_kier[ects.umiej.prakt.],Tabela_SP4[ects.umiej.prakt.], Tabela_do_wyboru[ects.umiej.prakt.]) -> 78 | AP9: =SUM(Tabela_ogolne[ects.bezposr.nauczyciel],Tabela_podst[ects.bezposr.nauczyciel],Tabela_kier[ects.bezposr.nauczyciel],Tabela_SP4[ects.bezposr.nauczyciel], Tabela_do_wyboru[ects.bezposr.nauczyciel]) -> 72 | AQ9: =SUM(Tabela_ogolne[godziny.razem.student],Tabela_podst[godziny.razem.student],Tabela_kier[godziny.razem.student],Tabela_SP4[godziny.razem.student], Tabela_do_wyboru[godziny.razem.student]) -> 2922 | AR9: =SUM(Tabela_ogolne[godziny.samoksztalcenie],Tabela_podst[godziny.samoksztalcenie],Tabela_kier[godziny.samoksztalcenie],Tabela_SP4[godziny.samoksztalcenie], Tabela_do_wyboru[godziny.samoksztalcenie]) -> 964 | AS9: =SUM(Tabela_ogolne[godziny.konsultacja],Tabela_podst[godziny.konsultacja],Tabela_kier[godziny.konsultacja],Tabela_SP4[godziny.konsultacja], Tabela_do_wyboru[godziny.konsultacja]) -> 158 | AT9: =SUM(Tabela_ogolne[godziny.egzamin],Tabela_podst[godziny.egzamin],Tabela_kier[godziny.egzamin],Tabela_SP4[godziny.egzamin], Tabela_do_wyboru[godziny.egzamin]) -> 110 | AU9: =SUM(Tabela_ogolne[godziny.zajec.razem],Tabela_podst[godziny.zajec.razem],Tabela_kier[godziny.zajec.razem],Tabela_SP4[godziny.zajec.razem], Tabela_do_wyboru[godziny.zajec.razem]) -> 1690 | AV9: =IF(AP9,AP9/AN9,"") -> 0.58064516
F10: SP5 | J10: =SUM(Tabela_ogolne[sem1.godziny],Tabela_podst[sem1.godziny],Tabela_kier[sem1.godziny],Tabela_SP5[sem1.godziny], Tabela_do_wyboru[sem1.godziny]) -> 330 | K10: =SUM(Tabela_ogolne[sem1.ects],Tabela_podst[sem1.ects],Tabela_kier[sem1.ects],Tabela_SP5[sem1.ects], Tabela_do_wyboru[sem1.ects]) -> 28 | M10: =SUM(Tabela_ogolne[sem2.godziny],Tabela_podst[sem2.godziny],Tabela_kier[sem2.godziny],Tabela_SP5[sem2.godziny], Tabela_do_wyboru[sem2.godziny]) -> 470 | N10: =SUM(Tabela_ogolne[sem2.ects],Tabela_podst[sem2.ects],Tabela_kier[sem2.ects],Tabela_SP5[sem2.ects], Tabela_do_wyboru[sem2.ects]) -> 29 | P10: =SUM(Tabela_ogolne[sem3.godziny],Tabela_podst[sem3.godziny],Tabela_kier[sem3.godziny],Tabela_SP5[sem3.godziny], Tabela_do_wyboru[sem3.godziny]) -> 455 | Q10: =SUM(Tabela_ogolne[sem3.ects],Tabela_podst[sem3.ects],Tabela_kier[sem3.ects],Tabela_SP5[sem3.ects], Tabela_do_wyboru[sem3.ects]) -> 29 | S10: =SUM(Tabela_ogolne[sem4.godziny],Tabela_podst[sem4.godziny],Tabela_kier[sem4.godziny],Tabela_SP5[sem4.godziny], Tabela_do_wyboru[sem4.godziny]) -> 165 | T10: =SUM(Tabela_ogolne[sem4.ects],Tabela_podst[sem4.ects],Tabela_kier[sem4.ects],Tabela_SP5[sem4.ects], Tabela_do_wyboru[sem4.ects]) -> 15 | V10: =SUM(Tabela_ogolne[sem5.godziny],Tabela_podst[sem5.godziny],Tabela_kier[sem5.godziny],Tabela_SP5[sem5.godziny], Tabela_do_wyboru[sem5.godziny]) -> 150 | W10: =SUM(Tabela_ogolne[sem5.ects],Tabela_podst[sem5.ects],Tabela_kier[sem5.ects],Tabela_SP5[sem5.ects], Tabela_do_wyboru[sem5.ects]) -> 12 | Y10: =SUM(Tabela_ogolne[sem6.godziny],Tabela_podst[sem6.godziny],Tabela_kier[sem6.godziny],Tabela_SP5[sem6.godziny], Tabela_do_wyboru[sem6.godziny]) -> 120 | Z10: =SUM(Tabela_ogolne[sem6.ects],Tabela_podst[sem6.ects],Tabela_kier[sem6.ects],Tabela_SP5[sem6.ects], Tabela_do_wyboru[sem6.ects]) -> 11 | AB10: =SUM(Tabela_ogolne[sem7.godziny],Tabela_podst[sem7.godziny],Tabela_kier[sem7.godziny],Tabela_SP5[sem7.godziny], Tabela_do_wyboru[sem7.godziny]) -> 0 | AC10: =SUM(Tabela_ogolne[sem7.ects],Tabela_podst[sem7.ects],Tabela_kier[sem7.ects],Tabela_SP5[sem7.ects], Tabela_do_wyboru[sem7.ects]) -> 0 | AE10: =SUM(Tabela_ogolne[sem8.godziny],Tabela_podst[sem8.godziny],Tabela_kier[sem8.godziny],Tabela_SP5[sem8.godziny], Tabela_do_wyboru[sem8.godziny]) -> 0 | AF10: =SUM(Tabela_ogolne[sem8.ects],Tabela_podst[sem8.ects],Tabela_kier[sem8.ects],Tabela_SP5[sem8.ects], Tabela_do_wyboru[sem8.ects]) -> 0 | AH10: =SUM(Tabela_ogolne[sem9.godziny],Tabela_podst[sem9.godziny],Tabela_kier[sem9.godziny],Tabela_SP5[sem9.godziny], Tabela_do_wyboru[sem9.godziny]) -> 0 | AI10: =SUM(Tabela_ogolne[sem9.ects],Tabela_podst[sem9.ects],Tabela_kier[sem9.ects],Tabela_SP5[sem9.ects], Tabela_do_wyboru[sem9.ects]) -> 0 | AK10: =SUM(Tabela_ogolne[sem10.godziny],Tabela_podst[sem10.godziny],Tabela_kier[sem10.godziny],Tabela_SP5[sem10.godziny], Tabela_do_wyboru[sem10.godziny]) -> 0 | AL10: =SUM(Tabela_ogolne[sem10.ects],Tabela_podst[sem10.ects],Tabela_kier[sem10.ects],Tabela_SP5[sem10.ects], Tabela_do_wyboru[sem10.ects]) -> 0 | AN10: =SUM(Tabela_ogolne[ects.razem],Tabela_podst[ects.razem],Tabela_kier[ects.razem],Tabela_SP5[ects.razem], Tabela_do_wyboru[ects.razem]) -> 124 | AO10: =SUM(Tabela_ogolne[ects.umiej.prakt.],Tabela_podst[ects.umiej.prakt.],Tabela_kier[ects.umiej.prakt.],Tabela_SP5[ects.umiej.prakt.], Tabela_do_wyboru[ects.umiej.prakt.]) -> 78 | AP10: =SUM(Tabela_ogolne[ects.bezposr.nauczyciel],Tabela_podst[ects.bezposr.nauczyciel],Tabela_kier[ects.bezposr.nauczyciel],Tabela_SP5[ects.bezposr.nauczyciel], Tabela_do_wyboru[ects.bezposr.nauczyciel]) -> 72 | AQ10: =SUM(Tabela_ogolne[godziny.razem.student],Tabela_podst[godziny.razem.student],Tabela_kier[godziny.razem.student],Tabela_SP5[godziny.razem.student], Tabela_do_wyboru[godziny.razem.student]) -> 2922 | AR10: =SUM(Tabela_ogolne[godziny.samoksztalcenie],Tabela_podst[godziny.samoksztalcenie],Tabela_kier[godziny.samoksztalcenie],Tabela_SP5[godziny.samoksztalcenie], Tabela_do_wyboru[godziny.samoksztalcenie]) -> 964 | AS10: =SUM(Tabela_ogolne[godziny.konsultacja],Tabela_podst[godziny.konsultacja],Tabela_kier[godziny.konsultacja],Tabela_SP5[godziny.konsultacja], Tabela_do_wyboru[godziny.konsultacja]) -> 158 | AT10: =SUM(Tabela_ogolne[godziny.egzamin],Tabela_podst[godziny.egzamin],Tabela_kier[godziny.egzamin],Tabela_SP5[godziny.egzamin], Tabela_do_wyboru[godziny.egzamin]) -> 110 | AU10: =SUM(Tabela_ogolne[godziny.zajec.razem],Tabela_podst[godziny.zajec.razem],Tabela_kier[godziny.zajec.razem],Tabela_SP5[godziny.zajec.razem], Tabela_do_wyboru[godziny.zajec.razem]) -> 1690 | AV10: =IF(AP10,AP10/AN10,"") -> 0.58064516
B12: A1. PRZYGOTOWANIE MERYTORYCZNE DO NAUCZANIA PIERWSZEGO PRZEDMIOTU LUB PROWADZENIA PIERWSZYCH ZAJĘĆ
B14: PRZEDMIOTY OGÓLNOUCZELNIANE
B15: RAZEM W GRUPIE PRZEDMIOTÓW OGÓLNOUCZELNIANYCH | J15: =SUM(Tabela_ogolne[sem1.godziny]) -> 60 | K15: =SUM(Tabela_ogolne[sem1.ects]) -> 3 | M15: =SUM(Tabela_ogolne[sem2.godziny]) -> 60 | N15: =SUM(Tabela_ogolne[sem2.ects]) -> 3 | P15: =SUM(Tabela_ogolne[sem3.godziny]) -> 60 | Q15: =SUM(Tabela_ogolne[sem3.ects]) -> 3 | S15: =SUM(Tabela_ogolne[sem4.godziny]) -> 30 | T15: =SUM(Tabela_ogolne[sem4.ects]) -> 3 | V15: =SUM(Tabela_ogolne[sem5.godziny]) -> 30 | W15: =SUM(Tabela_ogolne[sem5.ects]) -> 2 | Y15: =SUM(Tabela_ogolne[sem6.godziny]) -> 0 | Z15: =SUM(Tabela_ogolne[sem6.ects]) -> 0 | AB15: =SUM(Tabela_ogolne[sem7.godziny]) -> 0 | AC15: =SUM(Tabela_ogolne[sem7.ects]) -> 0 | AE15: =SUM(Tabela_ogolne[sem8.godziny]) -> 0 | AF15: =SUM(Tabela_ogolne[sem8.ects]) -> 0 | AH15: =SUM(Tabela_ogolne[sem9.godziny]) -> 0 | AI15: =SUM(Tabela_ogolne[sem9.ects]) -> 0 | AK15: =SUM(Tabela_ogolne[sem10.godziny]) -> 0 | AL15: =SUM(Tabela_ogolne[sem10.ects]) -> 0 | AN15: =SUM(Tabela_ogolne[ects.razem]) -> 14 | AO15: =SUM(Tabela_ogolne[ects.umiej.prakt.]) -> 13 | AP15: =SUM(Tabela_ogolne[ects.bezposr.nauczyciel]) -> 7 | AQ15: =SUM(Tabela_ogolne[godziny.razem.student]) -> 420 | AR15: =SUM(Tabela_ogolne[godziny.samoksztalcenie]) -> 139 | AS15: =SUM(Tabela_ogolne[godziny.konsultacja]) -> 21 | AT15: =SUM(Tabela_ogolne[godziny.egzamin]) -> 20 | AU15: =SUM(Tabela_ogolne[godziny.zajec.razem]) -> 240
B16: kod.isced | C16: kod.dziedziny | D16: Modul | E16: Umiej.prakt. | F16: Nazwa przedmiotu | G16: Prowadzacy | H16: Forma | I16: czy.ects | J16: sem1.godziny | K16: sem1.ects | L16: sem1.forma | M16: sem2.godziny | N16: sem2.ects | O16: sem2.forma | P16: sem3.godziny | Q16: sem3.ects | R16: sem3.forma | S16: sem4.godziny | T16: sem4.ects | U16: sem4.forma | V16: sem5.godziny | W16: sem5.ects | X16: sem5.forma | Y16: sem6.godziny | Z16: sem6.ects | AA16: sem6.forma | AB16: sem7.godziny | AC16: sem7.ects | AD16: sem7.forma | AE16: sem8.godziny | AF16: sem8.ects | AG16: sem8.forma | AH16: sem9.godziny | AI16: sem9.ects | AJ16: sem9.forma | AK16: sem10.godziny | AL16: sem10.ects | AM16: sem10.forma | AN16: ects.razem | AO16: ects.umiej.prakt. | AP16: ects.bezposr.nauczyciel | AQ16: godziny.razem.student | AR16: godziny.samoksztalcenie | AS16: godziny.konsultacja | AT16: godziny.egzamin | AU16: godziny.zajec.razem | AV16: ects.bezpos.kontakt.procent
B17: 0011 | C17: 104 | D17: ou.01.1 | E17: up | F17: Zaawansowana wypowiedź akademicka | H17: konwersatorium | I17: TAK | J17: 15 | K17: {=IF(Tabela_ogolne[[#This Row],[czy.ects]]="TAK",_xlfn.IFS(AND(Tabela_ogolne[[#This Row],[sem1.godziny]]>=$Q$191,Tabela_ogolne[[#This Row],[sem1.forma]]="z"),8,AND(Tabela_ogolne[[#This Row],[sem1.godziny]]>=$I$191,Tabela_ogolne[[#This Row],[sem1.forma]]="z"),4,AND(Tabela_ogolne[[#This Row],[sem1.godziny]]>=$H$191,Tabela_ogolne[[#This Row],[sem1.forma]]="e"),2,AND(Tabela_ogolne[[#This Row],[sem1.godziny]]<$H$191,Tabela_ogolne[[#This Row],[sem1.forma]]="e"),1,AND(Tabela_ogolne[[#This Row],[sem1.godziny]]>=$H$191,Tabela_ogolne[[#This Row],[sem1.forma]]="z"),2,AND(Tabela_ogolne[[#This Row],[sem1.godziny]]<$H$191,Tabela_ogolne[[#This Row],[sem1.forma]]="z"),1,TRUE,""),"")} -> 1 | L17: z | N17: {=IF(Tabela_ogolne[[#This Row],[czy.ects]]="TAK",_xlfn.IFS(AND(Tabela_ogolne[[#This Row],[sem2.godziny]]>=$Q$191,Tabela_ogolne[[#This Row],[sem2.forma]]="z"),8,AND(Tabela_ogolne[[#This Row],[sem2.godziny]]>=$I$191,Tabela_ogolne[[#This Row],[sem2.forma]]="z"),4,AND(Tabela_ogolne[[#This Row],[sem2.godziny]]>=$H$191,Tabela_ogolne[[#This Row],[sem2.forma]]="e"),2,AND(Tabela_ogolne[[#This Row],[sem2.godziny]]<$H$191,Tabela_ogolne[[#This Row],[sem2.forma]]="e"),1,AND(Tabela_ogolne[[#This Row],[sem2.godziny]]>=$H$191,Tabela_ogolne[[#This Row],[sem2.forma]]="z"),2,AND(Tabela_ogolne[[#This Row],[sem2.godziny]]<$H$191,Tabela_ogolne[[#This Row],[sem2.forma]]="z"),1,TRUE,""),"")} | Q17: {=IF(Tabela_ogolne[[#This Row],[czy.ects]]="TAK",_xlfn.IFS(AND(Tabela_ogolne[[#This Row],[sem3.godziny]]>=$Q$191,Tabela_ogolne[[#This Row],[sem3.forma]]="z"),8,AND(Tabela_ogolne[[#This Row],[sem3.godziny]]>=$I$191,Tabela_ogolne[[#This Row],[sem3.forma]]="z"),4,AND(Tabela_ogolne[[#This Row],[sem3.godziny]]>=$H$191,Tabela_ogolne[[#This Row],[sem3.forma]]="e"),2,AND(Tabela_ogolne[[#This Row],[sem3.godziny]]<$H$191,Tabela_ogolne[[#This Row],[sem3.forma]]="e"),1,AND(Tabela_ogolne[[#This Row],[sem3.godziny]]>=$H$191,Tabela_ogolne[[#This Row],[sem3.forma]]="z"),2,AND(Tabela_ogolne[[#This Row],[sem3.godziny]]<$H$191,Tabela_ogolne[[#This Row],[sem3.forma]]="z"),1,TRUE,""),"")} | T17: {=IF(Tabela_ogolne[[#This Row],[czy.ects]]="TAK",_xlfn.IFS(AND(Tabela_ogolne[[#This Row],[sem4.godziny]]>=$Q$191,Tabela_ogolne[[#This Row],[sem4.forma]]="z"),8,AND(Tabela_ogolne[[#This Row],[sem4.godziny]]>=$I$191,Tabela_ogolne[[#This Row],[sem4.forma]]="z"),4,AND(Tabela_ogolne[[#This Row],[sem4.godziny]]>=$H$191,Tabela_ogolne[[#This Row],[sem4.forma]]="e"),2,AND(Tabela_ogolne[[#This Row],[sem4.godziny]]<$H$191,Tabela_ogolne[[#This Row],[sem4.forma]]="e"),1,AND(Tabela_ogolne[[#This Row],[sem4.godziny]]>=$H$191,Tabela_ogolne[[#This Row],[sem4.forma]]="z"),2,AND(Tabela_ogolne[[#This Row],[sem4.godziny]]<$H$191,Tabela_ogolne[[#This Row],[sem4.forma]]="z"),1,TRUE,""),"")} | W17: {=IF(Tabela_ogolne[[#This Row],[czy.ects]]="TAK",_xlfn.IFS(AND(Tabela_ogolne[[#This Row],[sem5.godziny]]>=$Q$191,Tabela_ogolne[[#This Row],[sem5.forma]]="z"),8,AND(Tabela_ogolne[[#This Row],[sem5.godziny]]>=$I$191,Tabela_ogolne[[#This Row],[sem5.forma]]="z"),4,AND(Tabela_ogolne[[#This Row],[sem5.godziny]]>=$H$191,Tabela_ogolne[[#This Row],[sem5.forma]]="e"),2,AND(Tabela_ogolne[[#This Row],[sem5.godziny]]<$H$191,Tabela_ogolne[[#This Row],[sem5.forma]]="e"),1,AND(Tabela_ogolne[[#This Row],[sem5.godziny]]>=$H$191,Tabela_ogolne[[#This Row],[sem5.forma]]="z"),2,AND(Tabela_ogolne[[#This Row],[sem5.godziny]]<$H$191,Tabela_ogolne[[#This Row],[sem5.forma]]="z"),1,TRUE,""),"")} | Z17: {=IF(Tabela_ogolne[[#This Row],[czy.ects]]="TAK",_xlfn.IFS(AND(Tabela_ogolne[[#This Row],[sem6.godziny]]>=$Q$191,Tabela_ogolne[[#This Row],[sem6.forma]]="z"),8,AND(Tabela_ogolne[[#This Row],[sem6.godziny]]>=$I$191,Tabela_ogolne[[#This Row],[sem6.forma]]="z"),4,AND(Tabela_ogolne[[#This Row],[sem6.godziny]]>=$H$191,Tabela_ogolne[[#This Row],[sem6.forma]]="e"),2,AND(Tabela_ogolne[[#This Row],[sem6.godziny]]<$H$191,Tabela_ogolne[[#This Row],[sem6.forma]]="e"),1,AND(Tabela_ogolne[[#This Row],[sem6.godziny]]>=$H$191,Tabela_ogolne[[#This Row],[sem6.forma]]="z"),2,AND(Tabela_ogolne[[#This Row],[sem6.godziny]]<$H$191,Tabela_ogolne[[#This Row],[sem6.forma]]="z"),1,TRUE,""),"")} | AC17: {=IF(Tabela_ogolne[[#This Row],[czy.ects]]="TAK",_xlfn.IFS(AND(Tabela_ogolne[[#This Row],[sem7.godziny]]>=$Q$191,Tabela_ogolne[[#This Row],[sem7.forma]]="z"),8,AND(Tabela_ogolne[[#This Row],[sem7.godziny]]>=$I$191,Tabela_ogolne[[#This Row],[sem7.forma]]="z"),4,AND(Tabela_ogolne[[#This Row],[sem7.godziny]]>=$H$191,Tabela_ogolne[[#This Row],[sem7.forma]]="e"),2,AND(Tabela_ogolne[[#This Row],[sem7.godziny]]<$H$191,Tabela_ogolne[[#This Row],[sem7.forma]]="e"),1,AND(Tabela_ogolne[[#This Row],[sem7.godziny]]>=$H$191,Tabela_ogolne[[#This Row],[sem7.forma]]="z"),2,AND(Tabela_ogolne[[#This Row],[sem7.godziny]]<$H$191,Tabela_ogolne[[#This Row],[sem7.forma]]="z"),1,TRUE,""),"")} | AF17: {=IF(Tabela_ogolne[[#This Row],[czy.ects]]="TAK",_xlfn.IFS(AND(Tabela_ogolne[[#This Row],[sem8.godziny]]>=$Q$191,Tabela_ogolne[[#This Row],[sem8.forma]]="z"),8,AND(Tabela_ogolne[[#This Row],[sem8.godziny]]>=$I$191,Tabela_ogolne[[#This Row],[sem8.forma]]="z"),4,AND(Tabela_ogolne[[#This Row],[sem8.godziny]]>=$H$191,Tabela_ogolne[[#This Row],[sem8.forma]]="e"),2,AND(Tabela_ogolne[[#This Row],[sem8.godziny]]<$H$191,Tabela_ogolne[[#This Row],[sem8.forma]]="e"),1,AND(Tabela_ogolne[[#This Row],[sem8.godziny]]>=$H$191,Tabela_ogolne[[#This Row],[sem8.forma]]="z"),2,AND(Tabela_ogolne[[#This Row],[sem8.godziny]]<$H$191,Tabela_ogolne[[#This Row],[sem8.forma]]="z"),1,TRUE,""),"")} | AI17: {=IF(Tabela_ogolne[[#This Row],[czy.ects]]="TAK",_xlfn.IFS(AND(Tabela_ogolne[[#This Row],[sem9.godziny]]>=$Q$191,Tabela_ogolne[[#This Row],[sem9.forma]]="z"),8,AND(Tabela_ogolne[[#This Row],[sem9.godziny]]>=$I$191,Tabela_ogolne[[#This Row],[sem9.forma]]="z"),4,AND(Tabela_ogolne[[#This Row],[sem9.godziny]]>=$H$191,Tabela_ogolne[[#This Row],[sem9.forma]]="e"),2,AND(Tabela_ogolne[[#This Row],[sem9.godziny]]<$H$191,Tabela_ogolne[[#This Row],[sem9.forma]]="e"),1,AND(Tabela_ogolne[[#This Row],[sem9.godziny]]>=$H$191,Tabela_ogolne[[#This Row],[sem9.forma]]="z"),2,AND(Tabela_ogolne[[#This Row],[sem9.godziny]]<$H$191,Tabela_ogolne[[#This Row],[sem9.forma]]="z"),1,TRUE,""),"")} | AL17: {=IF(Tabela_ogolne[[#This Row],[czy.ects]]="TAK",_xlfn.IFS(AND(Tabela_ogolne[[#This Row],[sem10.godziny]]>=$Q$191,Tabela_ogolne[[#This Row],[sem10.forma]]="z"),8,AND(Tabela_ogolne[[#This Row],[sem10.godziny]]>=$I$191,Tabela_ogolne[[#This Row],[sem10.forma]]="z"),4,AND(Tabela_ogolne[[#This Row],[sem10.godziny]]>=$H$191,Tabela_ogolne[[#This Row],[sem10.forma]]="e"),2,AND(Tabela_ogolne[[#This Row],[sem10.godziny]]<$H$191,Tabela_ogolne[[#This Row],[sem10.forma]]="e"),1,AND(Tabela_ogolne[[#This Row],[sem10.godziny]]>=$H$191,Tabela_ogolne[[#This Row],[sem10.forma]]="z"),2,AND(Tabela_ogolne[[#This Row],[sem10.godziny]]<$H$191,Tabela_ogolne[[#This Row],[sem10.forma]]="z"),1,TRUE,""),"")} | AN17: =SUM(Tabela_ogolne[[#This Row],[sem1.ects]],Tabela_ogolne[[#This Row],[sem2.ects]],Tabela_ogolne[[#This Row],[sem3.ects]],Tabela_ogolne[[#This Row],[sem4.ects]],Tabela_ogolne[[#This Row],[sem5.ects]],Tabela_ogolne[[#This Row],[sem6.ects]],Tabela_ogolne[[#This Row],[sem7.ects]],Tabela_ogolne[[#This Row],[sem8.ects]],Tabela_ogolne[[#This Row],[sem9.ects]],Tabela_ogolne[[#This Row],[sem10.ects]]) -> 1 | AO17: =IF(ISERR(SEARCH("UP",Tabela_ogolne[[#This Row],[Umiej.prakt.]],1)),0,Tabela_ogolne[[#This Row],[ects.razem]]) -> 1 | AP17: =IF(Tabela_ogolne[[#This Row],[czy.ects]]="TAK",ROUND((SUM(Tabela_ogolne[[#This Row],[godziny.konsultacja]],Tabela_ogolne[[#This Row],[godziny.egzamin]],Tabela_ogolne[[#This Row],[godziny.zajec.razem]])/25)/0.5,0)*0.5,0) -> 0.5 | AQ17: =SUM(Tabela_ogolne[[#This Row],[godziny.samoksztalcenie]],Tabela_ogolne[[#This Row],[godziny.konsultacja]],Tabela_ogolne[[#This Row],[godziny.egzamin]],Tabela_ogolne[[#This Row],[godziny.zajec.razem]]) -> 27 | AR17: =INT(SUM(Tabela_ogolne[[#This Row],[godziny.konsultacja]],Tabela_ogolne[[#This Row],[godziny.egzamin]],Tabela_ogolne[[#This Row],[godziny.zajec.razem]])*0.5+Tabela_ogolne[[#This Row],[godziny.zajec.razem]]*(15-$G$191)/9) -> 9 | AS17: =INT(Tabela_ogolne[[#This Row],[godziny.zajec.razem]]*0.1) -> 1 | AT17: =IF(Tabela_ogolne[[#This Row],[godziny.zajec.razem]]>0,IF(Tabela_ogolne[[#This Row],[godziny.zajec.razem]]>=45,4,2),0) -> 2 | AU17: =SUM(Tabela_ogolne[[#This Row],[sem1.godziny]],Tabela_ogolne[[#This Row],[sem2.godziny]],Tabela_ogolne[[#This Row],[sem3.godziny]],Tabela_ogolne[[#This Row],[sem4.godziny]],Tabela_ogolne[[#This Row],[sem5.godziny]],Tabela_ogolne[[#This Row],[sem6.godziny]],Tabela_ogolne[[#This Row],[sem7.godziny]],Tabela_ogolne[[#This Row],[sem8.godziny]],Tabela_ogolne[[#This Row],[sem9.godziny]],Tabela_ogolne[[#This Row],[sem10.godziny]]) -> 15 | AV17: =IF(Tabela_ogolne[[#This Row],[ects.bezposr.nauczyciel]],Tabela_ogolne[[#This Row],[ects.bezposr.nauczyciel]]/Tabela_ogolne[[#This Row],[ects.razem]],0) -> 0.5
B18: 0011 | C18: 506 | D18: ou.02.1 | F18: Przysposobienie akademickie | H18: konwersatorium | I18: NIE | J18: 5 | K18: {=IF(Tabela_ogolne[[#This Row],[czy.ects]]="TAK",_xlfn.IFS(AND(Tabela_ogolne[[#This Row],[sem1.godziny]]>=$Q$191,Tabela_ogolne[[#This Row],[sem1.forma]]="z"),8,AND(Tabela_ogolne[[#This Row],[sem1.godziny]]>=$I$191,Tabela_ogolne[[#This Row],[sem1.forma]]="z"),4,AND(Tabela_ogolne[[#This Row],[sem1.godziny]]>=$H$191,Tabela_ogolne[[#This Row],[sem1.forma]]="e"),2,AND(Tabela_ogolne[[#This Row],[sem1.godziny]]<$H$191,Tabela_ogolne[[#This Row],[sem1.forma]]="e"),1,AND(Tabela_ogolne[[#This Row],[sem1.godziny]]>=$H$191,Tabela_ogolne[[#This Row],[sem1.forma]]="z"),2,AND(Tabela_ogolne[[#This Row],[sem1.godziny]]<$H$191,Tabela_ogolne[[#This Row],[sem1.forma]]="z"),1,TRUE,""),"")} | L18: b | N18: {=IF(Tabela_ogolne[[#This Row],[czy.ects]]="TAK",_xlfn.IFS(AND(Tabela_ogolne[[#This Row],[sem2.godziny]]>=$Q$191,Tabela_ogolne[[#This Row],[sem2.forma]]="z"),8,AND(Tabela_ogolne[[#This Row],[sem2.godziny]]>=$I$191,Tabela_ogolne[[#This Row],[sem2.forma]]="z"),4,AND(Tabela_ogolne[[#This Row],[sem2.godziny]]>=$H$191,Tabela_ogolne[[#This Row],[sem2.forma]]="e"),2,AND(Tabela_ogolne[[#This Row],[sem2.godziny]]<$H$191,Tabela_ogolne[[#This Row],[sem2.forma]]="e"),1,AND(Tabela_ogolne[[#This Row],[sem2.godziny]]>=$H$191,Tabela_ogolne[[#This Row],[sem2.forma]]="z"),2,AND(Tabela_ogolne[[#This Row],[sem2.godziny]]<$H$191,Tabela_ogolne[[#This Row],[sem2.forma]]="z"),1,TRUE,""),"")} | Q18: {=IF(Tabela_ogolne[[#This Row],[czy.ects]]="TAK",_xlfn.IFS(AND(Tabela_ogolne[[#This Row],[sem3.godziny]]>=$Q$191,Tabela_ogolne[[#This Row],[sem3.forma]]="z"),8,AND(Tabela_ogolne[[#This Row],[sem3.godziny]]>=$I$191,Tabela_ogolne[[#This Row],[sem3.forma]]="z"),4,AND(Tabela_ogolne[[#This Row],[sem3.godziny]]>=$H$191,Tabela_ogolne[[#This Row],[sem3.forma]]="e"),2,AND(Tabela_ogolne[[#This Row],[sem3.godziny]]<$H$191,Tabela_ogolne[[#This Row],[sem3.forma]]="e"),1,AND(Tabela_ogolne[[#This Row],[sem3.godziny]]>=$H$191,Tabela_ogolne[[#This Row],[sem3.forma]]="z"),2,AND(Tabela_ogolne[[#This Row],[sem3.godziny]]<$H$191,Tabela_ogolne[[#This Row],[sem3.forma]]="z"),1,TRUE,""),"")} | T18: {=IF(Tabela_ogolne[[#This Row],[czy.ects]]="TAK",_xlfn.IFS(AND(Tabela_ogolne[[#This Row],[sem4.godziny]]>=$Q$191,Tabela_ogolne[[#This Row],[sem4.forma]]="z"),8,AND(Tabela_ogolne[[#This Row],[sem4.godziny]]>=$I$191,Tabela_ogolne[[#This Row],[sem4.forma]]="z"),4,AND(Tabela_ogolne[[#This Row],[sem4.godziny]]>=$H$191,Tabela_ogolne[[#This Row],[sem4.forma]]="e"),2,AND(Tabela_ogolne[[#This Row],[sem4.godziny]]<$H$191,Tabela_ogolne[[#This Row],[sem4.forma]]="e"),1,AND(Tabela_ogolne[[#This Row],[sem4.godziny]]>=$H$191,Tabela_ogolne[[#This Row],[sem4.forma]]="z"),2,AND(Tabela_ogolne[[#This Row],[sem4.godziny]]<$H$191,Tabela_ogolne[[#This Row],[sem4.forma]]="z"),1,TRUE,""),"")} | W18: {=IF(Tabela_ogolne[[#This Row],[czy.ects]]="TAK",_xlfn.IFS(AND(Tabela_ogolne[[#This Row],[sem5.godziny]]>=$Q$191,Tabela_ogolne[[#This Row],[sem5.forma]]="z"),8,AND(Tabela_ogolne[[#This Row],[sem5.godziny]]>=$I$191,Tabela_ogolne[[#This Row],[sem5.forma]]="z"),4,AND(Tabela_ogolne[[#This Row],[sem5.godziny]]>=$H$191,Tabela_ogolne[[#This Row],[sem5.forma]]="e"),2,AND(Tabela_ogolne[[#This Row],[sem5.godziny]]<$H$191,Tabela_ogolne[[#This Row],[sem5.forma]]="e"),1,AND(Tabela_ogolne[[#This Row],[sem5.godziny]]>=$H$191,Tabela_ogolne[[#This Row],[sem5.forma]]="z"),2,AND(Tabela_ogolne[[#This Row],[sem5.godziny]]<$H$191,Tabela_ogolne[[#This Row],[sem5.forma]]="z"),1,TRUE,""),"")} | Z18: {=IF(Tabela_ogolne[[#This Row],[czy.ects]]="TAK",_xlfn.IFS(AND(Tabela_ogolne[[#This Row],[sem6.godziny]]>=$Q$191,Tabela_ogolne[[#This Row],[sem6.forma]]="z"),8,AND(Tabela_ogolne[[#This Row],[sem6.godziny]]>=$I$191,Tabela_ogolne[[#This Row],[sem6.forma]]="z"),4,AND(Tabela_ogolne[[#This Row],[sem6.godziny]]>=$H$191,Tabela_ogolne[[#This Row],[sem6.forma]]="e"),2,AND(Tabela_ogolne[[#This Row],[sem6.godziny]]<$H$191,Tabela_ogolne[[#This Row],[sem6.forma]]="e"),1,AND(Tabela_ogolne[[#This Row],[sem6.godziny]]>=$H$191,Tabela_ogolne[[#This Row],[sem6.forma]]="z"),2,AND(Tabela_ogolne[[#This Row],[sem6.godziny]]<$H$191,Tabela_ogolne[[#This Row],[sem6.forma]]="z"),1,TRUE,""),"")} | AC18: {=IF(Tabela_ogolne[[#This Row],[czy.ects]]="TAK",_xlfn.IFS(AND(Tabela_ogolne[[#This Row],[sem7.godziny]]>=$Q$191,Tabela_ogolne[[#This Row],[sem7.forma]]="z"),8,AND(Tabela_ogolne[[#This Row],[sem7.godziny]]>=$I$191,Tabela_ogolne[[#This Row],[sem7.forma]]="z"),4,AND(Tabela_ogolne[[#This Row],[sem7.godziny]]>=$H$191,Tabela_ogolne[[#This Row],[sem7.forma]]="e"),2,AND(Tabela_ogolne[[#This Row],[sem7.godziny]]<$H$191,Tabela_ogolne[[#This Row],[sem7.forma]]="e"),1,AND(Tabela_ogolne[[#This Row],[sem7.godziny]]>=$H$191,Tabela_ogolne[[#This Row],[sem7.forma]]="z"),2,AND(Tabela_ogolne[[#This Row],[sem7.godziny]]<$H$191,Tabela_ogolne[[#This Row],[sem7.forma]]="z"),1,TRUE,""),"")} | AF18: {=IF(Tabela_ogolne[[#This Row],[czy.ects]]="TAK",_xlfn.IFS(AND(Tabela_ogolne[[#This Row],[sem8.godziny]]>=$Q$191,Tabela_ogolne[[#This Row],[sem8.forma]]="z"),8,AND(Tabela_ogolne[[#This Row],[sem8.godziny]]>=$I$191,Tabela_ogolne[[#This Row],[sem8.forma]]="z"),4,AND(Tabela_ogolne[[#This Row],[sem8.godziny]]>=$H$191,Tabela_ogolne[[#This Row],[sem8.forma]]="e"),2,AND(Tabela_ogolne[[#This Row],[sem8.godziny]]<$H$191,Tabela_ogolne[[#This Row],[sem8.forma]]="e"),1,AND(Tabela_ogolne[[#This Row],[sem8.godziny]]>=$H$191,Tabela_ogolne[[#This Row],[sem8.forma]]="z"),2,AND(Tabela_ogolne[[#This Row],[sem8.godziny]]<$H$191,Tabela_ogolne[[#This Row],[sem8.forma]]="z"),1,TRUE,""),"")} | AI18: {=IF(Tabela_ogolne[[#This Row],[czy.ects]]="TAK",_xlfn.IFS(AND(Tabela_ogolne[[#This Row],[sem9.godziny]]>=$Q$191,Tabela_ogolne[[#This Row],[sem9.forma]]="z"),8,AND(Tabela_ogolne[[#This Row],[sem9.godziny]]>=$I$191,Tabela_ogolne[[#This Row],[sem9.forma]]="z"),4,AND(Tabela_ogolne[[#This Row],[sem9.godziny]]>=$H$191,Tabela_ogolne[[#This Row],[sem9.forma]]="e"),2,AND(Tabela_ogolne[[#This Row],[sem9.godziny]]<$H$191,Tabela_ogolne[[#This Row],[sem9.forma]]="e"),1,AND(Tabela_ogolne[[#This Row],[sem9.godziny]]>=$H$191,Tabela_ogolne[[#This Row],[sem9.forma]]="z"),2,AND(Tabela_ogolne[[#This Row],[sem9.godziny]]<$H$191,Tabela_ogolne[[#This Row],[sem9.forma]]="z"),1,TRUE,""),"")} | AL18: {=IF(Tabela_ogolne[[#This Row],[czy.ects]]="TAK",_xlfn.IFS(AND(Tabela_ogolne[[#This Row],[sem10.godziny]]>=$Q$191,Tabela_ogolne[[#This Row],[sem10.forma]]="z"),8,AND(Tabela_ogolne[[#This Row],[sem10.godziny]]>=$I$191,Tabela_ogolne[[#This Row],[sem10.forma]]="z"),4,AND(Tabela_ogolne[[#This Row],[sem10.godziny]]>=$H$191,Tabela_ogolne[[#This Row],[sem10.forma]]="e"),2,AND(Tabela_ogolne[[#This Row],[sem10.godziny]]<$H$191,Tabela_ogolne[[#This Row],[sem10.forma]]="e"),1,AND(Tabela_ogolne[[#This Row],[sem10.godziny]]>=$H$191,Tabela_ogolne[[#This Row],[sem10.forma]]="z"),2,AND(Tabela_ogolne[[#This Row],[sem10.godziny]]<$H$191,Tabela_ogolne[[#This Row],[sem10.forma]]="z"),1,TRUE,""),"")} | AN18: =SUM(Tabela_ogolne[[#This Row],[sem1.ects]],Tabela_ogolne[[#This Row],[sem2.ects]],Tabela_ogolne[[#This Row],[sem3.ects]],Tabela_ogolne[[#This Row],[sem4.ects]],Tabela_ogolne[[#This Row],[sem5.ects]],Tabela_ogolne[[#This Row],[sem6.ects]],Tabela_ogolne[[#This Row],[sem7.ects]],Tabela_ogolne[[#This Row],[sem8.ects]],Tabela_ogolne[[#This Row],[sem9.ects]],Tabela_ogolne[[#This Row],[sem10.ects]]) -> 0 | AO18: =IF(ISERR(SEARCH("UP",Tabela_ogolne[[#This Row],[Umiej.prakt.]],1)),0,Tabela_ogolne[[#This Row],[ects.razem]]) -> 0 | AP18: =IF(Tabela_ogolne[[#This Row],[czy.ects]]="TAK",ROUND((SUM(Tabela_ogolne[[#This Row],[godziny.konsultacja]],Tabela_ogolne[[#This Row],[godziny.egzamin]],Tabela_ogolne[[#This Row],[godziny.zajec.razem]])/25)/0.5,0)*0.5,0) -> 0 | AQ18: =SUM(Tabela_ogolne[[#This Row],[godziny.samoksztalcenie]],Tabela_ogolne[[#This Row],[godziny.konsultacja]],Tabela_ogolne[[#This Row],[godziny.egzamin]],Tabela_ogolne[[#This Row],[godziny.zajec.razem]]) -> 10 | AR18: =INT(SUM(Tabela_ogolne[[#This Row],[godziny.konsultacja]],Tabela_ogolne[[#This Row],[godziny.egzamin]],Tabela_ogolne[[#This Row],[godziny.zajec.razem]])*0.5+Tabela_ogolne[[#This Row],[godziny.zajec.razem]]*(15-$G$191)/9) -> 3 | AS18: =INT(Tabela_ogolne[[#This Row],[godziny.zajec.razem]]*0.1) -> 0 | AT18: =IF(Tabela_ogolne[[#This Row],[godziny.zajec.razem]]>0,IF(Tabela_ogolne[[#This Row],[godziny.zajec.razem]]>=45,4,2),0) -> 2 | AU18: =SUM(Tabela_ogolne[[#This Row],[sem1.godziny]],Tabela_ogolne[[#This Row],[sem2.godziny]],Tabela_ogolne[[#This Row],[sem3.godziny]],Tabela_ogolne[[#This Row],[sem4.godziny]],Tabela_ogolne[[#This Row],[sem5.godziny]],Tabela_ogolne[[#This Row],[sem6.godziny]],Tabela_ogolne[[#This Row],[sem7.godziny]],Tabela_ogolne[[#This Row],[sem8.godziny]],Tabela_ogolne[[#This Row],[sem9.godziny]],Tabela_ogolne[[#This Row],[sem10.godziny]]) -> 5 | AV18: =IF(Tabela_ogolne[[#This Row],[ects.bezposr.nauczyciel]],Tabela_ogolne[[#This Row],[ects.bezposr.nauczyciel]]/Tabela_ogolne[[#This Row],[ects.razem]],0) -> 0
B19: 0611 | C19: 203 | D19: ou.03.1 | E19: up | F19: Technologie informacyjne | H19: ćwiczenia | I19: TAK | J19: 15 | K19: {=IF(Tabela_ogolne[[#This Row],[czy.ects]]="TAK",_xlfn.IFS(AND(Tabela_ogolne[[#This Row],[sem1.godziny]]>=$Q$191,Tabela_ogolne[[#This Row],[sem1.forma]]="z"),8,AND(Tabela_ogolne[[#This Row],[sem1.godziny]]>=$I$191,Tabela_ogolne[[#This Row],[sem1.forma]]="z"),4,AND(Tabela_ogolne[[#This Row],[sem1.godziny]]>=$H$191,Tabela_ogolne[[#This Row],[sem1.forma]]="e"),2,AND(Tabela_ogolne[[#This Row],[sem1.godziny]]<$H$191,Tabela_ogolne[[#This Row],[sem1.forma]]="e"),1,AND(Tabela_ogolne[[#This Row],[sem1.godziny]]>=$H$191,Tabela_ogolne[[#This Row],[sem1.forma]]="z"),2,AND(Tabela_ogolne[[#This Row],[sem1.godziny]]<$H$191,Tabela_ogolne[[#This Row],[sem1.forma]]="z"),1,TRUE,""),"")} -> 1 | L19: z | N19: {=IF(Tabela_ogolne[[#This Row],[czy.ects]]="TAK",_xlfn.IFS(AND(Tabela_ogolne[[#This Row],[sem2.godziny]]>=$Q$191,Tabela_ogolne[[#This Row],[sem2.forma]]="z"),8,AND(Tabela_ogolne[[#This Row],[sem2.godziny]]>=$I$191,Tabela_ogolne[[#This Row],[sem2.forma]]="z"),4,AND(Tabela_ogolne[[#This Row],[sem2.godziny]]>=$H$191,Tabela_ogolne[[#This Row],[sem2.forma]]="e"),2,AND(Tabela_ogolne[[#This Row],[sem2.godziny]]<$H$191,Tabela_ogolne[[#This Row],[sem2.forma]]="e"),1,AND(Tabela_ogolne[[#This Row],[sem2.godziny]]>=$H$191,Tabela_ogolne[[#This Row],[sem2.forma]]="z"),2,AND(Tabela_ogolne[[#This Row],[sem2.godziny]]<$H$191,Tabela_ogolne[[#This Row],[sem2.forma]]="z"),1,TRUE,""),"")} | Q19: {=IF(Tabela_ogolne[[#This Row],[czy.ects]]="TAK",_xlfn.IFS(AND(Tabela_ogolne[[#This Row],[sem3.godziny]]>=$Q$191,Tabela_ogolne[[#This Row],[sem3.forma]]="z"),8,AND(Tabela_ogolne[[#This Row],[sem3.godziny]]>=$I$191,Tabela_ogolne[[#This Row],[sem3.forma]]="z"),4,AND(Tabela_ogolne[[#This Row],[sem3.godziny]]>=$H$191,Tabela_ogolne[[#This Row],[sem3.forma]]="e"),2,AND(Tabela_ogolne[[#This Row],[sem3.godziny]]<$H$191,Tabela_ogolne[[#This Row],[sem3.forma]]="e"),1,AND(Tabela_ogolne[[#This Row],[sem3.godziny]]>=$H$191,Tabela_ogolne[[#This Row],[sem3.forma]]="z"),2,AND(Tabela_ogolne[[#This Row],[sem3.godziny]]<$H$191,Tabela_ogolne[[#This Row],[sem3.forma]]="z"),1,TRUE,""),"")} | T19: {=IF(Tabela_ogolne[[#This Row],[czy.ects]]="TAK",_xlfn.IFS(AND(Tabela_ogolne[[#This Row],[sem4.godziny]]>=$Q$191,Tabela_ogolne[[#This Row],[sem4.forma]]="z"),8,AND(Tabela_ogolne[[#This Row],[sem4.godziny]]>=$I$191,Tabela_ogolne[[#This Row],[sem4.forma]]="z"),4,AND(Tabela_ogolne[[#This Row],[sem4.godziny]]>=$H$191,Tabela_ogolne[[#This Row],[sem4.forma]]="e"),2,AND(Tabela_ogolne[[#This Row],[sem4.godziny]]<$H$191,Tabela_ogolne[[#This Row],[sem4.forma]]="e"),1,AND(Tabela_ogolne[[#This Row],[sem4.godziny]]>=$H$191,Tabela_ogolne[[#This Row],[sem4.forma]]="z"),2,AND(Tabela_ogolne[[#This Row],[sem4.godziny]]<$H$191,Tabela_ogolne[[#This Row],[sem4.forma]]="z"),1,TRUE,""),"")} | W19: {=IF(Tabela_ogolne[[#This Row],[czy.ects]]="TAK",_xlfn.IFS(AND(Tabela_ogolne[[#This Row],[sem5.godziny]]>=$Q$191,Tabela_ogolne[[#This Row],[sem5.forma]]="z"),8,AND(Tabela_ogolne[[#This Row],[sem5.godziny]]>=$I$191,Tabela_ogolne[[#This Row],[sem5.forma]]="z"),4,AND(Tabela_ogolne[[#This Row],[sem5.godziny]]>=$H$191,Tabela_ogolne[[#This Row],[sem5.forma]]="e"),2,AND(Tabela_ogolne[[#This Row],[sem5.godziny]]<$H$191,Tabela_ogolne[[#This Row],[sem5.forma]]="e"),1,AND(Tabela_ogolne[[#This Row],[sem5.godziny]]>=$H$191,Tabela_ogolne[[#This Row],[sem5.forma]]="z"),2,AND(Tabela_ogolne[[#This Row],[sem5.godziny]]<$H$191,Tabela_ogolne[[#This Row],[sem5.forma]]="z"),1,TRUE,""),"")} | Z19: {=IF(Tabela_ogolne[[#This Row],[czy.ects]]="TAK",_xlfn.IFS(AND(Tabela_ogolne[[#This Row],[sem6.godziny]]>=$Q$191,Tabela_ogolne[[#This Row],[sem6.forma]]="z"),8,AND(Tabela_ogolne[[#This Row],[sem6.godziny]]>=$I$191,Tabela_ogolne[[#This Row],[sem6.forma]]="z"),4,AND(Tabela_ogolne[[#This Row],[sem6.godziny]]>=$H$191,Tabela_ogolne[[#This Row],[sem6.forma]]="e"),2,AND(Tabela_ogolne[[#This Row],[sem6.godziny]]<$H$191,Tabela_ogolne[[#This Row],[sem6.forma]]="e"),1,AND(Tabela_ogolne[[#This Row],[sem6.godziny]]>=$H$191,Tabela_ogolne[[#This Row],[sem6.forma]]="z"),2,AND(Tabela_ogolne[[#This Row],[sem6.godziny]]<$H$191,Tabela_ogolne[[#This Row],[sem6.forma]]="z"),1,TRUE,""),"")} | AC19: {=IF(Tabela_ogolne[[#This Row],[czy.ects]]="TAK",_xlfn.IFS(AND(Tabela_ogolne[[#This Row],[sem7.godziny]]>=$Q$191,Tabela_ogolne[[#This Row],[sem7.forma]]="z"),8,AND(Tabela_ogolne[[#This Row],[sem7.godziny]]>=$I$191,Tabela_ogolne[[#This Row],[sem7.forma]]="z"),4,AND(Tabela_ogolne[[#This Row],[sem7.godziny]]>=$H$191,Tabela_ogolne[[#This Row],[sem7.forma]]="e"),2,AND(Tabela_ogolne[[#This Row],[sem7.godziny]]<$H$191,Tabela_ogolne[[#This Row],[sem7.forma]]="e"),1,AND(Tabela_ogolne[[#This Row],[sem7.godziny]]>=$H$191,Tabela_ogolne[[#This Row],[sem7.forma]]="z"),2,AND(Tabela_ogolne[[#This Row],[sem7.godziny]]<$H$191,Tabela_ogolne[[#This Row],[sem7.forma]]="z"),1,TRUE,""),"")} | AF19: {=IF(Tabela_ogolne[[#This Row],[czy.ects]]="TAK",_xlfn.IFS(AND(Tabela_ogolne[[#This Row],[sem8.godziny]]>=$Q$191,Tabela_ogolne[[#This Row],[sem8.forma]]="z"),8,AND(Tabela_ogolne[[#This Row],[sem8.godziny]]>=$I$191,Tabela_ogolne[[#This Row],[sem8.forma]]="z"),4,AND(Tabela_ogolne[[#This Row],[sem8.godziny]]>=$H$191,Tabela_ogolne[[#This Row],[sem8.forma]]="e"),2,AND(Tabela_ogolne[[#This Row],[sem8.godziny]]<$H$191,Tabela_ogolne[[#This Row],[sem8.forma]]="e"),1,AND(Tabela_ogolne[[#This Row],[sem8.godziny]]>=$H$191,Tabela_ogolne[[#This Row],[sem8.forma]]="z"),2,AND(Tabela_ogolne[[#This Row],[sem8.godziny]]<$H$191,Tabela_ogolne[[#This Row],[sem8.forma]]="z"),1,TRUE,""),"")} | AI19: {=IF(Tabela_ogolne[[#This Row],[czy.ects]]="TAK",_xlfn.IFS(AND(Tabela_ogolne[[#This Row],[sem9.godziny]]>=$Q$191,Tabela_ogolne[[#This Row],[sem9.forma]]="z"),8,AND(Tabela_ogolne[[#This Row],[sem9.godziny]]>=$I$191,Tabela_ogolne[[#This Row],[sem9.forma]]="z"),4,AND(Tabela_ogolne[[#This Row],[sem9.godziny]]>=$H$191,Tabela_ogolne[[#This Row],[sem9.forma]]="e"),2,AND(Tabela_ogolne[[#This Row],[sem9.godziny]]<$H$191,Tabela_ogolne[[#This Row],[sem9.forma]]="e"),1,AND(Tabela_ogolne[[#This Row],[sem9.godziny]]>=$H$191,Tabela_ogolne[[#This Row],[sem9.forma]]="z"),2,AND(Tabela_ogolne[[#This Row],[sem9.godziny]]<$H$191,Tabela_ogolne[[#This Row],[sem9.forma]]="z"),1,TRUE,""),"")} | AL19: {=IF(Tabela_ogolne[[#This Row],[czy.ects]]="TAK",_xlfn.IFS(AND(Tabela_ogolne[[#This Row],[sem10.godziny]]>=$Q$191,Tabela_ogolne[[#This Row],[sem10.forma]]="z"),8,AND(Tabela_ogolne[[#This Row],[sem10.godziny]]>=$I$191,Tabela_ogolne[[#This Row],[sem10.forma]]="z"),4,AND(Tabela_ogolne[[#This Row],[sem10.godziny]]>=$H$191,Tabela_ogolne[[#This Row],[sem10.forma]]="e"),2,AND(Tabela_ogolne[[#This Row],[sem10.godziny]]<$H$191,Tabela_ogolne[[#This Row],[sem10.forma]]="e"),1,AND(Tabela_ogolne[[#This Row],[sem10.godziny]]>=$H$191,Tabela_ogolne[[#This Row],[sem10.forma]]="z"),2,AND(Tabela_ogolne[[#This Row],[sem10.godziny]]<$H$191,Tabela_ogolne[[#This Row],[sem10.forma]]="z"),1,TRUE,""),"")} | AN19: =SUM(Tabela_ogolne[[#This Row],[sem1.ects]],Tabela_ogolne[[#This Row],[sem2.ects]],Tabela_ogolne[[#This Row],[sem3.ects]],Tabela_ogolne[[#This Row],[sem4.ects]],Tabela_ogolne[[#This Row],[sem5.ects]],Tabela_ogolne[[#This Row],[sem6.ects]],Tabela_ogolne[[#This Row],[sem7.ects]],Tabela_ogolne[[#This Row],[sem8.ects]],Tabela_ogolne[[#This Row],[sem9.ects]],Tabela_ogolne[[#This Row],[sem10.ects]]) -> 1 | AO19: =IF(ISERR(SEARCH("UP",Tabela_ogolne[[#This Row],[Umiej.prakt.]],1)),0,Tabela_ogolne[[#This Row],[ects.razem]]) -> 1 | AP19: =IF(Tabela_ogolne[[#This Row],[czy.ects]]="TAK",ROUND((SUM(Tabela_ogolne[[#This Row],[godziny.konsultacja]],Tabela_ogolne[[#This Row],[godziny.egzamin]],Tabela_ogolne[[#This Row],[godziny.zajec.razem]])/25)/0.5,0)*0.5,0) -> 0.5 | AQ19: =SUM(Tabela_ogolne[[#This Row],[godziny.samoksztalcenie]],Tabela_ogolne[[#This Row],[godziny.konsultacja]],Tabela_ogolne[[#This Row],[godziny.egzamin]],Tabela_ogolne[[#This Row],[godziny.zajec.razem]]) -> 27 | AR19: =INT(SUM(Tabela_ogolne[[#This Row],[godziny.konsultacja]],Tabela_ogolne[[#This Row],[godziny.egzamin]],Tabela_ogolne[[#This Row],[godziny.zajec.razem]])*0.5+Tabela_ogolne[[#This Row],[godziny.zajec.razem]]*(15-$G$191)/9) -> 9 | AS19: =INT(Tabela_ogolne[[#This Row],[godziny.zajec.razem]]*0.1) -> 1 | AT19: =IF(Tabela_ogolne[[#This Row],[godziny.zajec.razem]]>0,IF(Tabela_ogolne[[#This Row],[godziny.zajec.razem]]>=45,4,2),0) -> 2 | AU19: =SUM(Tabela_ogolne[[#This Row],[sem1.godziny]],Tabela_ogolne[[#This Row],[sem2.godziny]],Tabela_ogolne[[#This Row],[sem3.godziny]],Tabela_ogolne[[#This Row],[sem4.godziny]],Tabela_ogolne[[#This Row],[sem5.godziny]],Tabela_ogolne[[#This Row],[sem6.godziny]],Tabela_ogolne[[#This Row],[sem7.godziny]],Tabela_ogolne[[#This Row],[sem8.godziny]],Tabela_ogolne[[#This Row],[sem9.godziny]],Tabela_ogolne[[#This Row],[sem10.godziny]]) -> 15 | AV19: =IF(Tabela_ogolne[[#This Row],[ects.bezposr.nauczyciel]],Tabela_ogolne[[#This Row],[ects.bezposr.nauczyciel]]/Tabela_ogolne[[#This Row],[ects.razem]],0) -> 0.5
B20: 0421 | C20: 507 | D20: ou.04.1 | F20: Ochrona własności intelektualnej | H20: konwersatorium | I20: TAK | J20: 15 | K20: {=IF(Tabela_ogolne[[#This Row],[czy.ects]]="TAK",_xlfn.IFS(AND(Tabela_ogolne[[#This Row],[sem1.godziny]]>=$Q$191,Tabela_ogolne[[#This Row],[sem1.forma]]="z"),8,AND(Tabela_ogolne[[#This Row],[sem1.godziny]]>=$I$191,Tabela_ogolne[[#This Row],[sem1.forma]]="z"),4,AND(Tabela_ogolne[[#This Row],[sem1.godziny]]>=$H$191,Tabela_ogolne[[#This Row],[sem1.forma]]="e"),2,AND(Tabela_ogolne[[#This Row],[sem1.godziny]]<$H$191,Tabela_ogolne[[#This Row],[sem1.forma]]="e"),1,AND(Tabela_ogolne[[#This Row],[sem1.godziny]]>=$H$191,Tabela_ogolne[[#This Row],[sem1.forma]]="z"),2,AND(Tabela_ogolne[[#This Row],[sem1.godziny]]<$H$191,Tabela_ogolne[[#This Row],[sem1.forma]]="z"),1,TRUE,""),"")} -> 1 | L20: z | N20: {=IF(Tabela_ogolne[[#This Row],[czy.ects]]="TAK",_xlfn.IFS(AND(Tabela_ogolne[[#This Row],[sem2.godziny]]>=$Q$191,Tabela_ogolne[[#This Row],[sem2.forma]]="z"),8,AND(Tabela_ogolne[[#This Row],[sem2.godziny]]>=$I$191,Tabela_ogolne[[#This Row],[sem2.forma]]="z"),4,AND(Tabela_ogolne[[#This Row],[sem2.godziny]]>=$H$191,Tabela_ogolne[[#This Row],[sem2.forma]]="e"),2,AND(Tabela_ogolne[[#This Row],[sem2.godziny]]<$H$191,Tabela_ogolne[[#This Row],[sem2.forma]]="e"),1,AND(Tabela_ogolne[[#This Row],[sem2.godziny]]>=$H$191,Tabela_ogolne[[#This Row],[sem2.forma]]="z"),2,AND(Tabela_ogolne[[#This Row],[sem2.godziny]]<$H$191,Tabela_ogolne[[#This Row],[sem2.forma]]="z"),1,TRUE,""),"")} | Q20: {=IF(Tabela_ogolne[[#This Row],[czy.ects]]="TAK",_xlfn.IFS(AND(Tabela_ogolne[[#This Row],[sem3.godziny]]>=$Q$191,Tabela_ogolne[[#This Row],[sem3.forma]]="z"),8,AND(Tabela_ogolne[[#This Row],[sem3.godziny]]>=$I$191,Tabela_ogolne[[#This Row],[sem3.forma]]="z"),4,AND(Tabela_ogolne[[#This Row],[sem3.godziny]]>=$H$191,Tabela_ogolne[[#This Row],[sem3.forma]]="e"),2,AND(Tabela_ogolne[[#This Row],[sem3.godziny]]<$H$191,Tabela_ogolne[[#This Row],[sem3.forma]]="e"),1,AND(Tabela_ogolne[[#This Row],[sem3.godziny]]>=$H$191,Tabela_ogolne[[#This Row],[sem3.forma]]="z"),2,AND(Tabela_ogolne[[#This Row],[sem3.godziny]]<$H$191,Tabela_ogolne[[#This Row],[sem3.forma]]="z"),1,TRUE,""),"")} | T20: {=IF(Tabela_ogolne[[#This Row],[czy.ects]]="TAK",_xlfn.IFS(AND(Tabela_ogolne[[#This Row],[sem4.godziny]]>=$Q$191,Tabela_ogolne[[#This Row],[sem4.forma]]="z"),8,AND(Tabela_ogolne[[#This Row],[sem4.godziny]]>=$I$191,Tabela_ogolne[[#This Row],[sem4.forma]]="z"),4,AND(Tabela_ogolne[[#This Row],[sem4.godziny]]>=$H$191,Tabela_ogolne[[#This Row],[sem4.forma]]="e"),2,AND(Tabela_ogolne[[#This Row],[sem4.godziny]]<$H$191,Tabela_ogolne[[#This Row],[sem4.forma]]="e"),1,AND(Tabela_ogolne[[#This Row],[sem4.godziny]]>=$H$191,Tabela_ogolne[[#This Row],[sem4.forma]]="z"),2,AND(Tabela_ogolne[[#This Row],[sem4.godziny]]<$H$191,Tabela_ogolne[[#This Row],[sem4.forma]]="z"),1,TRUE,""),"")} | W20: {=IF(Tabela_ogolne[[#This Row],[czy.ects]]="TAK",_xlfn.IFS(AND(Tabela_ogolne[[#This Row],[sem5.godziny]]>=$Q$191,Tabela_ogolne[[#This Row],[sem5.forma]]="z"),8,AND(Tabela_ogolne[[#This Row],[sem5.godziny]]>=$I$191,Tabela_ogolne[[#This Row],[sem5.forma]]="z"),4,AND(Tabela_ogolne[[#This Row],[sem5.godziny]]>=$H$191,Tabela_ogolne[[#This Row],[sem5.forma]]="e"),2,AND(Tabela_ogolne[[#This Row],[sem5.godziny]]<$H$191,Tabela_ogolne[[#This Row],[sem5.forma]]="e"),1,AND(Tabela_ogolne[[#This Row],[sem5.godziny]]>=$H$191,Tabela_ogolne[[#This Row],[sem5.forma]]="z"),2,AND(Tabela_ogolne[[#This Row],[sem5.godziny]]<$H$191,Tabela_ogolne[[#This Row],[sem5.forma]]="z"),1,TRUE,""),"")} | Z20: {=IF(Tabela_ogolne[[#This Row],[czy.ects]]="TAK",_xlfn.IFS(AND(Tabela_ogolne[[#This Row],[sem6.godziny]]>=$Q$191,Tabela_ogolne[[#This Row],[sem6.forma]]="z"),8,AND(Tabela_ogolne[[#This Row],[sem6.godziny]]>=$I$191,Tabela_ogolne[[#This Row],[sem6.forma]]="z"),4,AND(Tabela_ogolne[[#This Row],[sem6.godziny]]>=$H$191,Tabela_ogolne[[#This Row],[sem6.forma]]="e"),2,AND(Tabela_ogolne[[#This Row],[sem6.godziny]]<$H$191,Tabela_ogolne[[#This Row],[sem6.forma]]="e"),1,AND(Tabela_ogolne[[#This Row],[sem6.godziny]]>=$H$191,Tabela_ogolne[[#This Row],[sem6.forma]]="z"),2,AND(Tabela_ogolne[[#This Row],[sem6.godziny]]<$H$191,Tabela_ogolne[[#This Row],[sem6.forma]]="z"),1,TRUE,""),"")} | AC20: {=IF(Tabela_ogolne[[#This Row],[czy.ects]]="TAK",_xlfn.IFS(AND(Tabela_ogolne[[#This Row],[sem7.godziny]]>=$Q$191,Tabela_ogolne[[#This Row],[sem7.forma]]="z"),8,AND(Tabela_ogolne[[#This Row],[sem7.godziny]]>=$I$191,Tabela_ogolne[[#This Row],[sem7.forma]]="z"),4,AND(Tabela_ogolne[[#This Row],[sem7.godziny]]>=$H$191,Tabela_ogolne[[#This Row],[sem7.forma]]="e"),2,AND(Tabela_ogolne[[#This Row],[sem7.godziny]]<$H$191,Tabela_ogolne[[#This Row],[sem7.forma]]="e"),1,AND(Tabela_ogolne[[#This Row],[sem7.godziny]]>=$H$191,Tabela_ogolne[[#This Row],[sem7.forma]]="z"),2,AND(Tabela_ogolne[[#This Row],[sem7.godziny]]<$H$191,Tabela_ogolne[[#This Row],[sem7.forma]]="z"),1,TRUE,""),"")} | AF20: {=IF(Tabela_ogolne[[#This Row],[czy.ects]]="TAK",_xlfn.IFS(AND(Tabela_ogolne[[#This Row],[sem8.godziny]]>=$Q$191,Tabela_ogolne[[#This Row],[sem8.forma]]="z"),8,AND(Tabela_ogolne[[#This Row],[sem8.godziny]]>=$I$191,Tabela_ogolne[[#This Row],[sem8.forma]]="z"),4,AND(Tabela_ogolne[[#This Row],[sem8.godziny]]>=$H$191,Tabela_ogolne[[#This Row],[sem8.forma]]="e"),2,AND(Tabela_ogolne[[#This Row],[sem8.godziny]]<$H$191,Tabela_ogolne[[#This Row],[sem8.forma]]="e"),1,AND(Tabela_ogolne[[#This Row],[sem8.godziny]]>=$H$191,Tabela_ogolne[[#This Row],[sem8.forma]]="z"),2,AND(Tabela_ogolne[[#This Row],[sem8.godziny]]<$H$191,Tabela_ogolne[[#This Row],[sem8.forma]]="z"),1,TRUE,""),"")} | AI20: {=IF(Tabela_ogolne[[#This Row],[czy.ects]]="TAK",_xlfn.IFS(AND(Tabela_ogolne[[#This Row],[sem9.godziny]]>=$Q$191,Tabela_ogolne[[#This Row],[sem9.forma]]="z"),8,AND(Tabela_ogolne[[#This Row],[sem9.godziny]]>=$I$191,Tabela_ogolne[[#This Row],[sem9.forma]]="z"),4,AND(Tabela_ogolne[[#This Row],[sem9.godziny]]>=$H$191,Tabela_ogolne[[#This Row],[sem9.forma]]="e"),2,AND(Tabela_ogolne[[#This Row],[sem9.godziny]]<$H$191,Tabela_ogolne[[#This Row],[sem9.forma]]="e"),1,AND(Tabela_ogolne[[#This Row],[sem9.godziny]]>=$H$191,Tabela_ogolne[[#This Row],[sem9.forma]]="z"),2,AND(Tabela_ogolne[[#This Row],[sem9.godziny]]<$H$191,Tabela_ogolne[[#This Row],[sem9.forma]]="z"),1,TRUE,""),"")} | AL20: {=IF(Tabela_ogolne[[#This Row],[czy.ects]]="TAK",_xlfn.IFS(AND(Tabela_ogolne[[#This Row],[sem10.godziny]]>=$Q$191,Tabela_ogolne[[#This Row],[sem10.forma]]="z"),8,AND(Tabela_ogolne[[#This Row],[sem10.godziny]]>=$I$191,Tabela_ogolne[[#This Row],[sem10.forma]]="z"),4,AND(Tabela_ogolne[[#This Row],[sem10.godziny]]>=$H$191,Tabela_ogolne[[#This Row],[sem10.forma]]="e"),2,AND(Tabela_ogolne[[#This Row],[sem10.godziny]]<$H$191,Tabela_ogolne[[#This Row],[sem10.forma]]="e"),1,AND(Tabela_ogolne[[#This Row],[sem10.godziny]]>=$H$191,Tabela_ogolne[[#This Row],[sem10.forma]]="z"),2,AND(Tabela_ogolne[[#This Row],[sem10.godziny]]<$H$191,Tabela_ogolne[[#This Row],[sem10.forma]]="z"),1,TRUE,""),"")} | AN20: =SUM(Tabela_ogolne[[#This Row],[sem1.ects]],Tabela_ogolne[[#This Row],[sem2.ects]],Tabela_ogolne[[#This Row],[sem3.ects]],Tabela_ogolne[[#This Row],[sem4.ects]],Tabela_ogolne[[#This Row],[sem5.ects]],Tabela_ogolne[[#This Row],[sem6.ects]],Tabela_ogolne[[#This Row],[sem7.ects]],Tabela_ogolne[[#This Row],[sem8.ects]],Tabela_ogolne[[#This Row],[sem9.ects]],Tabela_ogolne[[#This Row],[sem10.ects]]) -> 1 | AO20: =IF(ISERR(SEARCH("UP",Tabela_ogolne[[#This Row],[Umiej.prakt.]],1)),0,Tabela_ogolne[[#This Row],[ects.razem]]) -> 0 | AP20: =IF(Tabela_ogolne[[#This Row],[czy.ects]]="TAK",ROUND((SUM(Tabela_ogolne[[#This Row],[godziny.konsultacja]],Tabela_ogolne[[#This Row],[godziny.egzamin]],Tabela_ogolne[[#This Row],[godziny.zajec.razem]])/25)/0.5,0)*0.5,0) -> 0.5 | AQ20: =SUM(Tabela_ogolne[[#This Row],[godziny.samoksztalcenie]],Tabela_ogolne[[#This Row],[godziny.konsultacja]],Tabela_ogolne[[#This Row],[godziny.egzamin]],Tabela_ogolne[[#This Row],[godziny.zajec.razem]]) -> 27 | AR20: =INT(SUM(Tabela_ogolne[[#This Row],[godziny.konsultacja]],Tabela_ogolne[[#This Row],[godziny.egzamin]],Tabela_ogolne[[#This Row],[godziny.zajec.razem]])*0.5+Tabela_ogolne[[#This Row],[godziny.zajec.razem]]*(15-$G$191)/9) -> 9 | AS20: =INT(Tabela_ogolne[[#This Row],[godziny.zajec.razem]]*0.1) -> 1 | AT20: =IF(Tabela_ogolne[[#This Row],[godziny.zajec.razem]]>0,IF(Tabela_ogolne[[#This Row],[godziny.zajec.razem]]>=45,4,2),0) -> 2 | AU20: =SUM(Tabela_ogolne[[#This Row],[sem1.godziny]],Tabela_ogolne[[#This Row],[sem2.godziny]],Tabela_ogolne[[#This Row],[sem3.godziny]],Tabela_ogolne[[#This Row],[sem4.godziny]],Tabela_ogolne[[#This Row],[sem5.godziny]],Tabela_ogolne[[#This Row],[sem6.godziny]],Tabela_ogolne[[#This Row],[sem7.godziny]],Tabela_ogolne[[#This Row],[sem8.godziny]],Tabela_ogolne[[#This Row],[sem9.godziny]],Tabela_ogolne[[#This Row],[sem10.godziny]]) -> 15 | AV20: =IF(Tabela_ogolne[[#This Row],[ects.bezposr.nauczyciel]],Tabela_ogolne[[#This Row],[ects.bezposr.nauczyciel]]/Tabela_ogolne[[#This Row],[ects.razem]],0) -> 0.5
B21: 1014 | C21: 303 | D21: ou.05.1 | E21: up | F21: Wychowanie fizyczne | H21: ćwiczenia | I21: NIE | K21: {=IF(Tabela_ogolne[[#This Row],[czy.ects]]="TAK",_xlfn.IFS(AND(Tabela_ogolne[[#This Row],[sem1.godziny]]>=$Q$191,Tabela_ogolne[[#This Row],[sem1.forma]]="z"),8,AND(Tabela_ogolne[[#This Row],[sem1.godziny]]>=$I$191,Tabela_ogolne[[#This Row],[sem1.forma]]="z"),4,AND(Tabela_ogolne[[#This Row],[sem1.godziny]]>=$H$191,Tabela_ogolne[[#This Row],[sem1.forma]]="e"),2,AND(Tabela_ogolne[[#This Row],[sem1.godziny]]<$H$191,Tabela_ogolne[[#This Row],[sem1.forma]]="e"),1,AND(Tabela_ogolne[[#This Row],[sem1.godziny]]>=$H$191,Tabela_ogolne[[#This Row],[sem1.forma]]="z"),2,AND(Tabela_ogolne[[#This Row],[sem1.godziny]]<$H$191,Tabela_ogolne[[#This Row],[sem1.forma]]="z"),1,TRUE,""),"")} | M21: 30 | N21: {=IF(Tabela_ogolne[[#This Row],[czy.ects]]="TAK",_xlfn.IFS(AND(Tabela_ogolne[[#This Row],[sem2.godziny]]>=$Q$191,Tabela_ogolne[[#This Row],[sem2.forma]]="z"),8,AND(Tabela_ogolne[[#This Row],[sem2.godziny]]>=$I$191,Tabela_ogolne[[#This Row],[sem2.forma]]="z"),4,AND(Tabela_ogolne[[#This Row],[sem2.godziny]]>=$H$191,Tabela_ogolne[[#This Row],[sem2.forma]]="e"),2,AND(Tabela_ogolne[[#This Row],[sem2.godziny]]<$H$191,Tabela_ogolne[[#This Row],[sem2.forma]]="e"),1,AND(Tabela_ogolne[[#This Row],[sem2.godziny]]>=$H$191,Tabela_ogolne[[#This Row],[sem2.forma]]="z"),2,AND(Tabela_ogolne[[#This Row],[sem2.godziny]]<$H$191,Tabela_ogolne[[#This Row],[sem2.forma]]="z"),1,TRUE,""),"")} | O21: b | P21: 30 | Q21: {=IF(Tabela_ogolne[[#This Row],[czy.ects]]="TAK",_xlfn.IFS(AND(Tabela_ogolne[[#This Row],[sem3.godziny]]>=$Q$191,Tabela_ogolne[[#This Row],[sem3.forma]]="z"),8,AND(Tabela_ogolne[[#This Row],[sem3.godziny]]>=$I$191,Tabela_ogolne[[#This Row],[sem3.forma]]="z"),4,AND(Tabela_ogolne[[#This Row],[sem3.godziny]]>=$H$191,Tabela_ogolne[[#This Row],[sem3.forma]]="e"),2,AND(Tabela_ogolne[[#This Row],[sem3.godziny]]<$H$191,Tabela_ogolne[[#This Row],[sem3.forma]]="e"),1,AND(Tabela_ogolne[[#This Row],[sem3.godziny]]>=$H$191,Tabela_ogolne[[#This Row],[sem3.forma]]="z"),2,AND(Tabela_ogolne[[#This Row],[sem3.godziny]]<$H$191,Tabela_ogolne[[#This Row],[sem3.forma]]="z"),1,TRUE,""),"")} | R21: b | T21: {=IF(Tabela_ogolne[[#This Row],[czy.ects]]="TAK",_xlfn.IFS(AND(Tabela_ogolne[[#This Row],[sem4.godziny]]>=$Q$191,Tabela_ogolne[[#This Row],[sem4.forma]]="z"),8,AND(Tabela_ogolne[[#This Row],[sem4.godziny]]>=$I$191,Tabela_ogolne[[#This Row],[sem4.forma]]="z"),4,AND(Tabela_ogolne[[#This Row],[sem4.godziny]]>=$H$191,Tabela_ogolne[[#This Row],[sem4.forma]]="e"),2,AND(Tabela_ogolne[[#This Row],[sem4.godziny]]<$H$191,Tabela_ogolne[[#This Row],[sem4.forma]]="e"),1,AND(Tabela_ogolne[[#This Row],[sem4.godziny]]>=$H$191,Tabela_ogolne[[#This Row],[sem4.forma]]="z"),2,AND(Tabela_ogolne[[#This Row],[sem4.godziny]]<$H$191,Tabela_ogolne[[#This Row],[sem4.forma]]="z"),1,TRUE,""),"")} | W21: {=IF(Tabela_ogolne[[#This Row],[czy.ects]]="TAK",_xlfn.IFS(AND(Tabela_ogolne[[#This Row],[sem5.godziny]]>=$Q$191,Tabela_ogolne[[#This Row],[sem5.forma]]="z"),8,AND(Tabela_ogolne[[#This Row],[sem5.godziny]]>=$I$191,Tabela_ogolne[[#This Row],[sem5.forma]]="z"),4,AND(Tabela_ogolne[[#This Row],[sem5.godziny]]>=$H$191,Tabela_ogolne[[#This Row],[sem5.forma]]="e"),2,AND(Tabela_ogolne[[#This Row],[sem5.godziny]]<$H$191,Tabela_ogolne[[#This Row],[sem5.forma]]="e"),1,AND(Tabela_ogolne[[#This Row],[sem5.godziny]]>=$H$191,Tabela_ogolne[[#This Row],[sem5.forma]]="z"),2,AND(Tabela_ogolne[[#This Row],[sem5.godziny]]<$H$191,Tabela_ogolne[[#This Row],[sem5.forma]]="z"),1,TRUE,""),"")} | Z21: {=IF(Tabela_ogolne[[#This Row],[czy.ects]]="TAK",_xlfn.IFS(AND(Tabela_ogolne[[#This Row],[sem6.godziny]]>=$Q$191,Tabela_ogolne[[#This Row],[sem6.forma]]="z"),8,AND(Tabela_ogolne[[#This Row],[sem6.godziny]]>=$I$191,Tabela_ogolne[[#This Row],[sem6.forma]]="z"),4,AND(Tabela_ogolne[[#This Row],[sem6.godziny]]>=$H$191,Tabela_ogolne[[#This Row],[sem6.forma]]="e"),2,AND(Tabela_ogolne[[#This Row],[sem6.godziny]]<$H$191,Tabela_ogolne[[#This Row],[sem6.forma]]="e"),1,AND(Tabela_ogolne[[#This Row],[sem6.godziny]]>=$H$191,Tabela_ogolne[[#This Row],[sem6.forma]]="z"),2,AND(Tabela_ogolne[[#This Row],[sem6.godziny]]<$H$191,Tabela_ogolne[[#This Row],[sem6.forma]]="z"),1,TRUE,""),"")} | AC21: {=IF(Tabela_ogolne[[#This Row],[czy.ects]]="TAK",_xlfn.IFS(AND(Tabela_ogolne[[#This Row],[sem7.godziny]]>=$Q$191,Tabela_ogolne[[#This Row],[sem7.forma]]="z"),8,AND(Tabela_ogolne[[#This Row],[sem7.godziny]]>=$I$191,Tabela_ogolne[[#This Row],[sem7.forma]]="z"),4,AND(Tabela_ogolne[[#This Row],[sem7.godziny]]>=$H$191,Tabela_ogolne[[#This Row],[sem7.forma]]="e"),2,AND(Tabela_ogolne[[#This Row],[sem7.godziny]]<$H$191,Tabela_ogolne[[#This Row],[sem7.forma]]="e"),1,AND(Tabela_ogolne[[#This Row],[sem7.godziny]]>=$H$191,Tabela_ogolne[[#This Row],[sem7.forma]]="z"),2,AND(Tabela_ogolne[[#This Row],[sem7.godziny]]<$H$191,Tabela_ogolne[[#This Row],[sem7.forma]]="z"),1,TRUE,""),"")} | AF21: {=IF(Tabela_ogolne[[#This Row],[czy.ects]]="TAK",_xlfn.IFS(AND(Tabela_ogolne[[#This Row],[sem8.godziny]]>=$Q$191,Tabela_ogolne[[#This Row],[sem8.forma]]="z"),8,AND(Tabela_ogolne[[#This Row],[sem8.godziny]]>=$I$191,Tabela_ogolne[[#This Row],[sem8.forma]]="z"),4,AND(Tabela_ogolne[[#This Row],[sem8.godziny]]>=$H$191,Tabela_ogolne[[#This Row],[sem8.forma]]="e"),2,AND(Tabela_ogolne[[#This Row],[sem8.godziny]]<$H$191,Tabela_ogolne[[#This Row],[sem8.forma]]="e"),1,AND(Tabela_ogolne[[#This Row],[sem8.godziny]]>=$H$191,Tabela_ogolne[[#This Row],[sem8.forma]]="z"),2,AND(Tabela_ogolne[[#This Row],[sem8.godziny]]<$H$191,Tabela_ogolne[[#This Row],[sem8.forma]]="z"),1,TRUE,""),"")} | AI21: {=IF(Tabela_ogolne[[#This Row],[czy.ects]]="TAK",_xlfn.IFS(AND(Tabela_ogolne[[#This Row],[sem9.godziny]]>=$Q$191,Tabela_ogolne[[#This Row],[sem9.forma]]="z"),8,AND(Tabela_ogolne[[#This Row],[sem9.godziny]]>=$I$191,Tabela_ogolne[[#This Row],[sem9.forma]]="z"),4,AND(Tabela_ogolne[[#This Row],[sem9.godziny]]>=$H$191,Tabela_ogolne[[#This Row],[sem9.forma]]="e"),2,AND(Tabela_ogolne[[#This Row],[sem9.godziny]]<$H$191,Tabela_ogolne[[#This Row],[sem9.forma]]="e"),1,AND(Tabela_ogolne[[#This Row],[sem9.godziny]]>=$H$191,Tabela_ogolne[[#This Row],[sem9.forma]]="z"),2,AND(Tabela_ogolne[[#This Row],[sem9.godziny]]<$H$191,Tabela_ogolne[[#This Row],[sem9.forma]]="z"),1,TRUE,""),"")} | AL21: {=IF(Tabela_ogolne[[#This Row],[czy.ects]]="TAK",_xlfn.IFS(AND(Tabela_ogolne[[#This Row],[sem10.godziny]]>=$Q$191,Tabela_ogolne[[#This Row],[sem10.forma]]="z"),8,AND(Tabela_ogolne[[#This Row],[sem10.godziny]]>=$I$191,Tabela_ogolne[[#This Row],[sem10.forma]]="z"),4,AND(Tabela_ogolne[[#This Row],[sem10.godziny]]>=$H$191,Tabela_ogolne[[#This Row],[sem10.forma]]="e"),2,AND(Tabela_ogolne[[#This Row],[sem10.godziny]]<$H$191,Tabela_ogolne[[#This Row],[sem10.forma]]="e"),1,AND(Tabela_ogolne[[#This Row],[sem10.godziny]]>=$H$191,Tabela_ogolne[[#This Row],[sem10.forma]]="z"),2,AND(Tabela_ogolne[[#This Row],[sem10.godziny]]<$H$191,Tabela_ogolne[[#This Row],[sem10.forma]]="z"),1,TRUE,""),"")} | AN21: =SUM(Tabela_ogolne[[#This Row],[sem1.ects]],Tabela_ogolne[[#This Row],[sem2.ects]],Tabela_ogolne[[#This Row],[sem3.ects]],Tabela_ogolne[[#This Row],[sem4.ects]],Tabela_ogolne[[#This Row],[sem5.ects]],Tabela_ogolne[[#This Row],[sem6.ects]],Tabela_ogolne[[#This Row],[sem7.ects]],Tabela_ogolne[[#This Row],[sem8.ects]],Tabela_ogolne[[#This Row],[sem9.ects]],Tabela_ogolne[[#This Row],[sem10.ects]]) -> 0 | AO21: =IF(ISERR(SEARCH("UP",Tabela_ogolne[[#This Row],[Umiej.prakt.]],1)),0,Tabela_ogolne[[#This Row],[ects.razem]]) -> 0 | AP21: =IF(Tabela_ogolne[[#This Row],[czy.ects]]="TAK",ROUND((SUM(Tabela_ogolne[[#This Row],[godziny.konsultacja]],Tabela_ogolne[[#This Row],[godziny.egzamin]],Tabela_ogolne[[#This Row],[godziny.zajec.razem]])/25)/0.5,0)*0.5,0) -> 0 | AQ21: =SUM(Tabela_ogolne[[#This Row],[godziny.samoksztalcenie]],Tabela_ogolne[[#This Row],[godziny.konsultacja]],Tabela_ogolne[[#This Row],[godziny.egzamin]],Tabela_ogolne[[#This Row],[godziny.zajec.razem]]) -> 105 | AR21: =INT(SUM(Tabela_ogolne[[#This Row],[godziny.konsultacja]],Tabela_ogolne[[#This Row],[godziny.egzamin]],Tabela_ogolne[[#This Row],[godziny.zajec.razem]])*0.5+Tabela_ogolne[[#This Row],[godziny.zajec.razem]]*(15-$G$191)/9) -> 35 | AS21: =INT(Tabela_ogolne[[#This Row],[godziny.zajec.razem]]*0.1) -> 6 | AT21: =IF(Tabela_ogolne[[#This Row],[godziny.zajec.razem]]>0,IF(Tabela_ogolne[[#This Row],[godziny.zajec.razem]]>=45,4,2),0) -> 4 | AU21: =SUM(Tabela_ogolne[[#This Row],[sem1.godziny]],Tabela_ogolne[[#This Row],[sem2.godziny]],Tabela_ogolne[[#This Row],[sem3.godziny]],Tabela_ogolne[[#This Row],[sem4.godziny]],Tabela_ogolne[[#This Row],[sem5.godziny]],Tabela_ogolne[[#This Row],[sem6.godziny]],Tabela_ogolne[[#This Row],[sem7.godziny]],Tabela_ogolne[[#This Row],[sem8.godziny]],Tabela_ogolne[[#This Row],[sem9.godziny]],Tabela_ogolne[[#This Row],[sem10.godziny]]) -> 60 | AV21: =IF(Tabela_ogolne[[#This Row],[ects.bezposr.nauczyciel]],Tabela_ogolne[[#This Row],[ects.bezposr.nauczyciel]]/Tabela_ogolne[[#This Row],[ects.razem]],0) -> 0
B22: 0231 | C22: 104 | D22: ou.06.1 | E22: up | F22: Język obcy | H22: ćwiczenia | I22: TAK | K22: {=IF(Tabela_ogolne[[#This Row],[czy.ects]]="TAK",_xlfn.IFS(AND(Tabela_ogolne[[#This Row],[sem1.godziny]]>=$Q$191,Tabela_ogolne[[#This Row],[sem1.forma]]="z"),8,AND(Tabela_ogolne[[#This Row],[sem1.godziny]]>=$I$191,Tabela_ogolne[[#This Row],[sem1.forma]]="z"),4,AND(Tabela_ogolne[[#This Row],[sem1.godziny]]>=$H$191,Tabela_ogolne[[#This Row],[sem1.forma]]="e"),2,AND(Tabela_ogolne[[#This Row],[sem1.godziny]]<$H$191,Tabela_ogolne[[#This Row],[sem1.forma]]="e"),1,AND(Tabela_ogolne[[#This Row],[sem1.godziny]]>=$H$191,Tabela_ogolne[[#This Row],[sem1.forma]]="z"),2,AND(Tabela_ogolne[[#This Row],[sem1.godziny]]<$H$191,Tabela_ogolne[[#This Row],[sem1.forma]]="z"),1,TRUE,""),"")} | M22: 30 | N22: 3 | O22: z | P22: 30 | Q22: 3 | R22: z | S22: 30 | T22: 3 | U22: z | V22: 30 | W22: {=IF(Tabela_ogolne[[#This Row],[czy.ects]]="TAK",_xlfn.IFS(AND(Tabela_ogolne[[#This Row],[sem5.godziny]]>=$Q$191,Tabela_ogolne[[#This Row],[sem5.forma]]="z"),8,AND(Tabela_ogolne[[#This Row],[sem5.godziny]]>=$I$191,Tabela_ogolne[[#This Row],[sem5.forma]]="z"),4,AND(Tabela_ogolne[[#This Row],[sem5.godziny]]>=$H$191,Tabela_ogolne[[#This Row],[sem5.forma]]="e"),2,AND(Tabela_ogolne[[#This Row],[sem5.godziny]]<$H$191,Tabela_ogolne[[#This Row],[sem5.forma]]="e"),1,AND(Tabela_ogolne[[#This Row],[sem5.godziny]]>=$H$191,Tabela_ogolne[[#This Row],[sem5.forma]]="z"),2,AND(Tabela_ogolne[[#This Row],[sem5.godziny]]<$H$191,Tabela_ogolne[[#This Row],[sem5.forma]]="z"),1,TRUE,""),"")} -> 2 | X22: z | Z22: {=IF(Tabela_ogolne[[#This Row],[czy.ects]]="TAK",_xlfn.IFS(AND(Tabela_ogolne[[#This Row],[sem6.godziny]]>=$Q$191,Tabela_ogolne[[#This Row],[sem6.forma]]="z"),8,AND(Tabela_ogolne[[#This Row],[sem6.godziny]]>=$I$191,Tabela_ogolne[[#This Row],[sem6.forma]]="z"),4,AND(Tabela_ogolne[[#This Row],[sem6.godziny]]>=$H$191,Tabela_ogolne[[#This Row],[sem6.forma]]="e"),2,AND(Tabela_ogolne[[#This Row],[sem6.godziny]]<$H$191,Tabela_ogolne[[#This Row],[sem6.forma]]="e"),1,AND(Tabela_ogolne[[#This Row],[sem6.godziny]]>=$H$191,Tabela_ogolne[[#This Row],[sem6.forma]]="z"),2,AND(Tabela_ogolne[[#This Row],[sem6.godziny]]<$H$191,Tabela_ogolne[[#This Row],[sem6.forma]]="z"),1,TRUE,""),"")} | AC22: {=IF(Tabela_ogolne[[#This Row],[czy.ects]]="TAK",_xlfn.IFS(AND(Tabela_ogolne[[#This Row],[sem7.godziny]]>=$Q$191,Tabela_ogolne[[#This Row],[sem7.forma]]="z"),8,AND(Tabela_ogolne[[#This Row],[sem7.godziny]]>=$I$191,Tabela_ogolne[[#This Row],[sem7.forma]]="z"),4,AND(Tabela_ogolne[[#This Row],[sem7.godziny]]>=$H$191,Tabela_ogolne[[#This Row],[sem7.forma]]="e"),2,AND(Tabela_ogolne[[#This Row],[sem7.godziny]]<$H$191,Tabela_ogolne[[#This Row],[sem7.forma]]="e"),1,AND(Tabela_ogolne[[#This Row],[sem7.godziny]]>=$H$191,Tabela_ogolne[[#This Row],[sem7.forma]]="z"),2,AND(Tabela_ogolne[[#This Row],[sem7.godziny]]<$H$191,Tabela_ogolne[[#This Row],[sem7.forma]]="z"),1,TRUE,""),"")} | AF22: {=IF(Tabela_ogolne[[#This Row],[czy.ects]]="TAK",_xlfn.IFS(AND(Tabela_ogolne[[#This Row],[sem8.godziny]]>=$Q$191,Tabela_ogolne[[#This Row],[sem8.forma]]="z"),8,AND(Tabela_ogolne[[#This Row],[sem8.godziny]]>=$I$191,Tabela_ogolne[[#This Row],[sem8.forma]]="z"),4,AND(Tabela_ogolne[[#This Row],[sem8.godziny]]>=$H$191,Tabela_ogolne[[#This Row],[sem8.forma]]="e"),2,AND(Tabela_ogolne[[#This Row],[sem8.godziny]]<$H$191,Tabela_ogolne[[#This Row],[sem8.forma]]="e"),1,AND(Tabela_ogolne[[#This Row],[sem8.godziny]]>=$H$191,Tabela_ogolne[[#This Row],[sem8.forma]]="z"),2,AND(Tabela_ogolne[[#This Row],[sem8.godziny]]<$H$191,Tabela_ogolne[[#This Row],[sem8.forma]]="z"),1,TRUE,""),"")} | AI22: {=IF(Tabela_ogolne[[#This Row],[czy.ects]]="TAK",_xlfn.IFS(AND(Tabela_ogolne[[#This Row],[sem9.godziny]]>=$Q$191,Tabela_ogolne[[#This Row],[sem9.forma]]="z"),8,AND(Tabela_ogolne[[#This Row],[sem9.godziny]]>=$I$191,Tabela_ogolne[[#This Row],[sem9.forma]]="z"),4,AND(Tabela_ogolne[[#This Row],[sem9.godziny]]>=$H$191,Tabela_ogolne[[#This Row],[sem9.forma]]="e"),2,AND(Tabela_ogolne[[#This Row],[sem9.godziny]]<$H$191,Tabela_ogolne[[#This Row],[sem9.forma]]="e"),1,AND(Tabela_ogolne[[#This Row],[sem9.godziny]]>=$H$191,Tabela_ogolne[[#This Row],[sem9.forma]]="z"),2,AND(Tabela_ogolne[[#This Row],[sem9.godziny]]<$H$191,Tabela_ogolne[[#This Row],[sem9.forma]]="z"),1,TRUE,""),"")} | AL22: {=IF(Tabela_ogolne[[#This Row],[czy.ects]]="TAK",_xlfn.IFS(AND(Tabela_ogolne[[#This Row],[sem10.godziny]]>=$Q$191,Tabela_ogolne[[#This Row],[sem10.forma]]="z"),8,AND(Tabela_ogolne[[#This Row],[sem10.godziny]]>=$I$191,Tabela_ogolne[[#This Row],[sem10.forma]]="z"),4,AND(Tabela_ogolne[[#This Row],[sem10.godziny]]>=$H$191,Tabela_ogolne[[#This Row],[sem10.forma]]="e"),2,AND(Tabela_ogolne[[#This Row],[sem10.godziny]]<$H$191,Tabela_ogolne[[#This Row],[sem10.forma]]="e"),1,AND(Tabela_ogolne[[#This Row],[sem10.godziny]]>=$H$191,Tabela_ogolne[[#This Row],[sem10.forma]]="z"),2,AND(Tabela_ogolne[[#This Row],[sem10.godziny]]<$H$191,Tabela_ogolne[[#This Row],[sem10.forma]]="z"),1,TRUE,""),"")} | AN22: =SUM(Tabela_ogolne[[#This Row],[sem1.ects]],Tabela_ogolne[[#This Row],[sem2.ects]],Tabela_ogolne[[#This Row],[sem3.ects]],Tabela_ogolne[[#This Row],[sem4.ects]],Tabela_ogolne[[#This Row],[sem5.ects]],Tabela_ogolne[[#This Row],[sem6.ects]],Tabela_ogolne[[#This Row],[sem7.ects]],Tabela_ogolne[[#This Row],[sem8.ects]],Tabela_ogolne[[#This Row],[sem9.ects]],Tabela_ogolne[[#This Row],[sem10.ects]]) -> 11 | AO22: =IF(ISERR(SEARCH("UP",Tabela_ogolne[[#This Row],[Umiej.prakt.]],1)),0,Tabela_ogolne[[#This Row],[ects.razem]]) -> 11 | AP22: =IF(Tabela_ogolne[[#This Row],[czy.ects]]="TAK",ROUND((SUM(Tabela_ogolne[[#This Row],[godziny.konsultacja]],Tabela_ogolne[[#This Row],[godziny.egzamin]],Tabela_ogolne[[#This Row],[godziny.zajec.razem]])/25)/0.5,0)*0.5,0) -> 5.5 | AQ22: =SUM(Tabela_ogolne[[#This Row],[godziny.samoksztalcenie]],Tabela_ogolne[[#This Row],[godziny.konsultacja]],Tabela_ogolne[[#This Row],[godziny.egzamin]],Tabela_ogolne[[#This Row],[godziny.zajec.razem]]) -> 204 | AR22: =INT(SUM(Tabela_ogolne[[#This Row],[godziny.konsultacja]],Tabela_ogolne[[#This Row],[godziny.egzamin]],Tabela_ogolne[[#This Row],[godziny.zajec.razem]])*0.5+Tabela_ogolne[[#This Row],[godziny.zajec.razem]]*(15-$G$191)/9) -> 68 | AS22: =INT(Tabela_ogolne[[#This Row],[godziny.zajec.razem]]*0.1) -> 12 | AT22: =IF(Tabela_ogolne[[#This Row],[godziny.zajec.razem]]>0,IF(Tabela_ogolne[[#This Row],[godziny.zajec.razem]]>=45,4,2),0) -> 4 | AU22: =SUM(Tabela_ogolne[[#This Row],[sem1.godziny]],Tabela_ogolne[[#This Row],[sem2.godziny]],Tabela_ogolne[[#This Row],[sem3.godziny]],Tabela_ogolne[[#This Row],[sem4.godziny]],Tabela_ogolne[[#This Row],[sem5.godziny]],Tabela_ogolne[[#This Row],[sem6.godziny]],Tabela_ogolne[[#This Row],[sem7.godziny]],Tabela_ogolne[[#This Row],[sem8.godziny]],Tabela_ogolne[[#This Row],[sem9.godziny]],Tabela_ogolne[[#This Row],[sem10.godziny]]) -> 120 | AV22: =IF(Tabela_ogolne[[#This Row],[ects.bezposr.nauczyciel]],Tabela_ogolne[[#This Row],[ects.bezposr.nauczyciel]]/Tabela_ogolne[[#This Row],[ects.razem]],0) -> 0.5
B23: 1022 | C23: 506 | D23: ou.07.1 | F23: Szkolenie BHP | H23: instruktaż | I23: NIE | J23: 5 | K23: {=IF(Tabela_ogolne[[#This Row],[czy.ects]]="TAK",_xlfn.IFS(AND(Tabela_ogolne[[#This Row],[sem1.godziny]]>=$Q$191,Tabela_ogolne[[#This Row],[sem1.forma]]="z"),8,AND(Tabela_ogolne[[#This Row],[sem1.godziny]]>=$I$191,Tabela_ogolne[[#This Row],[sem1.forma]]="z"),4,AND(Tabela_ogolne[[#This Row],[sem1.godziny]]>=$H$191,Tabela_ogolne[[#This Row],[sem1.forma]]="e"),2,AND(Tabela_ogolne[[#This Row],[sem1.godziny]]<$H$191,Tabela_ogolne[[#This Row],[sem1.forma]]="e"),1,AND(Tabela_ogolne[[#This Row],[sem1.godziny]]>=$H$191,Tabela_ogolne[[#This Row],[sem1.forma]]="z"),2,AND(Tabela_ogolne[[#This Row],[sem1.godziny]]<$H$191,Tabela_ogolne[[#This Row],[sem1.forma]]="z"),1,TRUE,""),"")} | L23: b | N23: {=IF(Tabela_ogolne[[#This Row],[czy.ects]]="TAK",_xlfn.IFS(AND(Tabela_ogolne[[#This Row],[sem2.godziny]]>=$Q$191,Tabela_ogolne[[#This Row],[sem2.forma]]="z"),8,AND(Tabela_ogolne[[#This Row],[sem2.godziny]]>=$I$191,Tabela_ogolne[[#This Row],[sem2.forma]]="z"),4,AND(Tabela_ogolne[[#This Row],[sem2.godziny]]>=$H$191,Tabela_ogolne[[#This Row],[sem2.forma]]="e"),2,AND(Tabela_ogolne[[#This Row],[sem2.godziny]]<$H$191,Tabela_ogolne[[#This Row],[sem2.forma]]="e"),1,AND(Tabela_ogolne[[#This Row],[sem2.godziny]]>=$H$191,Tabela_ogolne[[#This Row],[sem2.forma]]="z"),2,AND(Tabela_ogolne[[#This Row],[sem2.godziny]]<$H$191,Tabela_ogolne[[#This Row],[sem2.forma]]="z"),1,TRUE,""),"")} | Q23: {=IF(Tabela_ogolne[[#This Row],[czy.ects]]="TAK",_xlfn.IFS(AND(Tabela_ogolne[[#This Row],[sem3.godziny]]>=$Q$191,Tabela_ogolne[[#This Row],[sem3.forma]]="z"),8,AND(Tabela_ogolne[[#This Row],[sem3.godziny]]>=$I$191,Tabela_ogolne[[#This Row],[sem3.forma]]="z"),4,AND(Tabela_ogolne[[#This Row],[sem3.godziny]]>=$H$191,Tabela_ogolne[[#This Row],[sem3.forma]]="e"),2,AND(Tabela_ogolne[[#This Row],[sem3.godziny]]<$H$191,Tabela_ogolne[[#This Row],[sem3.forma]]="e"),1,AND(Tabela_ogolne[[#This Row],[sem3.godziny]]>=$H$191,Tabela_ogolne[[#This Row],[sem3.forma]]="z"),2,AND(Tabela_ogolne[[#This Row],[sem3.godziny]]<$H$191,Tabela_ogolne[[#This Row],[sem3.forma]]="z"),1,TRUE,""),"")} | T23: {=IF(Tabela_ogolne[[#This Row],[czy.ects]]="TAK",_xlfn.IFS(AND(Tabela_ogolne[[#This Row],[sem4.godziny]]>=$Q$191,Tabela_ogolne[[#This Row],[sem4.forma]]="z"),8,AND(Tabela_ogolne[[#This Row],[sem4.godziny]]>=$I$191,Tabela_ogolne[[#This Row],[sem4.forma]]="z"),4,AND(Tabela_ogolne[[#This Row],[sem4.godziny]]>=$H$191,Tabela_ogolne[[#This Row],[sem4.forma]]="e"),2,AND(Tabela_ogolne[[#This Row],[sem4.godziny]]<$H$191,Tabela_ogolne[[#This Row],[sem4.forma]]="e"),1,AND(Tabela_ogolne[[#This Row],[sem4.godziny]]>=$H$191,Tabela_ogolne[[#This Row],[sem4.forma]]="z"),2,AND(Tabela_ogolne[[#This Row],[sem4.godziny]]<$H$191,Tabela_ogolne[[#This Row],[sem4.forma]]="z"),1,TRUE,""),"")} | W23: {=IF(Tabela_ogolne[[#This Row],[czy.ects]]="TAK",_xlfn.IFS(AND(Tabela_ogolne[[#This Row],[sem5.godziny]]>=$Q$191,Tabela_ogolne[[#This Row],[sem5.forma]]="z"),8,AND(Tabela_ogolne[[#This Row],[sem5.godziny]]>=$I$191,Tabela_ogolne[[#This Row],[sem5.forma]]="z"),4,AND(Tabela_ogolne[[#This Row],[sem5.godziny]]>=$H$191,Tabela_ogolne[[#This Row],[sem5.forma]]="e"),2,AND(Tabela_ogolne[[#This Row],[sem5.godziny]]<$H$191,Tabela_ogolne[[#This Row],[sem5.forma]]="e"),1,AND(Tabela_ogolne[[#This Row],[sem5.godziny]]>=$H$191,Tabela_ogolne[[#This Row],[sem5.forma]]="z"),2,AND(Tabela_ogolne[[#This Row],[sem5.godziny]]<$H$191,Tabela_ogolne[[#This Row],[sem5.forma]]="z"),1,TRUE,""),"")} | Z23: {=IF(Tabela_ogolne[[#This Row],[czy.ects]]="TAK",_xlfn.IFS(AND(Tabela_ogolne[[#This Row],[sem6.godziny]]>=$Q$191,Tabela_ogolne[[#This Row],[sem6.forma]]="z"),8,AND(Tabela_ogolne[[#This Row],[sem6.godziny]]>=$I$191,Tabela_ogolne[[#This Row],[sem6.forma]]="z"),4,AND(Tabela_ogolne[[#This Row],[sem6.godziny]]>=$H$191,Tabela_ogolne[[#This Row],[sem6.forma]]="e"),2,AND(Tabela_ogolne[[#This Row],[sem6.godziny]]<$H$191,Tabela_ogolne[[#This Row],[sem6.forma]]="e"),1,AND(Tabela_ogolne[[#This Row],[sem6.godziny]]>=$H$191,Tabela_ogolne[[#This Row],[sem6.forma]]="z"),2,AND(Tabela_ogolne[[#This Row],[sem6.godziny]]<$H$191,Tabela_ogolne[[#This Row],[sem6.forma]]="z"),1,TRUE,""),"")} | AC23: {=IF(Tabela_ogolne[[#This Row],[czy.ects]]="TAK",_xlfn.IFS(AND(Tabela_ogolne[[#This Row],[sem7.godziny]]>=$Q$191,Tabela_ogolne[[#This Row],[sem7.forma]]="z"),8,AND(Tabela_ogolne[[#This Row],[sem7.godziny]]>=$I$191,Tabela_ogolne[[#This Row],[sem7.forma]]="z"),4,AND(Tabela_ogolne[[#This Row],[sem7.godziny]]>=$H$191,Tabela_ogolne[[#This Row],[sem7.forma]]="e"),2,AND(Tabela_ogolne[[#This Row],[sem7.godziny]]<$H$191,Tabela_ogolne[[#This Row],[sem7.forma]]="e"),1,AND(Tabela_ogolne[[#This Row],[sem7.godziny]]>=$H$191,Tabela_ogolne[[#This Row],[sem7.forma]]="z"),2,AND(Tabela_ogolne[[#This Row],[sem7.godziny]]<$H$191,Tabela_ogolne[[#This Row],[sem7.forma]]="z"),1,TRUE,""),"")} | AF23: {=IF(Tabela_ogolne[[#This Row],[czy.ects]]="TAK",_xlfn.IFS(AND(Tabela_ogolne[[#This Row],[sem8.godziny]]>=$Q$191,Tabela_ogolne[[#This Row],[sem8.forma]]="z"),8,AND(Tabela_ogolne[[#This Row],[sem8.godziny]]>=$I$191,Tabela_ogolne[[#This Row],[sem8.forma]]="z"),4,AND(Tabela_ogolne[[#This Row],[sem8.godziny]]>=$H$191,Tabela_ogolne[[#This Row],[sem8.forma]]="e"),2,AND(Tabela_ogolne[[#This Row],[sem8.godziny]]<$H$191,Tabela_ogolne[[#This Row],[sem8.forma]]="e"),1,AND(Tabela_ogolne[[#This Row],[sem8.godziny]]>=$H$191,Tabela_ogolne[[#This Row],[sem8.forma]]="z"),2,AND(Tabela_ogolne[[#This Row],[sem8.godziny]]<$H$191,Tabela_ogolne[[#This Row],[sem8.forma]]="z"),1,TRUE,""),"")} | AI23: {=IF(Tabela_ogolne[[#This Row],[czy.ects]]="TAK",_xlfn.IFS(AND(Tabela_ogolne[[#This Row],[sem9.godziny]]>=$Q$191,Tabela_ogolne[[#This Row],[sem9.forma]]="z"),8,AND(Tabela_ogolne[[#This Row],[sem9.godziny]]>=$I$191,Tabela_ogolne[[#This Row],[sem9.forma]]="z"),4,AND(Tabela_ogolne[[#This Row],[sem9.godziny]]>=$H$191,Tabela_ogolne[[#This Row],[sem9.forma]]="e"),2,AND(Tabela_ogolne[[#This Row],[sem9.godziny]]<$H$191,Tabela_ogolne[[#This Row],[sem9.forma]]="e"),1,AND(Tabela_ogolne[[#This Row],[sem9.godziny]]>=$H$191,Tabela_ogolne[[#This Row],[sem9.forma]]="z"),2,AND(Tabela_ogolne[[#This Row],[sem9.godziny]]<$H$191,Tabela_ogolne[[#This Row],[sem9.forma]]="z"),1,TRUE,""),"")} | AL23: {=IF(Tabela_ogolne[[#This Row],[czy.ects]]="TAK",_xlfn.IFS(AND(Tabela_ogolne[[#This Row],[sem10.godziny]]>=$Q$191,Tabela_ogolne[[#This Row],[sem10.forma]]="z"),8,AND(Tabela_ogolne[[#This Row],[sem10.godziny]]>=$I$191,Tabela_ogolne[[#This Row],[sem10.forma]]="z"),4,AND(Tabela_ogolne[[#This Row],[sem10.godziny]]>=$H$191,Tabela_ogolne[[#This Row],[sem10.forma]]="e"),2,AND(Tabela_ogolne[[#This Row],[sem10.godziny]]<$H$191,Tabela_ogolne[[#This Row],[sem10.forma]]="e"),1,AND(Tabela_ogolne[[#This Row],[sem10.godziny]]>=$H$191,Tabela_ogolne[[#This Row],[sem10.forma]]="z"),2,AND(Tabela_ogolne[[#This Row],[sem10.godziny]]<$H$191,Tabela_ogolne[[#This Row],[sem10.forma]]="z"),1,TRUE,""),"")} | AN23: =SUM(Tabela_ogolne[[#This Row],[sem1.ects]],Tabela_ogolne[[#This Row],[sem2.ects]],Tabela_ogolne[[#This Row],[sem3.ects]],Tabela_ogolne[[#This Row],[sem4.ects]],Tabela_ogolne[[#This Row],[sem5.ects]],Tabela_ogolne[[#This Row],[sem6.ects]],Tabela_ogolne[[#This Row],[sem7.ects]],Tabela_ogolne[[#This Row],[sem8.ects]],Tabela_ogolne[[#This Row],[sem9.ects]],Tabela_ogolne[[#This Row],[sem10.ects]]) -> 0 | AO23: =IF(ISERR(SEARCH("UP",Tabela_ogolne[[#This Row],[Umiej.prakt.]],1)),0,Tabela_ogolne[[#This Row],[ects.razem]]) -> 0 | AP23: =IF(Tabela_ogolne[[#This Row],[czy.ects]]="TAK",ROUND((SUM(Tabela_ogolne[[#This Row],[godziny.konsultacja]],Tabela_ogolne[[#This Row],[godziny.egzamin]],Tabela_ogolne[[#This Row],[godziny.zajec.razem]])/25)/0.5,0)*0.5,0) -> 0 | AQ23: =SUM(Tabela_ogolne[[#This Row],[godziny.samoksztalcenie]],Tabela_ogolne[[#This Row],[godziny.konsultacja]],Tabela_ogolne[[#This Row],[godziny.egzamin]],Tabela_ogolne[[#This Row],[godziny.zajec.razem]]) -> 10 | AR23: =INT(SUM(Tabela_ogolne[[#This Row],[godziny.konsultacja]],Tabela_ogolne[[#This Row],[godziny.egzamin]],Tabela_ogolne[[#This Row],[godziny.zajec.razem]])*0.5+Tabela_ogolne[[#This Row],[godziny.zajec.razem]]*(15-$G$191)/9) -> 3 | AS23: =INT(Tabela_ogolne[[#This Row],[godziny.zajec.razem]]*0.1) -> 0 | AT23: =IF(Tabela_ogolne[[#This Row],[godziny.zajec.razem]]>0,IF(Tabela_ogolne[[#This Row],[godziny.zajec.razem]]>=45,4,2),0) -> 2 | AU23: =SUM(Tabela_ogolne[[#This Row],[sem1.godziny]],Tabela_ogolne[[#This Row],[sem2.godziny]],Tabela_ogolne[[#This Row],[sem3.godziny]],Tabela_ogolne[[#This Row],[sem4.godziny]],Tabela_ogolne[[#This Row],[sem5.godziny]],Tabela_ogolne[[#This Row],[sem6.godziny]],Tabela_ogolne[[#This Row],[sem7.godziny]],Tabela_ogolne[[#This Row],[sem8.godziny]],Tabela_ogolne[[#This Row],[sem9.godziny]],Tabela_ogolne[[#This Row],[sem10.godziny]]) -> 5 | AV23: =IF(Tabela_ogolne[[#This Row],[ects.bezposr.nauczyciel]],Tabela_ogolne[[#This Row],[ects.bezposr.nauczyciel]]/Tabela_ogolne[[#This Row],[ects.razem]],0) -> 0
B24: 0322 | C24: 303 | D24: ou.08.1 | F24: Szkolenie biblioteczne | H24: instruktaż | I24: NIE | J24: 5 | K24: {=IF(Tabela_ogolne[[#This Row],[czy.ects]]="TAK",_xlfn.IFS(AND(Tabela_ogolne[[#This Row],[sem1.godziny]]>=$Q$191,Tabela_ogolne[[#This Row],[sem1.forma]]="z"),8,AND(Tabela_ogolne[[#This Row],[sem1.godziny]]>=$I$191,Tabela_ogolne[[#This Row],[sem1.forma]]="z"),4,AND(Tabela_ogolne[[#This Row],[sem1.godziny]]>=$H$191,Tabela_ogolne[[#This Row],[sem1.forma]]="e"),2,AND(Tabela_ogolne[[#This Row],[sem1.godziny]]<$H$191,Tabela_ogolne[[#This Row],[sem1.forma]]="e"),1,AND(Tabela_ogolne[[#This Row],[sem1.godziny]]>=$H$191,Tabela_ogolne[[#This Row],[sem1.forma]]="z"),2,AND(Tabela_ogolne[[#This Row],[sem1.godziny]]<$H$191,Tabela_ogolne[[#This Row],[sem1.forma]]="z"),1,TRUE,""),"")} | L24: b | N24: {=IF(Tabela_ogolne[[#This Row],[czy.ects]]="TAK",_xlfn.IFS(AND(Tabela_ogolne[[#This Row],[sem2.godziny]]>=$Q$191,Tabela_ogolne[[#This Row],[sem2.forma]]="z"),8,AND(Tabela_ogolne[[#This Row],[sem2.godziny]]>=$I$191,Tabela_ogolne[[#This Row],[sem2.forma]]="z"),4,AND(Tabela_ogolne[[#This Row],[sem2.godziny]]>=$H$191,Tabela_ogolne[[#This Row],[sem2.forma]]="e"),2,AND(Tabela_ogolne[[#This Row],[sem2.godziny]]<$H$191,Tabela_ogolne[[#This Row],[sem2.forma]]="e"),1,AND(Tabela_ogolne[[#This Row],[sem2.godziny]]>=$H$191,Tabela_ogolne[[#This Row],[sem2.forma]]="z"),2,AND(Tabela_ogolne[[#This Row],[sem2.godziny]]<$H$191,Tabela_ogolne[[#This Row],[sem2.forma]]="z"),1,TRUE,""),"")} | Q24: {=IF(Tabela_ogolne[[#This Row],[czy.ects]]="TAK",_xlfn.IFS(AND(Tabela_ogolne[[#This Row],[sem3.godziny]]>=$Q$191,Tabela_ogolne[[#This Row],[sem3.forma]]="z"),8,AND(Tabela_ogolne[[#This Row],[sem3.godziny]]>=$I$191,Tabela_ogolne[[#This Row],[sem3.forma]]="z"),4,AND(Tabela_ogolne[[#This Row],[sem3.godziny]]>=$H$191,Tabela_ogolne[[#This Row],[sem3.forma]]="e"),2,AND(Tabela_ogolne[[#This Row],[sem3.godziny]]<$H$191,Tabela_ogolne[[#This Row],[sem3.forma]]="e"),1,AND(Tabela_ogolne[[#This Row],[sem3.godziny]]>=$H$191,Tabela_ogolne[[#This Row],[sem3.forma]]="z"),2,AND(Tabela_ogolne[[#This Row],[sem3.godziny]]<$H$191,Tabela_ogolne[[#This Row],[sem3.forma]]="z"),1,TRUE,""),"")} | T24: {=IF(Tabela_ogolne[[#This Row],[czy.ects]]="TAK",_xlfn.IFS(AND(Tabela_ogolne[[#This Row],[sem4.godziny]]>=$Q$191,Tabela_ogolne[[#This Row],[sem4.forma]]="z"),8,AND(Tabela_ogolne[[#This Row],[sem4.godziny]]>=$I$191,Tabela_ogolne[[#This Row],[sem4.forma]]="z"),4,AND(Tabela_ogolne[[#This Row],[sem4.godziny]]>=$H$191,Tabela_ogolne[[#This Row],[sem4.forma]]="e"),2,AND(Tabela_ogolne[[#This Row],[sem4.godziny]]<$H$191,Tabela_ogolne[[#This Row],[sem4.forma]]="e"),1,AND(Tabela_ogolne[[#This Row],[sem4.godziny]]>=$H$191,Tabela_ogolne[[#This Row],[sem4.forma]]="z"),2,AND(Tabela_ogolne[[#This Row],[sem4.godziny]]<$H$191,Tabela_ogolne[[#This Row],[sem4.forma]]="z"),1,TRUE,""),"")} | W24: {=IF(Tabela_ogolne[[#This Row],[czy.ects]]="TAK",_xlfn.IFS(AND(Tabela_ogolne[[#This Row],[sem5.godziny]]>=$Q$191,Tabela_ogolne[[#This Row],[sem5.forma]]="z"),8,AND(Tabela_ogolne[[#This Row],[sem5.godziny]]>=$I$191,Tabela_ogolne[[#This Row],[sem5.forma]]="z"),4,AND(Tabela_ogolne[[#This Row],[sem5.godziny]]>=$H$191,Tabela_ogolne[[#This Row],[sem5.forma]]="e"),2,AND(Tabela_ogolne[[#This Row],[sem5.godziny]]<$H$191,Tabela_ogolne[[#This Row],[sem5.forma]]="e"),1,AND(Tabela_ogolne[[#This Row],[sem5.godziny]]>=$H$191,Tabela_ogolne[[#This Row],[sem5.forma]]="z"),2,AND(Tabela_ogolne[[#This Row],[sem5.godziny]]<$H$191,Tabela_ogolne[[#This Row],[sem5.forma]]="z"),1,TRUE,""),"")} | Z24: {=IF(Tabela_ogolne[[#This Row],[czy.ects]]="TAK",_xlfn.IFS(AND(Tabela_ogolne[[#This Row],[sem6.godziny]]>=$Q$191,Tabela_ogolne[[#This Row],[sem6.forma]]="z"),8,AND(Tabela_ogolne[[#This Row],[sem6.godziny]]>=$I$191,Tabela_ogolne[[#This Row],[sem6.forma]]="z"),4,AND(Tabela_ogolne[[#This Row],[sem6.godziny]]>=$H$191,Tabela_ogolne[[#This Row],[sem6.forma]]="e"),2,AND(Tabela_ogolne[[#This Row],[sem6.godziny]]<$H$191,Tabela_ogolne[[#This Row],[sem6.forma]]="e"),1,AND(Tabela_ogolne[[#This Row],[sem6.godziny]]>=$H$191,Tabela_ogolne[[#This Row],[sem6.forma]]="z"),2,AND(Tabela_ogolne[[#This Row],[sem6.godziny]]<$H$191,Tabela_ogolne[[#This Row],[sem6.forma]]="z"),1,TRUE,""),"")} | AC24: {=IF(Tabela_ogolne[[#This Row],[czy.ects]]="TAK",_xlfn.IFS(AND(Tabela_ogolne[[#This Row],[sem7.godziny]]>=$Q$191,Tabela_ogolne[[#This Row],[sem7.forma]]="z"),8,AND(Tabela_ogolne[[#This Row],[sem7.godziny]]>=$I$191,Tabela_ogolne[[#This Row],[sem7.forma]]="z"),4,AND(Tabela_ogolne[[#This Row],[sem7.godziny]]>=$H$191,Tabela_ogolne[[#This Row],[sem7.forma]]="e"),2,AND(Tabela_ogolne[[#This Row],[sem7.godziny]]<$H$191,Tabela_ogolne[[#This Row],[sem7.forma]]="e"),1,AND(Tabela_ogolne[[#This Row],[sem7.godziny]]>=$H$191,Tabela_ogolne[[#This Row],[sem7.forma]]="z"),2,AND(Tabela_ogolne[[#This Row],[sem7.godziny]]<$H$191,Tabela_ogolne[[#This Row],[sem7.forma]]="z"),1,TRUE,""),"")} | AF24: {=IF(Tabela_ogolne[[#This Row],[czy.ects]]="TAK",_xlfn.IFS(AND(Tabela_ogolne[[#This Row],[sem8.godziny]]>=$Q$191,Tabela_ogolne[[#This Row],[sem8.forma]]="z"),8,AND(Tabela_ogolne[[#This Row],[sem8.godziny]]>=$I$191,Tabela_ogolne[[#This Row],[sem8.forma]]="z"),4,AND(Tabela_ogolne[[#This Row],[sem8.godziny]]>=$H$191,Tabela_ogolne[[#This Row],[sem8.forma]]="e"),2,AND(Tabela_ogolne[[#This Row],[sem8.godziny]]<$H$191,Tabela_ogolne[[#This Row],[sem8.forma]]="e"),1,AND(Tabela_ogolne[[#This Row],[sem8.godziny]]>=$H$191,Tabela_ogolne[[#This Row],[sem8.forma]]="z"),2,AND(Tabela_ogolne[[#This Row],[sem8.godziny]]<$H$191,Tabela_ogolne[[#This Row],[sem8.forma]]="z"),1,TRUE,""),"")} | AI24: {=IF(Tabela_ogolne[[#This Row],[czy.ects]]="TAK",_xlfn.IFS(AND(Tabela_ogolne[[#This Row],[sem9.godziny]]>=$Q$191,Tabela_ogolne[[#This Row],[sem9.forma]]="z"),8,AND(Tabela_ogolne[[#This Row],[sem9.godziny]]>=$I$191,Tabela_ogolne[[#This Row],[sem9.forma]]="z"),4,AND(Tabela_ogolne[[#This Row],[sem9.godziny]]>=$H$191,Tabela_ogolne[[#This Row],[sem9.forma]]="e"),2,AND(Tabela_ogolne[[#This Row],[sem9.godziny]]<$H$191,Tabela_ogolne[[#This Row],[sem9.forma]]="e"),1,AND(Tabela_ogolne[[#This Row],[sem9.godziny]]>=$H$191,Tabela_ogolne[[#This Row],[sem9.forma]]="z"),2,AND(Tabela_ogolne[[#This Row],[sem9.godziny]]<$H$191,Tabela_ogolne[[#This Row],[sem9.forma]]="z"),1,TRUE,""),"")} | AL24: {=IF(Tabela_ogolne[[#This Row],[czy.ects]]="TAK",_xlfn.IFS(AND(Tabela_ogolne[[#This Row],[sem10.godziny]]>=$Q$191,Tabela_ogolne[[#This Row],[sem10.forma]]="z"),8,AND(Tabela_ogolne[[#This Row],[sem10.godziny]]>=$I$191,Tabela_ogolne[[#This Row],[sem10.forma]]="z"),4,AND(Tabela_ogolne[[#This Row],[sem10.godziny]]>=$H$191,Tabela_ogolne[[#This Row],[sem10.forma]]="e"),2,AND(Tabela_ogolne[[#This Row],[sem10.godziny]]<$H$191,Tabela_ogolne[[#This Row],[sem10.forma]]="e"),1,AND(Tabela_ogolne[[#This Row],[sem10.godziny]]>=$H$191,Tabela_ogolne[[#This Row],[sem10.forma]]="z"),2,AND(Tabela_ogolne[[#This Row],[sem10.godziny]]<$H$191,Tabela_ogolne[[#This Row],[sem10.forma]]="z"),1,TRUE,""),"")} | AN24: =SUM(Tabela_ogolne[[#This Row],[sem1.ects]],Tabela_ogolne[[#This Row],[sem2.ects]],Tabela_ogolne[[#This Row],[sem3.ects]],Tabela_ogolne[[#This Row],[sem4.ects]],Tabela_ogolne[[#This Row],[sem5.ects]],Tabela_ogolne[[#This Row],[sem6.ects]],Tabela_ogolne[[#This Row],[sem7.ects]],Tabela_ogolne[[#This Row],[sem8.ects]],Tabela_ogolne[[#This Row],[sem9.ects]],Tabela_ogolne[[#This Row],[sem10.ects]]) -> 0 | AO24: =IF(ISERR(SEARCH("UP",Tabela_ogolne[[#This Row],[Umiej.prakt.]],1)),0,Tabela_ogolne[[#This Row],[ects.razem]]) -> 0 | AP24: =IF(Tabela_ogolne[[#This Row],[czy.ects]]="TAK",ROUND((SUM(Tabela_ogolne[[#This Row],[godziny.konsultacja]],Tabela_ogolne[[#This Row],[godziny.egzamin]],Tabela_ogolne[[#This Row],[godziny.zajec.razem]])/25)/0.5,0)*0.5,0) -> 0 | AQ24: =SUM(Tabela_ogolne[[#This Row],[godziny.samoksztalcenie]],Tabela_ogolne[[#This Row],[godziny.konsultacja]],Tabela_ogolne[[#This Row],[godziny.egzamin]],Tabela_ogolne[[#This Row],[godziny.zajec.razem]]) -> 10 | AR24: =INT(SUM(Tabela_ogolne[[#This Row],[godziny.konsultacja]],Tabela_ogolne[[#This Row],[godziny.egzamin]],Tabela_ogolne[[#This Row],[godziny.zajec.razem]])*0.5+Tabela_ogolne[[#This Row],[godziny.zajec.razem]]*(15-$G$191)/9) -> 3 | AS24: =INT(Tabela_ogolne[[#This Row],[godziny.zajec.razem]]*0.1) -> 0 | AT24: =IF(Tabela_ogolne[[#This Row],[godziny.zajec.razem]]>0,IF(Tabela_ogolne[[#This Row],[godziny.zajec.razem]]>=45,4,2),0) -> 2 | AU24: =SUM(Tabela_ogolne[[#This Row],[sem1.godziny]],Tabela_ogolne[[#This Row],[sem2.godziny]],Tabela_ogolne[[#This Row],[sem3.godziny]],Tabela_ogolne[[#This Row],[sem4.godziny]],Tabela_ogolne[[#This Row],[sem5.godziny]],Tabela_ogolne[[#This Row],[sem6.godziny]],Tabela_ogolne[[#This Row],[sem7.godziny]],Tabela_ogolne[[#This Row],[sem8.godziny]],Tabela_ogolne[[#This Row],[sem9.godziny]],Tabela_ogolne[[#This Row],[sem10.godziny]]) -> 5 | AV24: =IF(Tabela_ogolne[[#This Row],[ects.bezposr.nauczyciel]],Tabela_ogolne[[#This Row],[ects.bezposr.nauczyciel]]/Tabela_ogolne[[#This Row],[ects.razem]],0) -> 0
B26: PRZEDMIOTY PODSTAWOWE
B27: RAZEM W GRUPIE PRZEDMIOTÓW PODSTAWOWYCH | J27: =SUM(Tabela_podst[sem1.godziny]) -> 195 | K27: =SUM(Tabela_podst[sem1.ects]) -> 18 | M27: =SUM(Tabela_podst[sem2.godziny]) -> 60 | N27: =SUM(Tabela_podst[sem2.ects]) -> 5 | P27: =SUM(Tabela_podst[sem3.godziny]) -> 0 | Q27: =SUM(Tabela_podst[sem3.ects]) -> 0 | S27: =SUM(Tabela_podst[sem4.godziny]) -> 0 | T27: =SUM(Tabela_podst[sem4.ects]) -> 0 | V27: =SUM(Tabela_podst[sem5.godziny]) -> 30 | W27: =SUM(Tabela_podst[sem5.ects]) -> 2 | Y27: =SUM(Tabela_podst[sem6.godziny]) -> 0 | Z27: =SUM(Tabela_podst[sem6.ects]) -> 0 | AB27: =SUM(Tabela_podst[sem7.godziny]) -> 0 | AC27: =SUM(Tabela_podst[sem7.ects]) -> 0 | AE27: =SUM(Tabela_podst[sem8.godziny]) -> 0 | AF27: =SUM(Tabela_podst[sem8.ects]) -> 0 | AH27: =SUM(Tabela_podst[sem9.godziny]) -> 0 | AI27: =SUM(Tabela_podst[sem9.ects]) -> 0 | AK27: =SUM(Tabela_podst[sem10.godziny]) -> 0 | AL27: =SUM(Tabela_podst[sem10.ects]) -> 0 | AN27: =SUM(Tabela_podst[ects.razem]) -> 25 | AO27: =SUM(Tabela_podst[ects.umiej.prakt.]) -> 6 | AP27: =SUM(Tabela_podst[ects.bezposr.nauczyciel]) -> 12.5 | AQ27: =SUM(Tabela_podst[godziny.razem.student]) -> 501 | AR27: =SUM(Tabela_podst[godziny.samoksztalcenie]) -> 165 | AS27: =SUM(Tabela_podst[godziny.konsultacja]) -> 25 | AT27: =SUM(Tabela_podst[godziny.egzamin]) -> 26 | AU27: =SUM(Tabela_podst[godziny.zajec.razem]) -> 285
B28: kod.isced | C28: kod.dziedziny | D28: Modul | E28: Umiej.prakt. | F28: Nazwa przedmiotu | G28: Prowadzacy | H28: Forma | I28: czy.ects | J28: sem1.godziny | K28: sem1.ects | L28: sem1.forma | M28: sem2.godziny | N28: sem2.ects | O28: sem2.forma | P28: sem3.godziny | Q28: sem3.ects | R28: sem3.forma | S28: sem4.godziny | T28: sem4.ects | U28: sem4.forma | V28: sem5.godziny | W28: sem5.ects | X28: sem5.forma | Y28: sem6.godziny | Z28: sem6.ects | AA28: sem6.forma | AB28: sem7.godziny | AC28: sem7.ects | AD28: sem7.forma | AE28: sem8.godziny | AF28: sem8.ects | AG28: sem8.forma | AH28: sem9.godziny | AI28: sem9.ects | AJ28: sem9.forma | AK28: sem10.godziny | AL28: sem10.ects | AM28: sem10.forma | AN28: ects.razem | AO28: ects.umiej.prakt. | AP28: ects.bezposr.nauczyciel | AQ28: godziny.razem.student | AR28: godziny.samoksztalcenie | AS28: godziny.konsultacja | AT28: godziny.egzamin | AU28: godziny.zajec.razem | AV28: ects.bezpos.kontakt.procent
B29: 0311 | C29: 501 | D29: pd.01.1 | F29: Makroekonomia | H29: wykład | I29: TAK | J29: 15 | K29: {=IF(Tabela_podst[[#This Row],[czy.ects]]="TAK",_xlfn.IFS(AND(Tabela_podst[[#This Row],[sem1.godziny]]>=$Q$194,Tabela_podst[[#This Row],[sem1.forma]]="z"),8,AND(Tabela_podst[[#This Row],[sem1.godziny]]>=$I$194,Tabela_podst[[#This Row],[sem1.forma]]="z"),4,AND(Tabela_podst[[#This Row],[sem1.godziny]]>=$H$194,Tabela_podst[[#This Row],[sem1.forma]]="e"),2,AND(Tabela_podst[[#This Row],[sem1.godziny]]<$H$194,Tabela_podst[[#This Row],[sem1.forma]]="e"),1,AND(Tabela_podst[[#This Row],[sem1.godziny]]>=$H$194,Tabela_podst[[#This Row],[sem1.forma]]="z"),2,AND(Tabela_podst[[#This Row],[sem1.godziny]]<$H$194,Tabela_podst[[#This Row],[sem1.forma]]="z"),1,TRUE,""),"")} -> 1 | L29: e | N29: {=IF(Tabela_podst[[#This Row],[czy.ects]]="TAK",_xlfn.IFS(AND(Tabela_podst[[#This Row],[sem2.godziny]]>=$Q$194,Tabela_podst[[#This Row],[sem2.forma]]="z"),8,AND(Tabela_podst[[#This Row],[sem2.godziny]]>=$I$194,Tabela_podst[[#This Row],[sem2.forma]]="z"),4,AND(Tabela_podst[[#This Row],[sem2.godziny]]>=$H$194,Tabela_podst[[#This Row],[sem2.forma]]="e"),2,AND(Tabela_podst[[#This Row],[sem2.godziny]]<$H$194,Tabela_podst[[#This Row],[sem2.forma]]="e"),1,AND(Tabela_podst[[#This Row],[sem2.godziny]]>=$H$194,Tabela_podst[[#This Row],[sem2.forma]]="z"),2,AND(Tabela_podst[[#This Row],[sem2.godziny]]<$H$194,Tabela_podst[[#This Row],[sem2.forma]]="z"),1,TRUE,""),"")} | Q29: {=IF(Tabela_podst[[#This Row],[czy.ects]]="TAK",_xlfn.IFS(AND(Tabela_podst[[#This Row],[sem3.godziny]]>=$Q$194,Tabela_podst[[#This Row],[sem3.forma]]="z"),8,AND(Tabela_podst[[#This Row],[sem3.godziny]]>=$I$194,Tabela_podst[[#This Row],[sem3.forma]]="z"),4,AND(Tabela_podst[[#This Row],[sem3.godziny]]>=$H$194,Tabela_podst[[#This Row],[sem3.forma]]="e"),2,AND(Tabela_podst[[#This Row],[sem3.godziny]]<$H$194,Tabela_podst[[#This Row],[sem3.forma]]="e"),1,AND(Tabela_podst[[#This Row],[sem3.godziny]]>=$H$194,Tabela_podst[[#This Row],[sem3.forma]]="z"),2,AND(Tabela_podst[[#This Row],[sem3.godziny]]<$H$194,Tabela_podst[[#This Row],[sem3.forma]]="z"),1,TRUE,""),"")} | T29: {=IF(Tabela_podst[[#This Row],[czy.ects]]="TAK",_xlfn.IFS(AND(Tabela_podst[[#This Row],[sem4.godziny]]>=$Q$194,Tabela_podst[[#This Row],[sem4.forma]]="z"),8,AND(Tabela_podst[[#This Row],[sem4.godziny]]>=$I$194,Tabela_podst[[#This Row],[sem4.forma]]="z"),4,AND(Tabela_podst[[#This Row],[sem4.godziny]]>=$H$194,Tabela_podst[[#This Row],[sem4.forma]]="e"),2,AND(Tabela_podst[[#This Row],[sem4.godziny]]<$H$194,Tabela_podst[[#This Row],[sem4.forma]]="e"),1,AND(Tabela_podst[[#This Row],[sem4.godziny]]>=$H$194,Tabela_podst[[#This Row],[sem4.forma]]="z"),2,AND(Tabela_podst[[#This Row],[sem4.godziny]]<$H$194,Tabela_podst[[#This Row],[sem4.forma]]="z"),1,TRUE,""),"")} | W29: {=IF(Tabela_podst[[#This Row],[czy.ects]]="TAK",_xlfn.IFS(AND(Tabela_podst[[#This Row],[sem5.godziny]]>=$Q$194,Tabela_podst[[#This Row],[sem5.forma]]="z"),8,AND(Tabela_podst[[#This Row],[sem5.godziny]]>=$I$194,Tabela_podst[[#This Row],[sem5.forma]]="z"),4,AND(Tabela_podst[[#This Row],[sem5.godziny]]>=$H$194,Tabela_podst[[#This Row],[sem5.forma]]="e"),2,AND(Tabela_podst[[#This Row],[sem5.godziny]]<$H$194,Tabela_podst[[#This Row],[sem5.forma]]="e"),1,AND(Tabela_podst[[#This Row],[sem5.godziny]]>=$H$194,Tabela_podst[[#This Row],[sem5.forma]]="z"),2,AND(Tabela_podst[[#This Row],[sem5.godziny]]<$H$194,Tabela_podst[[#This Row],[sem5.forma]]="z"),1,TRUE,""),"")} | Z29: {=IF(Tabela_podst[[#This Row],[czy.ects]]="TAK",_xlfn.IFS(AND(Tabela_podst[[#This Row],[sem6.godziny]]>=$Q$194,Tabela_podst[[#This Row],[sem6.forma]]="z"),8,AND(Tabela_podst[[#This Row],[sem6.godziny]]>=$I$194,Tabela_podst[[#This Row],[sem6.forma]]="z"),4,AND(Tabela_podst[[#This Row],[sem6.godziny]]>=$H$194,Tabela_podst[[#This Row],[sem6.forma]]="e"),2,AND(Tabela_podst[[#This Row],[sem6.godziny]]<$H$194,Tabela_podst[[#This Row],[sem6.forma]]="e"),1,AND(Tabela_podst[[#This Row],[sem6.godziny]]>=$H$194,Tabela_podst[[#This Row],[sem6.forma]]="z"),2,AND(Tabela_podst[[#This Row],[sem6.godziny]]<$H$194,Tabela_podst[[#This Row],[sem6.forma]]="z"),1,TRUE,""),"")} | AC29: {=IF(Tabela_podst[[#This Row],[czy.ects]]="TAK",_xlfn.IFS(AND(Tabela_podst[[#This Row],[sem7.godziny]]>=$Q$194,Tabela_podst[[#This Row],[sem7.forma]]="z"),8,AND(Tabela_podst[[#This Row],[sem7.godziny]]>=$I$194,Tabela_podst[[#This Row],[sem7.forma]]="z"),4,AND(Tabela_podst[[#This Row],[sem7.godziny]]>=$H$194,Tabela_podst[[#This Row],[sem7.forma]]="e"),2,AND(Tabela_podst[[#This Row],[sem7.godziny]]<$H$194,Tabela_podst[[#This Row],[sem7.forma]]="e"),1,AND(Tabela_podst[[#This Row],[sem7.godziny]]>=$H$194,Tabela_podst[[#This Row],[sem7.forma]]="z"),2,AND(Tabela_podst[[#This Row],[sem7.godziny]]<$H$194,Tabela_podst[[#This Row],[sem7.forma]]="z"),1,TRUE,""),"")} | AF29: {=IF(Tabela_podst[[#This Row],[czy.ects]]="TAK",_xlfn.IFS(AND(Tabela_podst[[#This Row],[sem8.godziny]]>=$Q$194,Tabela_podst[[#This Row],[sem8.forma]]="z"),8,AND(Tabela_podst[[#This Row],[sem8.godziny]]>=$I$194,Tabela_podst[[#This Row],[sem8.forma]]="z"),4,AND(Tabela_podst[[#This Row],[sem8.godziny]]>=$H$194,Tabela_podst[[#This Row],[sem8.forma]]="e"),2,AND(Tabela_podst[[#This Row],[sem8.godziny]]<$H$194,Tabela_podst[[#This Row],[sem8.forma]]="e"),1,AND(Tabela_podst[[#This Row],[sem8.godziny]]>=$H$194,Tabela_podst[[#This Row],[sem8.forma]]="z"),2,AND(Tabela_podst[[#This Row],[sem8.godziny]]<$H$194,Tabela_podst[[#This Row],[sem8.forma]]="z"),1,TRUE,""),"")} | AI29: {=IF(Tabela_podst[[#This Row],[czy.ects]]="TAK",_xlfn.IFS(AND(Tabela_podst[[#This Row],[sem9.godziny]]>=$Q$194,Tabela_podst[[#This Row],[sem9.forma]]="z"),8,AND(Tabela_podst[[#This Row],[sem9.godziny]]>=$I$194,Tabela_podst[[#This Row],[sem9.forma]]="z"),4,AND(Tabela_podst[[#This Row],[sem9.godziny]]>=$H$194,Tabela_podst[[#This Row],[sem9.forma]]="e"),2,AND(Tabela_podst[[#This Row],[sem9.godziny]]<$H$194,Tabela_podst[[#This Row],[sem9.forma]]="e"),1,AND(Tabela_podst[[#This Row],[sem9.godziny]]>=$H$194,Tabela_podst[[#This Row],[sem9.forma]]="z"),2,AND(Tabela_podst[[#This Row],[sem9.godziny]]<$H$194,Tabela_podst[[#This Row],[sem9.forma]]="z"),1,TRUE,""),"")} | AL29: {=IF(Tabela_podst[[#This Row],[czy.ects]]="TAK",_xlfn.IFS(AND(Tabela_podst[[#This Row],[sem10.godziny]]>=$Q$194,Tabela_podst[[#This Row],[sem10.forma]]="z"),8,AND(Tabela_podst[[#This Row],[sem10.godziny]]>=$I$194,Tabela_podst[[#This Row],[sem10.forma]]="z"),4,AND(Tabela_podst[[#This Row],[sem10.godziny]]>=$H$194,Tabela_podst[[#This Row],[sem10.forma]]="e"),2,AND(Tabela_podst[[#This Row],[sem10.godziny]]<$H$194,Tabela_podst[[#This Row],[sem10.forma]]="e"),1,AND(Tabela_podst[[#This Row],[sem10.godziny]]>=$H$194,Tabela_podst[[#This Row],[sem10.forma]]="z"),2,AND(Tabela_podst[[#This Row],[sem10.godziny]]<$H$194,Tabela_podst[[#This Row],[sem10.forma]]="z"),1,TRUE,""),"")} | AN29: =SUM(Tabela_podst[[#This Row],[sem1.ects]],Tabela_podst[[#This Row],[sem2.ects]],Tabela_podst[[#This Row],[sem3.ects]],Tabela_podst[[#This Row],[sem4.ects]],Tabela_podst[[#This Row],[sem5.ects]],Tabela_podst[[#This Row],[sem6.ects]],Tabela_podst[[#This Row],[sem7.ects]],Tabela_podst[[#This Row],[sem8.ects]],Tabela_podst[[#This Row],[sem9.ects]],Tabela_podst[[#This Row],[sem10.ects]]) -> 1 | AO29: =IF(ISERR(SEARCH("UP",Tabela_podst[[#This Row],[Umiej.prakt.]],1)),0,Tabela_podst[[#This Row],[ects.razem]]) -> 0 | AP29: =IF(Tabela_podst[[#This Row],[czy.ects]]="TAK",ROUND((SUM(Tabela_podst[[#This Row],[godziny.konsultacja]],Tabela_podst[[#This Row],[godziny.egzamin]],Tabela_podst[[#This Row],[godziny.zajec.razem]])/25)/0.5,0)*0.5,0) -> 0.5 | AQ29: =SUM(Tabela_podst[[#This Row],[godziny.samoksztalcenie]],Tabela_podst[[#This Row],[godziny.konsultacja]],Tabela_podst[[#This Row],[godziny.egzamin]],Tabela_podst[[#This Row],[godziny.zajec.razem]]) -> 27 | AR29: =INT(SUM(Tabela_podst[[#This Row],[godziny.konsultacja]],Tabela_podst[[#This Row],[godziny.egzamin]],Tabela_podst[[#This Row],[godziny.zajec.razem]])*0.5+Tabela_podst[[#This Row],[godziny.zajec.razem]]*(15-$G$194)/9) -> 9 | AS29: =INT(Tabela_podst[[#This Row],[godziny.zajec.razem]]*0.1) -> 1 | AT29: =IF(Tabela_podst[[#This Row],[godziny.zajec.razem]]>0,IF(Tabela_podst[[#This Row],[godziny.zajec.razem]]>=45,4,2),0) -> 2 | AU29: =SUM(Tabela_podst[[#This Row],[sem1.godziny]],Tabela_podst[[#This Row],[sem2.godziny]],Tabela_podst[[#This Row],[sem3.godziny]],Tabela_podst[[#This Row],[sem4.godziny]],Tabela_podst[[#This Row],[sem5.godziny]],Tabela_podst[[#This Row],[sem6.godziny]],Tabela_podst[[#This Row],[sem7.godziny]],Tabela_podst[[#This Row],[sem8.godziny]],Tabela_podst[[#This Row],[sem9.godziny]],Tabela_podst[[#This Row],[sem10.godziny]]) -> 15 | AV29: =IF(Tabela_podst[[#This Row],[ects.bezposr.nauczyciel]],Tabela_podst[[#This Row],[ects.bezposr.nauczyciel]]/Tabela_podst[[#This Row],[ects.razem]],0) -> 0.5
B30: 0311 | C30: 501 | D30: pd.01.2 | F30: Makroekonomia | H30: ćwiczenia | I30: TAK | J30: 30 | K30: 3 | L30: z | N30: {=IF(Tabela_podst[[#This Row],[czy.ects]]="TAK",_xlfn.IFS(AND(Tabela_podst[[#This Row],[sem2.godziny]]>=$Q$194,Tabela_podst[[#This Row],[sem2.forma]]="z"),8,AND(Tabela_podst[[#This Row],[sem2.godziny]]>=$I$194,Tabela_podst[[#This Row],[sem2.forma]]="z"),4,AND(Tabela_podst[[#This Row],[sem2.godziny]]>=$H$194,Tabela_podst[[#This Row],[sem2.forma]]="e"),2,AND(Tabela_podst[[#This Row],[sem2.godziny]]<$H$194,Tabela_podst[[#This Row],[sem2.forma]]="e"),1,AND(Tabela_podst[[#This Row],[sem2.godziny]]>=$H$194,Tabela_podst[[#This Row],[sem2.forma]]="z"),2,AND(Tabela_podst[[#This Row],[sem2.godziny]]<$H$194,Tabela_podst[[#This Row],[sem2.forma]]="z"),1,TRUE,""),"")} | Q30: {=IF(Tabela_podst[[#This Row],[czy.ects]]="TAK",_xlfn.IFS(AND(Tabela_podst[[#This Row],[sem3.godziny]]>=$Q$194,Tabela_podst[[#This Row],[sem3.forma]]="z"),8,AND(Tabela_podst[[#This Row],[sem3.godziny]]>=$I$194,Tabela_podst[[#This Row],[sem3.forma]]="z"),4,AND(Tabela_podst[[#This Row],[sem3.godziny]]>=$H$194,Tabela_podst[[#This Row],[sem3.forma]]="e"),2,AND(Tabela_podst[[#This Row],[sem3.godziny]]<$H$194,Tabela_podst[[#This Row],[sem3.forma]]="e"),1,AND(Tabela_podst[[#This Row],[sem3.godziny]]>=$H$194,Tabela_podst[[#This Row],[sem3.forma]]="z"),2,AND(Tabela_podst[[#This Row],[sem3.godziny]]<$H$194,Tabela_podst[[#This Row],[sem3.forma]]="z"),1,TRUE,""),"")} | T30: {=IF(Tabela_podst[[#This Row],[czy.ects]]="TAK",_xlfn.IFS(AND(Tabela_podst[[#This Row],[sem4.godziny]]>=$Q$194,Tabela_podst[[#This Row],[sem4.forma]]="z"),8,AND(Tabela_podst[[#This Row],[sem4.godziny]]>=$I$194,Tabela_podst[[#This Row],[sem4.forma]]="z"),4,AND(Tabela_podst[[#This Row],[sem4.godziny]]>=$H$194,Tabela_podst[[#This Row],[sem4.forma]]="e"),2,AND(Tabela_podst[[#This Row],[sem4.godziny]]<$H$194,Tabela_podst[[#This Row],[sem4.forma]]="e"),1,AND(Tabela_podst[[#This Row],[sem4.godziny]]>=$H$194,Tabela_podst[[#This Row],[sem4.forma]]="z"),2,AND(Tabela_podst[[#This Row],[sem4.godziny]]<$H$194,Tabela_podst[[#This Row],[sem4.forma]]="z"),1,TRUE,""),"")} | W30: {=IF(Tabela_podst[[#This Row],[czy.ects]]="TAK",_xlfn.IFS(AND(Tabela_podst[[#This Row],[sem5.godziny]]>=$Q$194,Tabela_podst[[#This Row],[sem5.forma]]="z"),8,AND(Tabela_podst[[#This Row],[sem5.godziny]]>=$I$194,Tabela_podst[[#This Row],[sem5.forma]]="z"),4,AND(Tabela_podst[[#This Row],[sem5.godziny]]>=$H$194,Tabela_podst[[#This Row],[sem5.forma]]="e"),2,AND(Tabela_podst[[#This Row],[sem5.godziny]]<$H$194,Tabela_podst[[#This Row],[sem5.forma]]="e"),1,AND(Tabela_podst[[#This Row],[sem5.godziny]]>=$H$194,Tabela_podst[[#This Row],[sem5.forma]]="z"),2,AND(Tabela_podst[[#This Row],[sem5.godziny]]<$H$194,Tabela_podst[[#This Row],[sem5.forma]]="z"),1,TRUE,""),"")} | Z30: {=IF(Tabela_podst[[#This Row],[czy.ects]]="TAK",_xlfn.IFS(AND(Tabela_podst[[#This Row],[sem6.godziny]]>=$Q$194,Tabela_podst[[#This Row],[sem6.forma]]="z"),8,AND(Tabela_podst[[#This Row],[sem6.godziny]]>=$I$194,Tabela_podst[[#This Row],[sem6.forma]]="z"),4,AND(Tabela_podst[[#This Row],[sem6.godziny]]>=$H$194,Tabela_podst[[#This Row],[sem6.forma]]="e"),2,AND(Tabela_podst[[#This Row],[sem6.godziny]]<$H$194,Tabela_podst[[#This Row],[sem6.forma]]="e"),1,AND(Tabela_podst[[#This Row],[sem6.godziny]]>=$H$194,Tabela_podst[[#This Row],[sem6.forma]]="z"),2,AND(Tabela_podst[[#This Row],[sem6.godziny]]<$H$194,Tabela_podst[[#This Row],[sem6.forma]]="z"),1,TRUE,""),"")} | AC30: {=IF(Tabela_podst[[#This Row],[czy.ects]]="TAK",_xlfn.IFS(AND(Tabela_podst[[#This Row],[sem7.godziny]]>=$Q$194,Tabela_podst[[#This Row],[sem7.forma]]="z"),8,AND(Tabela_podst[[#This Row],[sem7.godziny]]>=$I$194,Tabela_podst[[#This Row],[sem7.forma]]="z"),4,AND(Tabela_podst[[#This Row],[sem7.godziny]]>=$H$194,Tabela_podst[[#This Row],[sem7.forma]]="e"),2,AND(Tabela_podst[[#This Row],[sem7.godziny]]<$H$194,Tabela_podst[[#This Row],[sem7.forma]]="e"),1,AND(Tabela_podst[[#This Row],[sem7.godziny]]>=$H$194,Tabela_podst[[#This Row],[sem7.forma]]="z"),2,AND(Tabela_podst[[#This Row],[sem7.godziny]]<$H$194,Tabela_podst[[#This Row],[sem7.forma]]="z"),1,TRUE,""),"")} | AF30: {=IF(Tabela_podst[[#This Row],[czy.ects]]="TAK",_xlfn.IFS(AND(Tabela_podst[[#This Row],[sem8.godziny]]>=$Q$194,Tabela_podst[[#This Row],[sem8.forma]]="z"),8,AND(Tabela_podst[[#This Row],[sem8.godziny]]>=$I$194,Tabela_podst[[#This Row],[sem8.forma]]="z"),4,AND(Tabela_podst[[#This Row],[sem8.godziny]]>=$H$194,Tabela_podst[[#This Row],[sem8.forma]]="e"),2,AND(Tabela_podst[[#This Row],[sem8.godziny]]<$H$194,Tabela_podst[[#This Row],[sem8.forma]]="e"),1,AND(Tabela_podst[[#This Row],[sem8.godziny]]>=$H$194,Tabela_podst[[#This Row],[sem8.forma]]="z"),2,AND(Tabela_podst[[#This Row],[sem8.godziny]]<$H$194,Tabela_podst[[#This Row],[sem8.forma]]="z"),1,TRUE,""),"")} | AI30: {=IF(Tabela_podst[[#This Row],[czy.ects]]="TAK",_xlfn.IFS(AND(Tabela_podst[[#This Row],[sem9.godziny]]>=$Q$194,Tabela_podst[[#This Row],[sem9.forma]]="z"),8,AND(Tabela_podst[[#This Row],[sem9.godziny]]>=$I$194,Tabela_podst[[#This Row],[sem9.forma]]="z"),4,AND(Tabela_podst[[#This Row],[sem9.godziny]]>=$H$194,Tabela_podst[[#This Row],[sem9.forma]]="e"),2,AND(Tabela_podst[[#This Row],[sem9.godziny]]<$H$194,Tabela_podst[[#This Row],[sem9.forma]]="e"),1,AND(Tabela_podst[[#This Row],[sem9.godziny]]>=$H$194,Tabela_podst[[#This Row],[sem9.forma]]="z"),2,AND(Tabela_podst[[#This Row],[sem9.godziny]]<$H$194,Tabela_podst[[#This Row],[sem9.forma]]="z"),1,TRUE,""),"")} | AL30: {=IF(Tabela_podst[[#This Row],[czy.ects]]="TAK",_xlfn.IFS(AND(Tabela_podst[[#This Row],[sem10.godziny]]>=$Q$194,Tabela_podst[[#This Row],[sem10.forma]]="z"),8,AND(Tabela_podst[[#This Row],[sem10.godziny]]>=$I$194,Tabela_podst[[#This Row],[sem10.forma]]="z"),4,AND(Tabela_podst[[#This Row],[sem10.godziny]]>=$H$194,Tabela_podst[[#This Row],[sem10.forma]]="e"),2,AND(Tabela_podst[[#This Row],[sem10.godziny]]<$H$194,Tabela_podst[[#This Row],[sem10.forma]]="e"),1,AND(Tabela_podst[[#This Row],[sem10.godziny]]>=$H$194,Tabela_podst[[#This Row],[sem10.forma]]="z"),2,AND(Tabela_podst[[#This Row],[sem10.godziny]]<$H$194,Tabela_podst[[#This Row],[sem10.forma]]="z"),1,TRUE,""),"")} | AN30: =SUM(Tabela_podst[[#This Row],[sem1.ects]],Tabela_podst[[#This Row],[sem2.ects]],Tabela_podst[[#This Row],[sem3.ects]],Tabela_podst[[#This Row],[sem4.ects]],Tabela_podst[[#This Row],[sem5.ects]],Tabela_podst[[#This Row],[sem6.ects]],Tabela_podst[[#This Row],[sem7.ects]],Tabela_podst[[#This Row],[sem8.ects]],Tabela_podst[[#This Row],[sem9.ects]],Tabela_podst[[#This Row],[sem10.ects]]) -> 3 | AO30: =IF(ISERR(SEARCH("UP",Tabela_podst[[#This Row],[Umiej.prakt.]],1)),0,Tabela_podst[[#This Row],[ects.razem]]) -> 0 | AP30: =IF(Tabela_podst[[#This Row],[czy.ects]]="TAK",ROUND((SUM(Tabela_podst[[#This Row],[godziny.konsultacja]],Tabela_podst[[#This Row],[godziny.egzamin]],Tabela_podst[[#This Row],[godziny.zajec.razem]])/25)/0.5,0)*0.5,0) -> 1.5 | AQ30: =SUM(Tabela_podst[[#This Row],[godziny.samoksztalcenie]],Tabela_podst[[#This Row],[godziny.konsultacja]],Tabela_podst[[#This Row],[godziny.egzamin]],Tabela_podst[[#This Row],[godziny.zajec.razem]]) -> 52 | AR30: =INT(SUM(Tabela_podst[[#This Row],[godziny.konsultacja]],Tabela_podst[[#This Row],[godziny.egzamin]],Tabela_podst[[#This Row],[godziny.zajec.razem]])*0.5+Tabela_podst[[#This Row],[godziny.zajec.razem]]*(15-$G$194)/9) -> 17 | AS30: =INT(Tabela_podst[[#This Row],[godziny.zajec.razem]]*0.1) -> 3 | AT30: =IF(Tabela_podst[[#This Row],[godziny.zajec.razem]]>0,IF(Tabela_podst[[#This Row],[godziny.zajec.razem]]>=45,4,2),0) -> 2 | AU30: =SUM(Tabela_podst[[#This Row],[sem1.godziny]],Tabela_podst[[#This Row],[sem2.godziny]],Tabela_podst[[#This Row],[sem3.godziny]],Tabela_podst[[#This Row],[sem4.godziny]],Tabela_podst[[#This Row],[sem5.godziny]],Tabela_podst[[#This Row],[sem6.godziny]],Tabela_podst[[#This Row],[sem7.godziny]],Tabela_podst[[#This Row],[sem8.godziny]],Tabela_podst[[#This Row],[sem9.godziny]],Tabela_podst[[#This Row],[sem10.godziny]]) -> 30 | AV30: =IF(Tabela_podst[[#This Row],[ects.bezposr.nauczyciel]],Tabela_podst[[#This Row],[ects.bezposr.nauczyciel]]/Tabela_podst[[#This Row],[ects.razem]],0) -> 0.5
B31: 0413 | C31: 506 | D31: pd.02.1 | E31: up | F31: Zarządzanie | H31: konwersatorium | I31: TAK | J31: 30 | K31: 3 | L31: z | N31: {=IF(Tabela_podst[[#This Row],[czy.ects]]="TAK",_xlfn.IFS(AND(Tabela_podst[[#This Row],[sem2.godziny]]>=$Q$194,Tabela_podst[[#This Row],[sem2.forma]]="z"),8,AND(Tabela_podst[[#This Row],[sem2.godziny]]>=$I$194,Tabela_podst[[#This Row],[sem2.forma]]="z"),4,AND(Tabela_podst[[#This Row],[sem2.godziny]]>=$H$194,Tabela_podst[[#This Row],[sem2.forma]]="e"),2,AND(Tabela_podst[[#This Row],[sem2.godziny]]<$H$194,Tabela_podst[[#This Row],[sem2.forma]]="e"),1,AND(Tabela_podst[[#This Row],[sem2.godziny]]>=$H$194,Tabela_podst[[#This Row],[sem2.forma]]="z"),2,AND(Tabela_podst[[#This Row],[sem2.godziny]]<$H$194,Tabela_podst[[#This Row],[sem2.forma]]="z"),1,TRUE,""),"")} | Q31: {=IF(Tabela_podst[[#This Row],[czy.ects]]="TAK",_xlfn.IFS(AND(Tabela_podst[[#This Row],[sem3.godziny]]>=$Q$194,Tabela_podst[[#This Row],[sem3.forma]]="z"),8,AND(Tabela_podst[[#This Row],[sem3.godziny]]>=$I$194,Tabela_podst[[#This Row],[sem3.forma]]="z"),4,AND(Tabela_podst[[#This Row],[sem3.godziny]]>=$H$194,Tabela_podst[[#This Row],[sem3.forma]]="e"),2,AND(Tabela_podst[[#This Row],[sem3.godziny]]<$H$194,Tabela_podst[[#This Row],[sem3.forma]]="e"),1,AND(Tabela_podst[[#This Row],[sem3.godziny]]>=$H$194,Tabela_podst[[#This Row],[sem3.forma]]="z"),2,AND(Tabela_podst[[#This Row],[sem3.godziny]]<$H$194,Tabela_podst[[#This Row],[sem3.forma]]="z"),1,TRUE,""),"")} | T31: {=IF(Tabela_podst[[#This Row],[czy.ects]]="TAK",_xlfn.IFS(AND(Tabela_podst[[#This Row],[sem4.godziny]]>=$Q$194,Tabela_podst[[#This Row],[sem4.forma]]="z"),8,AND(Tabela_podst[[#This Row],[sem4.godziny]]>=$I$194,Tabela_podst[[#This Row],[sem4.forma]]="z"),4,AND(Tabela_podst[[#This Row],[sem4.godziny]]>=$H$194,Tabela_podst[[#This Row],[sem4.forma]]="e"),2,AND(Tabela_podst[[#This Row],[sem4.godziny]]<$H$194,Tabela_podst[[#This Row],[sem4.forma]]="e"),1,AND(Tabela_podst[[#This Row],[sem4.godziny]]>=$H$194,Tabela_podst[[#This Row],[sem4.forma]]="z"),2,AND(Tabela_podst[[#This Row],[sem4.godziny]]<$H$194,Tabela_podst[[#This Row],[sem4.forma]]="z"),1,TRUE,""),"")} | W31: {=IF(Tabela_podst[[#This Row],[czy.ects]]="TAK",_xlfn.IFS(AND(Tabela_podst[[#This Row],[sem5.godziny]]>=$Q$194,Tabela_podst[[#This Row],[sem5.forma]]="z"),8,AND(Tabela_podst[[#This Row],[sem5.godziny]]>=$I$194,Tabela_podst[[#This Row],[sem5.forma]]="z"),4,AND(Tabela_podst[[#This Row],[sem5.godziny]]>=$H$194,Tabela_podst[[#This Row],[sem5.forma]]="e"),2,AND(Tabela_podst[[#This Row],[sem5.godziny]]<$H$194,Tabela_podst[[#This Row],[sem5.forma]]="e"),1,AND(Tabela_podst[[#This Row],[sem5.godziny]]>=$H$194,Tabela_podst[[#This Row],[sem5.forma]]="z"),2,AND(Tabela_podst[[#This Row],[sem5.godziny]]<$H$194,Tabela_podst[[#This Row],[sem5.forma]]="z"),1,TRUE,""),"")} | Z31: {=IF(Tabela_podst[[#This Row],[czy.ects]]="TAK",_xlfn.IFS(AND(Tabela_podst[[#This Row],[sem6.godziny]]>=$Q$194,Tabela_podst[[#This Row],[sem6.forma]]="z"),8,AND(Tabela_podst[[#This Row],[sem6.godziny]]>=$I$194,Tabela_podst[[#This Row],[sem6.forma]]="z"),4,AND(Tabela_podst[[#This Row],[sem6.godziny]]>=$H$194,Tabela_podst[[#This Row],[sem6.forma]]="e"),2,AND(Tabela_podst[[#This Row],[sem6.godziny]]<$H$194,Tabela_podst[[#This Row],[sem6.forma]]="e"),1,AND(Tabela_podst[[#This Row],[sem6.godziny]]>=$H$194,Tabela_podst[[#This Row],[sem6.forma]]="z"),2,AND(Tabela_podst[[#This Row],[sem6.godziny]]<$H$194,Tabela_podst[[#This Row],[sem6.forma]]="z"),1,TRUE,""),"")} | AC31: {=IF(Tabela_podst[[#This Row],[czy.ects]]="TAK",_xlfn.IFS(AND(Tabela_podst[[#This Row],[sem7.godziny]]>=$Q$194,Tabela_podst[[#This Row],[sem7.forma]]="z"),8,AND(Tabela_podst[[#This Row],[sem7.godziny]]>=$I$194,Tabela_podst[[#This Row],[sem7.forma]]="z"),4,AND(Tabela_podst[[#This Row],[sem7.godziny]]>=$H$194,Tabela_podst[[#This Row],[sem7.forma]]="e"),2,AND(Tabela_podst[[#This Row],[sem7.godziny]]<$H$194,Tabela_podst[[#This Row],[sem7.forma]]="e"),1,AND(Tabela_podst[[#This Row],[sem7.godziny]]>=$H$194,Tabela_podst[[#This Row],[sem7.forma]]="z"),2,AND(Tabela_podst[[#This Row],[sem7.godziny]]<$H$194,Tabela_podst[[#This Row],[sem7.forma]]="z"),1,TRUE,""),"")} | AF31: {=IF(Tabela_podst[[#This Row],[czy.ects]]="TAK",_xlfn.IFS(AND(Tabela_podst[[#This Row],[sem8.godziny]]>=$Q$194,Tabela_podst[[#This Row],[sem8.forma]]="z"),8,AND(Tabela_podst[[#This Row],[sem8.godziny]]>=$I$194,Tabela_podst[[#This Row],[sem8.forma]]="z"),4,AND(Tabela_podst[[#This Row],[sem8.godziny]]>=$H$194,Tabela_podst[[#This Row],[sem8.forma]]="e"),2,AND(Tabela_podst[[#This Row],[sem8.godziny]]<$H$194,Tabela_podst[[#This Row],[sem8.forma]]="e"),1,AND(Tabela_podst[[#This Row],[sem8.godziny]]>=$H$194,Tabela_podst[[#This Row],[sem8.forma]]="z"),2,AND(Tabela_podst[[#This Row],[sem8.godziny]]<$H$194,Tabela_podst[[#This Row],[sem8.forma]]="z"),1,TRUE,""),"")} | AI31: {=IF(Tabela_podst[[#This Row],[czy.ects]]="TAK",_xlfn.IFS(AND(Tabela_podst[[#This Row],[sem9.godziny]]>=$Q$194,Tabela_podst[[#This Row],[sem9.forma]]="z"),8,AND(Tabela_podst[[#This Row],[sem9.godziny]]>=$I$194,Tabela_podst[[#This Row],[sem9.forma]]="z"),4,AND(Tabela_podst[[#This Row],[sem9.godziny]]>=$H$194,Tabela_podst[[#This Row],[sem9.forma]]="e"),2,AND(Tabela_podst[[#This Row],[sem9.godziny]]<$H$194,Tabela_podst[[#This Row],[sem9.forma]]="e"),1,AND(Tabela_podst[[#This Row],[sem9.godziny]]>=$H$194,Tabela_podst[[#This Row],[sem9.forma]]="z"),2,AND(Tabela_podst[[#This Row],[sem9.godziny]]<$H$194,Tabela_podst[[#This Row],[sem9.forma]]="z"),1,TRUE,""),"")} | AL31: {=IF(Tabela_podst[[#This Row],[czy.ects]]="TAK",_xlfn.IFS(AND(Tabela_podst[[#This Row],[sem10.godziny]]>=$Q$194,Tabela_podst[[#This Row],[sem10.forma]]="z"),8,AND(Tabela_podst[[#This Row],[sem10.godziny]]>=$I$194,Tabela_podst[[#This Row],[sem10.forma]]="z"),4,AND(Tabela_podst[[#This Row],[sem10.godziny]]>=$H$194,Tabela_podst[[#This Row],[sem10.forma]]="e"),2,AND(Tabela_podst[[#This Row],[sem10.godziny]]<$H$194,Tabela_podst[[#This Row],[sem10.forma]]="e"),1,AND(Tabela_podst[[#This Row],[sem10.godziny]]>=$H$194,Tabela_podst[[#This Row],[sem10.forma]]="z"),2,AND(Tabela_podst[[#This Row],[sem10.godziny]]<$H$194,Tabela_podst[[#This Row],[sem10.forma]]="z"),1,TRUE,""),"")} | AN31: =SUM(Tabela_podst[[#This Row],[sem1.ects]],Tabela_podst[[#This Row],[sem2.ects]],Tabela_podst[[#This Row],[sem3.ects]],Tabela_podst[[#This Row],[sem4.ects]],Tabela_podst[[#This Row],[sem5.ects]],Tabela_podst[[#This Row],[sem6.ects]],Tabela_podst[[#This Row],[sem7.ects]],Tabela_podst[[#This Row],[sem8.ects]],Tabela_podst[[#This Row],[sem9.ects]],Tabela_podst[[#This Row],[sem10.ects]]) -> 3 | AO31: =IF(ISERR(SEARCH("UP",Tabela_podst[[#This Row],[Umiej.prakt.]],1)),0,Tabela_podst[[#This Row],[ects.razem]]) -> 3 | AP31: =IF(Tabela_podst[[#This Row],[czy.ects]]="TAK",ROUND((SUM(Tabela_podst[[#This Row],[godziny.konsultacja]],Tabela_podst[[#This Row],[godziny.egzamin]],Tabela_podst[[#This Row],[godziny.zajec.razem]])/25)/0.5,0)*0.5,0) -> 1.5 | AQ31: =SUM(Tabela_podst[[#This Row],[godziny.samoksztalcenie]],Tabela_podst[[#This Row],[godziny.konsultacja]],Tabela_podst[[#This Row],[godziny.egzamin]],Tabela_podst[[#This Row],[godziny.zajec.razem]]) -> 52 | AR31: =INT(SUM(Tabela_podst[[#This Row],[godziny.konsultacja]],Tabela_podst[[#This Row],[godziny.egzamin]],Tabela_podst[[#This Row],[godziny.zajec.razem]])*0.5+Tabela_podst[[#This Row],[godziny.zajec.razem]]*(15-$G$194)/9) -> 17 | AS31: =INT(Tabela_podst[[#This Row],[godziny.zajec.razem]]*0.1) -> 3 | AT31: =IF(Tabela_podst[[#This Row],[godziny.zajec.razem]]>0,IF(Tabela_podst[[#This Row],[godziny.zajec.razem]]>=45,4,2),0) -> 2 | AU31: =SUM(Tabela_podst[[#This Row],[sem1.godziny]],Tabela_podst[[#This Row],[sem2.godziny]],Tabela_podst[[#This Row],[sem3.godziny]],Tabela_podst[[#This Row],[sem4.godziny]],Tabela_podst[[#This Row],[sem5.godziny]],Tabela_podst[[#This Row],[sem6.godziny]],Tabela_podst[[#This Row],[sem7.godziny]],Tabela_podst[[#This Row],[sem8.godziny]],Tabela_podst[[#This Row],[sem9.godziny]],Tabela_podst[[#This Row],[sem10.godziny]]) -> 30 | AV31: =IF(Tabela_podst[[#This Row],[ects.bezposr.nauczyciel]],Tabela_podst[[#This Row],[ects.bezposr.nauczyciel]]/Tabela_podst[[#This Row],[ects.razem]],0) -> 0.5
B32: 0421 | C32: 507 | D32: pd.03.1 | F32: Podstawy prawa | H32: konwersatorium | I32: TAK | J32: 30 | K32: 3 | L32: z | N32: {=IF(Tabela_podst[[#This Row],[czy.ects]]="TAK",_xlfn.IFS(AND(Tabela_podst[[#This Row],[sem2.godziny]]>=$Q$194,Tabela_podst[[#This Row],[sem2.forma]]="z"),8,AND(Tabela_podst[[#This Row],[sem2.godziny]]>=$I$194,Tabela_podst[[#This Row],[sem2.forma]]="z"),4,AND(Tabela_podst[[#This Row],[sem2.godziny]]>=$H$194,Tabela_podst[[#This Row],[sem2.forma]]="e"),2,AND(Tabela_podst[[#This Row],[sem2.godziny]]<$H$194,Tabela_podst[[#This Row],[sem2.forma]]="e"),1,AND(Tabela_podst[[#This Row],[sem2.godziny]]>=$H$194,Tabela_podst[[#This Row],[sem2.forma]]="z"),2,AND(Tabela_podst[[#This Row],[sem2.godziny]]<$H$194,Tabela_podst[[#This Row],[sem2.forma]]="z"),1,TRUE,""),"")} | Q32: {=IF(Tabela_podst[[#This Row],[czy.ects]]="TAK",_xlfn.IFS(AND(Tabela_podst[[#This Row],[sem3.godziny]]>=$Q$194,Tabela_podst[[#This Row],[sem3.forma]]="z"),8,AND(Tabela_podst[[#This Row],[sem3.godziny]]>=$I$194,Tabela_podst[[#This Row],[sem3.forma]]="z"),4,AND(Tabela_podst[[#This Row],[sem3.godziny]]>=$H$194,Tabela_podst[[#This Row],[sem3.forma]]="e"),2,AND(Tabela_podst[[#This Row],[sem3.godziny]]<$H$194,Tabela_podst[[#This Row],[sem3.forma]]="e"),1,AND(Tabela_podst[[#This Row],[sem3.godziny]]>=$H$194,Tabela_podst[[#This Row],[sem3.forma]]="z"),2,AND(Tabela_podst[[#This Row],[sem3.godziny]]<$H$194,Tabela_podst[[#This Row],[sem3.forma]]="z"),1,TRUE,""),"")} | T32: {=IF(Tabela_podst[[#This Row],[czy.ects]]="TAK",_xlfn.IFS(AND(Tabela_podst[[#This Row],[sem4.godziny]]>=$Q$194,Tabela_podst[[#This Row],[sem4.forma]]="z"),8,AND(Tabela_podst[[#This Row],[sem4.godziny]]>=$I$194,Tabela_podst[[#This Row],[sem4.forma]]="z"),4,AND(Tabela_podst[[#This Row],[sem4.godziny]]>=$H$194,Tabela_podst[[#This Row],[sem4.forma]]="e"),2,AND(Tabela_podst[[#This Row],[sem4.godziny]]<$H$194,Tabela_podst[[#This Row],[sem4.forma]]="e"),1,AND(Tabela_podst[[#This Row],[sem4.godziny]]>=$H$194,Tabela_podst[[#This Row],[sem4.forma]]="z"),2,AND(Tabela_podst[[#This Row],[sem4.godziny]]<$H$194,Tabela_podst[[#This Row],[sem4.forma]]="z"),1,TRUE,""),"")} | W32: {=IF(Tabela_podst[[#This Row],[czy.ects]]="TAK",_xlfn.IFS(AND(Tabela_podst[[#This Row],[sem5.godziny]]>=$Q$194,Tabela_podst[[#This Row],[sem5.forma]]="z"),8,AND(Tabela_podst[[#This Row],[sem5.godziny]]>=$I$194,Tabela_podst[[#This Row],[sem5.forma]]="z"),4,AND(Tabela_podst[[#This Row],[sem5.godziny]]>=$H$194,Tabela_podst[[#This Row],[sem5.forma]]="e"),2,AND(Tabela_podst[[#This Row],[sem5.godziny]]<$H$194,Tabela_podst[[#This Row],[sem5.forma]]="e"),1,AND(Tabela_podst[[#This Row],[sem5.godziny]]>=$H$194,Tabela_podst[[#This Row],[sem5.forma]]="z"),2,AND(Tabela_podst[[#This Row],[sem5.godziny]]<$H$194,Tabela_podst[[#This Row],[sem5.forma]]="z"),1,TRUE,""),"")} | Z32: {=IF(Tabela_podst[[#This Row],[czy.ects]]="TAK",_xlfn.IFS(AND(Tabela_podst[[#This Row],[sem6.godziny]]>=$Q$194,Tabela_podst[[#This Row],[sem6.forma]]="z"),8,AND(Tabela_podst[[#This Row],[sem6.godziny]]>=$I$194,Tabela_podst[[#This Row],[sem6.forma]]="z"),4,AND(Tabela_podst[[#This Row],[sem6.godziny]]>=$H$194,Tabela_podst[[#This Row],[sem6.forma]]="e"),2,AND(Tabela_podst[[#This Row],[sem6.godziny]]<$H$194,Tabela_podst[[#This Row],[sem6.forma]]="e"),1,AND(Tabela_podst[[#This Row],[sem6.godziny]]>=$H$194,Tabela_podst[[#This Row],[sem6.forma]]="z"),2,AND(Tabela_podst[[#This Row],[sem6.godziny]]<$H$194,Tabela_podst[[#This Row],[sem6.forma]]="z"),1,TRUE,""),"")} | AC32: {=IF(Tabela_podst[[#This Row],[czy.ects]]="TAK",_xlfn.IFS(AND(Tabela_podst[[#This Row],[sem7.godziny]]>=$Q$194,Tabela_podst[[#This Row],[sem7.forma]]="z"),8,AND(Tabela_podst[[#This Row],[sem7.godziny]]>=$I$194,Tabela_podst[[#This Row],[sem7.forma]]="z"),4,AND(Tabela_podst[[#This Row],[sem7.godziny]]>=$H$194,Tabela_podst[[#This Row],[sem7.forma]]="e"),2,AND(Tabela_podst[[#This Row],[sem7.godziny]]<$H$194,Tabela_podst[[#This Row],[sem7.forma]]="e"),1,AND(Tabela_podst[[#This Row],[sem7.godziny]]>=$H$194,Tabela_podst[[#This Row],[sem7.forma]]="z"),2,AND(Tabela_podst[[#This Row],[sem7.godziny]]<$H$194,Tabela_podst[[#This Row],[sem7.forma]]="z"),1,TRUE,""),"")} | AF32: {=IF(Tabela_podst[[#This Row],[czy.ects]]="TAK",_xlfn.IFS(AND(Tabela_podst[[#This Row],[sem8.godziny]]>=$Q$194,Tabela_podst[[#This Row],[sem8.forma]]="z"),8,AND(Tabela_podst[[#This Row],[sem8.godziny]]>=$I$194,Tabela_podst[[#This Row],[sem8.forma]]="z"),4,AND(Tabela_podst[[#This Row],[sem8.godziny]]>=$H$194,Tabela_podst[[#This Row],[sem8.forma]]="e"),2,AND(Tabela_podst[[#This Row],[sem8.godziny]]<$H$194,Tabela_podst[[#This Row],[sem8.forma]]="e"),1,AND(Tabela_podst[[#This Row],[sem8.godziny]]>=$H$194,Tabela_podst[[#This Row],[sem8.forma]]="z"),2,AND(Tabela_podst[[#This Row],[sem8.godziny]]<$H$194,Tabela_podst[[#This Row],[sem8.forma]]="z"),1,TRUE,""),"")} | AI32: {=IF(Tabela_podst[[#This Row],[czy.ects]]="TAK",_xlfn.IFS(AND(Tabela_podst[[#This Row],[sem9.godziny]]>=$Q$194,Tabela_podst[[#This Row],[sem9.forma]]="z"),8,AND(Tabela_podst[[#This Row],[sem9.godziny]]>=$I$194,Tabela_podst[[#This Row],[sem9.forma]]="z"),4,AND(Tabela_podst[[#This Row],[sem9.godziny]]>=$H$194,Tabela_podst[[#This Row],[sem9.forma]]="e"),2,AND(Tabela_podst[[#This Row],[sem9.godziny]]<$H$194,Tabela_podst[[#This Row],[sem9.forma]]="e"),1,AND(Tabela_podst[[#This Row],[sem9.godziny]]>=$H$194,Tabela_podst[[#This Row],[sem9.forma]]="z"),2,AND(Tabela_podst[[#This Row],[sem9.godziny]]<$H$194,Tabela_podst[[#This Row],[sem9.forma]]="z"),1,TRUE,""),"")} | AL32: {=IF(Tabela_podst[[#This Row],[czy.ects]]="TAK",_xlfn.IFS(AND(Tabela_podst[[#This Row],[sem10.godziny]]>=$Q$194,Tabela_podst[[#This Row],[sem10.forma]]="z"),8,AND(Tabela_podst[[#This Row],[sem10.godziny]]>=$I$194,Tabela_podst[[#This Row],[sem10.forma]]="z"),4,AND(Tabela_podst[[#This Row],[sem10.godziny]]>=$H$194,Tabela_podst[[#This Row],[sem10.forma]]="e"),2,AND(Tabela_podst[[#This Row],[sem10.godziny]]<$H$194,Tabela_podst[[#This Row],[sem10.forma]]="e"),1,AND(Tabela_podst[[#This Row],[sem10.godziny]]>=$H$194,Tabela_podst[[#This Row],[sem10.forma]]="z"),2,AND(Tabela_podst[[#This Row],[sem10.godziny]]<$H$194,Tabela_podst[[#This Row],[sem10.forma]]="z"),1,TRUE,""),"")} | AN32: =SUM(Tabela_podst[[#This Row],[sem1.ects]],Tabela_podst[[#This Row],[sem2.ects]],Tabela_podst[[#This Row],[sem3.ects]],Tabela_podst[[#This Row],[sem4.ects]],Tabela_podst[[#This Row],[sem5.ects]],Tabela_podst[[#This Row],[sem6.ects]],Tabela_podst[[#This Row],[sem7.ects]],Tabela_podst[[#This Row],[sem8.ects]],Tabela_podst[[#This Row],[sem9.ects]],Tabela_podst[[#This Row],[sem10.ects]]) -> 3 | AO32: =IF(ISERR(SEARCH("UP",Tabela_podst[[#This Row],[Umiej.prakt.]],1)),0,Tabela_podst[[#This Row],[ects.razem]]) -> 0 | AP32: =IF(Tabela_podst[[#This Row],[czy.ects]]="TAK",ROUND((SUM(Tabela_podst[[#This Row],[godziny.konsultacja]],Tabela_podst[[#This Row],[godziny.egzamin]],Tabela_podst[[#This Row],[godziny.zajec.razem]])/25)/0.5,0)*0.5,0) -> 1.5 | AQ32: =SUM(Tabela_podst[[#This Row],[godziny.samoksztalcenie]],Tabela_podst[[#This Row],[godziny.konsultacja]],Tabela_podst[[#This Row],[godziny.egzamin]],Tabela_podst[[#This Row],[godziny.zajec.razem]]) -> 52 | AR32: =INT(SUM(Tabela_podst[[#This Row],[godziny.konsultacja]],Tabela_podst[[#This Row],[godziny.egzamin]],Tabela_podst[[#This Row],[godziny.zajec.razem]])*0.5+Tabela_podst[[#This Row],[godziny.zajec.razem]]*(15-$G$194)/9) -> 17 | AS32: =INT(Tabela_podst[[#This Row],[godziny.zajec.razem]]*0.1) -> 3 | AT32: =IF(Tabela_podst[[#This Row],[godziny.zajec.razem]]>0,IF(Tabela_podst[[#This Row],[godziny.zajec.razem]]>=45,4,2),0) -> 2 | AU32: =SUM(Tabela_podst[[#This Row],[sem1.godziny]],Tabela_podst[[#This Row],[sem2.godziny]],Tabela_podst[[#This Row],[sem3.godziny]],Tabela_podst[[#This Row],[sem4.godziny]],Tabela_podst[[#This Row],[sem5.godziny]],Tabela_podst[[#This Row],[sem6.godziny]],Tabela_podst[[#This Row],[sem7.godziny]],Tabela_podst[[#This Row],[sem8.godziny]],Tabela_podst[[#This Row],[sem9.godziny]],Tabela_podst[[#This Row],[sem10.godziny]]) -> 30 | AV32: =IF(Tabela_podst[[#This Row],[ects.bezposr.nauczyciel]],Tabela_podst[[#This Row],[ects.bezposr.nauczyciel]]/Tabela_podst[[#This Row],[ects.razem]],0) -> 0.5
B33: 0541 | C33: 603 | D33: pd.04.1 | F33: Metody ilościowe | H33: konwersatorium | I33: TAK | J33: 30 | K33: 3 | L33: z | N33: {=IF(Tabela_podst[[#This Row],[czy.ects]]="TAK",_xlfn.IFS(AND(Tabela_podst[[#This Row],[sem2.godziny]]>=$Q$194,Tabela_podst[[#This Row],[sem2.forma]]="z"),8,AND(Tabela_podst[[#This Row],[sem2.godziny]]>=$I$194,Tabela_podst[[#This Row],[sem2.forma]]="z"),4,AND(Tabela_podst[[#This Row],[sem2.godziny]]>=$H$194,Tabela_podst[[#This Row],[sem2.forma]]="e"),2,AND(Tabela_podst[[#This Row],[sem2.godziny]]<$H$194,Tabela_podst[[#This Row],[sem2.forma]]="e"),1,AND(Tabela_podst[[#This Row],[sem2.godziny]]>=$H$194,Tabela_podst[[#This Row],[sem2.forma]]="z"),2,AND(Tabela_podst[[#This Row],[sem2.godziny]]<$H$194,Tabela_podst[[#This Row],[sem2.forma]]="z"),1,TRUE,""),"")} | Q33: {=IF(Tabela_podst[[#This Row],[czy.ects]]="TAK",_xlfn.IFS(AND(Tabela_podst[[#This Row],[sem3.godziny]]>=$Q$194,Tabela_podst[[#This Row],[sem3.forma]]="z"),8,AND(Tabela_podst[[#This Row],[sem3.godziny]]>=$I$194,Tabela_podst[[#This Row],[sem3.forma]]="z"),4,AND(Tabela_podst[[#This Row],[sem3.godziny]]>=$H$194,Tabela_podst[[#This Row],[sem3.forma]]="e"),2,AND(Tabela_podst[[#This Row],[sem3.godziny]]<$H$194,Tabela_podst[[#This Row],[sem3.forma]]="e"),1,AND(Tabela_podst[[#This Row],[sem3.godziny]]>=$H$194,Tabela_podst[[#This Row],[sem3.forma]]="z"),2,AND(Tabela_podst[[#This Row],[sem3.godziny]]<$H$194,Tabela_podst[[#This Row],[sem3.forma]]="z"),1,TRUE,""),"")} | T33: {=IF(Tabela_podst[[#This Row],[czy.ects]]="TAK",_xlfn.IFS(AND(Tabela_podst[[#This Row],[sem4.godziny]]>=$Q$194,Tabela_podst[[#This Row],[sem4.forma]]="z"),8,AND(Tabela_podst[[#This Row],[sem4.godziny]]>=$I$194,Tabela_podst[[#This Row],[sem4.forma]]="z"),4,AND(Tabela_podst[[#This Row],[sem4.godziny]]>=$H$194,Tabela_podst[[#This Row],[sem4.forma]]="e"),2,AND(Tabela_podst[[#This Row],[sem4.godziny]]<$H$194,Tabela_podst[[#This Row],[sem4.forma]]="e"),1,AND(Tabela_podst[[#This Row],[sem4.godziny]]>=$H$194,Tabela_podst[[#This Row],[sem4.forma]]="z"),2,AND(Tabela_podst[[#This Row],[sem4.godziny]]<$H$194,Tabela_podst[[#This Row],[sem4.forma]]="z"),1,TRUE,""),"")} | W33: {=IF(Tabela_podst[[#This Row],[czy.ects]]="TAK",_xlfn.IFS(AND(Tabela_podst[[#This Row],[sem5.godziny]]>=$Q$194,Tabela_podst[[#This Row],[sem5.forma]]="z"),8,AND(Tabela_podst[[#This Row],[sem5.godziny]]>=$I$194,Tabela_podst[[#This Row],[sem5.forma]]="z"),4,AND(Tabela_podst[[#This Row],[sem5.godziny]]>=$H$194,Tabela_podst[[#This Row],[sem5.forma]]="e"),2,AND(Tabela_podst[[#This Row],[sem5.godziny]]<$H$194,Tabela_podst[[#This Row],[sem5.forma]]="e"),1,AND(Tabela_podst[[#This Row],[sem5.godziny]]>=$H$194,Tabela_podst[[#This Row],[sem5.forma]]="z"),2,AND(Tabela_podst[[#This Row],[sem5.godziny]]<$H$194,Tabela_podst[[#This Row],[sem5.forma]]="z"),1,TRUE,""),"")} | Z33: {=IF(Tabela_podst[[#This Row],[czy.ects]]="TAK",_xlfn.IFS(AND(Tabela_podst[[#This Row],[sem6.godziny]]>=$Q$194,Tabela_podst[[#This Row],[sem6.forma]]="z"),8,AND(Tabela_podst[[#This Row],[sem6.godziny]]>=$I$194,Tabela_podst[[#This Row],[sem6.forma]]="z"),4,AND(Tabela_podst[[#This Row],[sem6.godziny]]>=$H$194,Tabela_podst[[#This Row],[sem6.forma]]="e"),2,AND(Tabela_podst[[#This Row],[sem6.godziny]]<$H$194,Tabela_podst[[#This Row],[sem6.forma]]="e"),1,AND(Tabela_podst[[#This Row],[sem6.godziny]]>=$H$194,Tabela_podst[[#This Row],[sem6.forma]]="z"),2,AND(Tabela_podst[[#This Row],[sem6.godziny]]<$H$194,Tabela_podst[[#This Row],[sem6.forma]]="z"),1,TRUE,""),"")} | AC33: {=IF(Tabela_podst[[#This Row],[czy.ects]]="TAK",_xlfn.IFS(AND(Tabela_podst[[#This Row],[sem7.godziny]]>=$Q$194,Tabela_podst[[#This Row],[sem7.forma]]="z"),8,AND(Tabela_podst[[#This Row],[sem7.godziny]]>=$I$194,Tabela_podst[[#This Row],[sem7.forma]]="z"),4,AND(Tabela_podst[[#This Row],[sem7.godziny]]>=$H$194,Tabela_podst[[#This Row],[sem7.forma]]="e"),2,AND(Tabela_podst[[#This Row],[sem7.godziny]]<$H$194,Tabela_podst[[#This Row],[sem7.forma]]="e"),1,AND(Tabela_podst[[#This Row],[sem7.godziny]]>=$H$194,Tabela_podst[[#This Row],[sem7.forma]]="z"),2,AND(Tabela_podst[[#This Row],[sem7.godziny]]<$H$194,Tabela_podst[[#This Row],[sem7.forma]]="z"),1,TRUE,""),"")} | AF33: {=IF(Tabela_podst[[#This Row],[czy.ects]]="TAK",_xlfn.IFS(AND(Tabela_podst[[#This Row],[sem8.godziny]]>=$Q$194,Tabela_podst[[#This Row],[sem8.forma]]="z"),8,AND(Tabela_podst[[#This Row],[sem8.godziny]]>=$I$194,Tabela_podst[[#This Row],[sem8.forma]]="z"),4,AND(Tabela_podst[[#This Row],[sem8.godziny]]>=$H$194,Tabela_podst[[#This Row],[sem8.forma]]="e"),2,AND(Tabela_podst[[#This Row],[sem8.godziny]]<$H$194,Tabela_podst[[#This Row],[sem8.forma]]="e"),1,AND(Tabela_podst[[#This Row],[sem8.godziny]]>=$H$194,Tabela_podst[[#This Row],[sem8.forma]]="z"),2,AND(Tabela_podst[[#This Row],[sem8.godziny]]<$H$194,Tabela_podst[[#This Row],[sem8.forma]]="z"),1,TRUE,""),"")} | AI33: {=IF(Tabela_podst[[#This Row],[czy.ects]]="TAK",_xlfn.IFS(AND(Tabela_podst[[#This Row],[sem9.godziny]]>=$Q$194,Tabela_podst[[#This Row],[sem9.forma]]="z"),8,AND(Tabela_podst[[#This Row],[sem9.godziny]]>=$I$194,Tabela_podst[[#This Row],[sem9.forma]]="z"),4,AND(Tabela_podst[[#This Row],[sem9.godziny]]>=$H$194,Tabela_podst[[#This Row],[sem9.forma]]="e"),2,AND(Tabela_podst[[#This Row],[sem9.godziny]]<$H$194,Tabela_podst[[#This Row],[sem9.forma]]="e"),1,AND(Tabela_podst[[#This Row],[sem9.godziny]]>=$H$194,Tabela_podst[[#This Row],[sem9.forma]]="z"),2,AND(Tabela_podst[[#This Row],[sem9.godziny]]<$H$194,Tabela_podst[[#This Row],[sem9.forma]]="z"),1,TRUE,""),"")} | AL33: {=IF(Tabela_podst[[#This Row],[czy.ects]]="TAK",_xlfn.IFS(AND(Tabela_podst[[#This Row],[sem10.godziny]]>=$Q$194,Tabela_podst[[#This Row],[sem10.forma]]="z"),8,AND(Tabela_podst[[#This Row],[sem10.godziny]]>=$I$194,Tabela_podst[[#This Row],[sem10.forma]]="z"),4,AND(Tabela_podst[[#This Row],[sem10.godziny]]>=$H$194,Tabela_podst[[#This Row],[sem10.forma]]="e"),2,AND(Tabela_podst[[#This Row],[sem10.godziny]]<$H$194,Tabela_podst[[#This Row],[sem10.forma]]="e"),1,AND(Tabela_podst[[#This Row],[sem10.godziny]]>=$H$194,Tabela_podst[[#This Row],[sem10.forma]]="z"),2,AND(Tabela_podst[[#This Row],[sem10.godziny]]<$H$194,Tabela_podst[[#This Row],[sem10.forma]]="z"),1,TRUE,""),"")} | AN33: =SUM(Tabela_podst[[#This Row],[sem1.ects]],Tabela_podst[[#This Row],[sem2.ects]],Tabela_podst[[#This Row],[sem3.ects]],Tabela_podst[[#This Row],[sem4.ects]],Tabela_podst[[#This Row],[sem5.ects]],Tabela_podst[[#This Row],[sem6.ects]],Tabela_podst[[#This Row],[sem7.ects]],Tabela_podst[[#This Row],[sem8.ects]],Tabela_podst[[#This Row],[sem9.ects]],Tabela_podst[[#This Row],[sem10.ects]]) -> 3 | AO33: =IF(ISERR(SEARCH("UP",Tabela_podst[[#This Row],[Umiej.prakt.]],1)),0,Tabela_podst[[#This Row],[ects.razem]]) -> 0 | AP33: =IF(Tabela_podst[[#This Row],[czy.ects]]="TAK",ROUND((SUM(Tabela_podst[[#This Row],[godziny.konsultacja]],Tabela_podst[[#This Row],[godziny.egzamin]],Tabela_podst[[#This Row],[godziny.zajec.razem]])/25)/0.5,0)*0.5,0) -> 1.5 | AQ33: =SUM(Tabela_podst[[#This Row],[godziny.samoksztalcenie]],Tabela_podst[[#This Row],[godziny.konsultacja]],Tabela_podst[[#This Row],[godziny.egzamin]],Tabela_podst[[#This Row],[godziny.zajec.razem]]) -> 52 | AR33: =INT(SUM(Tabela_podst[[#This Row],[godziny.konsultacja]],Tabela_podst[[#This Row],[godziny.egzamin]],Tabela_podst[[#This Row],[godziny.zajec.razem]])*0.5+Tabela_podst[[#This Row],[godziny.zajec.razem]]*(15-$G$194)/9) -> 17 | AS33: =INT(Tabela_podst[[#This Row],[godziny.zajec.razem]]*0.1) -> 3 | AT33: =IF(Tabela_podst[[#This Row],[godziny.zajec.razem]]>0,IF(Tabela_podst[[#This Row],[godziny.zajec.razem]]>=45,4,2),0) -> 2 | AU33: =SUM(Tabela_podst[[#This Row],[sem1.godziny]],Tabela_podst[[#This Row],[sem2.godziny]],Tabela_podst[[#This Row],[sem3.godziny]],Tabela_podst[[#This Row],[sem4.godziny]],Tabela_podst[[#This Row],[sem5.godziny]],Tabela_podst[[#This Row],[sem6.godziny]],Tabela_podst[[#This Row],[sem7.godziny]],Tabela_podst[[#This Row],[sem8.godziny]],Tabela_podst[[#This Row],[sem9.godziny]],Tabela_podst[[#This Row],[sem10.godziny]]) -> 30 | AV33: =IF(Tabela_podst[[#This Row],[ects.bezposr.nauczyciel]],Tabela_podst[[#This Row],[ects.bezposr.nauczyciel]]/Tabela_podst[[#This Row],[ects.razem]],0) -> 0.5
B34: 0541 | C34: 603 | D34: pd.04.2 | F34: Metody ilościowe | H34: laboratoria | I34: TAK | J34: 15 | K34: {=IF(Tabela_podst[[#This Row],[czy.ects]]="TAK",_xlfn.IFS(AND(Tabela_podst[[#This Row],[sem1.godziny]]>=$Q$194,Tabela_podst[[#This Row],[sem1.forma]]="z"),8,AND(Tabela_podst[[#This Row],[sem1.godziny]]>=$I$194,Tabela_podst[[#This Row],[sem1.forma]]="z"),4,AND(Tabela_podst[[#This Row],[sem1.godziny]]>=$H$194,Tabela_podst[[#This Row],[sem1.forma]]="e"),2,AND(Tabela_podst[[#This Row],[sem1.godziny]]<$H$194,Tabela_podst[[#This Row],[sem1.forma]]="e"),1,AND(Tabela_podst[[#This Row],[sem1.godziny]]>=$H$194,Tabela_podst[[#This Row],[sem1.forma]]="z"),2,AND(Tabela_podst[[#This Row],[sem1.godziny]]<$H$194,Tabela_podst[[#This Row],[sem1.forma]]="z"),1,TRUE,""),"")} -> 1 | L34: z | N34: {=IF(Tabela_podst[[#This Row],[czy.ects]]="TAK",_xlfn.IFS(AND(Tabela_podst[[#This Row],[sem2.godziny]]>=$Q$194,Tabela_podst[[#This Row],[sem2.forma]]="z"),8,AND(Tabela_podst[[#This Row],[sem2.godziny]]>=$I$194,Tabela_podst[[#This Row],[sem2.forma]]="z"),4,AND(Tabela_podst[[#This Row],[sem2.godziny]]>=$H$194,Tabela_podst[[#This Row],[sem2.forma]]="e"),2,AND(Tabela_podst[[#This Row],[sem2.godziny]]<$H$194,Tabela_podst[[#This Row],[sem2.forma]]="e"),1,AND(Tabela_podst[[#This Row],[sem2.godziny]]>=$H$194,Tabela_podst[[#This Row],[sem2.forma]]="z"),2,AND(Tabela_podst[[#This Row],[sem2.godziny]]<$H$194,Tabela_podst[[#This Row],[sem2.forma]]="z"),1,TRUE,""),"")} | Q34: {=IF(Tabela_podst[[#This Row],[czy.ects]]="TAK",_xlfn.IFS(AND(Tabela_podst[[#This Row],[sem3.godziny]]>=$Q$194,Tabela_podst[[#This Row],[sem3.forma]]="z"),8,AND(Tabela_podst[[#This Row],[sem3.godziny]]>=$I$194,Tabela_podst[[#This Row],[sem3.forma]]="z"),4,AND(Tabela_podst[[#This Row],[sem3.godziny]]>=$H$194,Tabela_podst[[#This Row],[sem3.forma]]="e"),2,AND(Tabela_podst[[#This Row],[sem3.godziny]]<$H$194,Tabela_podst[[#This Row],[sem3.forma]]="e"),1,AND(Tabela_podst[[#This Row],[sem3.godziny]]>=$H$194,Tabela_podst[[#This Row],[sem3.forma]]="z"),2,AND(Tabela_podst[[#This Row],[sem3.godziny]]<$H$194,Tabela_podst[[#This Row],[sem3.forma]]="z"),1,TRUE,""),"")} | T34: {=IF(Tabela_podst[[#This Row],[czy.ects]]="TAK",_xlfn.IFS(AND(Tabela_podst[[#This Row],[sem4.godziny]]>=$Q$194,Tabela_podst[[#This Row],[sem4.forma]]="z"),8,AND(Tabela_podst[[#This Row],[sem4.godziny]]>=$I$194,Tabela_podst[[#This Row],[sem4.forma]]="z"),4,AND(Tabela_podst[[#This Row],[sem4.godziny]]>=$H$194,Tabela_podst[[#This Row],[sem4.forma]]="e"),2,AND(Tabela_podst[[#This Row],[sem4.godziny]]<$H$194,Tabela_podst[[#This Row],[sem4.forma]]="e"),1,AND(Tabela_podst[[#This Row],[sem4.godziny]]>=$H$194,Tabela_podst[[#This Row],[sem4.forma]]="z"),2,AND(Tabela_podst[[#This Row],[sem4.godziny]]<$H$194,Tabela_podst[[#This Row],[sem4.forma]]="z"),1,TRUE,""),"")} | W34: {=IF(Tabela_podst[[#This Row],[czy.ects]]="TAK",_xlfn.IFS(AND(Tabela_podst[[#This Row],[sem5.godziny]]>=$Q$194,Tabela_podst[[#This Row],[sem5.forma]]="z"),8,AND(Tabela_podst[[#This Row],[sem5.godziny]]>=$I$194,Tabela_podst[[#This Row],[sem5.forma]]="z"),4,AND(Tabela_podst[[#This Row],[sem5.godziny]]>=$H$194,Tabela_podst[[#This Row],[sem5.forma]]="e"),2,AND(Tabela_podst[[#This Row],[sem5.godziny]]<$H$194,Tabela_podst[[#This Row],[sem5.forma]]="e"),1,AND(Tabela_podst[[#This Row],[sem5.godziny]]>=$H$194,Tabela_podst[[#This Row],[sem5.forma]]="z"),2,AND(Tabela_podst[[#This Row],[sem5.godziny]]<$H$194,Tabela_podst[[#This Row],[sem5.forma]]="z"),1,TRUE,""),"")} | Z34: {=IF(Tabela_podst[[#This Row],[czy.ects]]="TAK",_xlfn.IFS(AND(Tabela_podst[[#This Row],[sem6.godziny]]>=$Q$194,Tabela_podst[[#This Row],[sem6.forma]]="z"),8,AND(Tabela_podst[[#This Row],[sem6.godziny]]>=$I$194,Tabela_podst[[#This Row],[sem6.forma]]="z"),4,AND(Tabela_podst[[#This Row],[sem6.godziny]]>=$H$194,Tabela_podst[[#This Row],[sem6.forma]]="e"),2,AND(Tabela_podst[[#This Row],[sem6.godziny]]<$H$194,Tabela_podst[[#This Row],[sem6.forma]]="e"),1,AND(Tabela_podst[[#This Row],[sem6.godziny]]>=$H$194,Tabela_podst[[#This Row],[sem6.forma]]="z"),2,AND(Tabela_podst[[#This Row],[sem6.godziny]]<$H$194,Tabela_podst[[#This Row],[sem6.forma]]="z"),1,TRUE,""),"")} | AC34: {=IF(Tabela_podst[[#This Row],[czy.ects]]="TAK",_xlfn.IFS(AND(Tabela_podst[[#This Row],[sem7.godziny]]>=$Q$194,Tabela_podst[[#This Row],[sem7.forma]]="z"),8,AND(Tabela_podst[[#This Row],[sem7.godziny]]>=$I$194,Tabela_podst[[#This Row],[sem7.forma]]="z"),4,AND(Tabela_podst[[#This Row],[sem7.godziny]]>=$H$194,Tabela_podst[[#This Row],[sem7.forma]]="e"),2,AND(Tabela_podst[[#This Row],[sem7.godziny]]<$H$194,Tabela_podst[[#This Row],[sem7.forma]]="e"),1,AND(Tabela_podst[[#This Row],[sem7.godziny]]>=$H$194,Tabela_podst[[#This Row],[sem7.forma]]="z"),2,AND(Tabela_podst[[#This Row],[sem7.godziny]]<$H$194,Tabela_podst[[#This Row],[sem7.forma]]="z"),1,TRUE,""),"")} | AF34: {=IF(Tabela_podst[[#This Row],[czy.ects]]="TAK",_xlfn.IFS(AND(Tabela_podst[[#This Row],[sem8.godziny]]>=$Q$194,Tabela_podst[[#This Row],[sem8.forma]]="z"),8,AND(Tabela_podst[[#This Row],[sem8.godziny]]>=$I$194,Tabela_podst[[#This Row],[sem8.forma]]="z"),4,AND(Tabela_podst[[#This Row],[sem8.godziny]]>=$H$194,Tabela_podst[[#This Row],[sem8.forma]]="e"),2,AND(Tabela_podst[[#This Row],[sem8.godziny]]<$H$194,Tabela_podst[[#This Row],[sem8.forma]]="e"),1,AND(Tabela_podst[[#This Row],[sem8.godziny]]>=$H$194,Tabela_podst[[#This Row],[sem8.forma]]="z"),2,AND(Tabela_podst[[#This Row],[sem8.godziny]]<$H$194,Tabela_podst[[#This Row],[sem8.forma]]="z"),1,TRUE,""),"")} | AI34: {=IF(Tabela_podst[[#This Row],[czy.ects]]="TAK",_xlfn.IFS(AND(Tabela_podst[[#This Row],[sem9.godziny]]>=$Q$194,Tabela_podst[[#This Row],[sem9.forma]]="z"),8,AND(Tabela_podst[[#This Row],[sem9.godziny]]>=$I$194,Tabela_podst[[#This Row],[sem9.forma]]="z"),4,AND(Tabela_podst[[#This Row],[sem9.godziny]]>=$H$194,Tabela_podst[[#This Row],[sem9.forma]]="e"),2,AND(Tabela_podst[[#This Row],[sem9.godziny]]<$H$194,Tabela_podst[[#This Row],[sem9.forma]]="e"),1,AND(Tabela_podst[[#This Row],[sem9.godziny]]>=$H$194,Tabela_podst[[#This Row],[sem9.forma]]="z"),2,AND(Tabela_podst[[#This Row],[sem9.godziny]]<$H$194,Tabela_podst[[#This Row],[sem9.forma]]="z"),1,TRUE,""),"")} | AL34: {=IF(Tabela_podst[[#This Row],[czy.ects]]="TAK",_xlfn.IFS(AND(Tabela_podst[[#This Row],[sem10.godziny]]>=$Q$194,Tabela_podst[[#This Row],[sem10.forma]]="z"),8,AND(Tabela_podst[[#This Row],[sem10.godziny]]>=$I$194,Tabela_podst[[#This Row],[sem10.forma]]="z"),4,AND(Tabela_podst[[#This Row],[sem10.godziny]]>=$H$194,Tabela_podst[[#This Row],[sem10.forma]]="e"),2,AND(Tabela_podst[[#This Row],[sem10.godziny]]<$H$194,Tabela_podst[[#This Row],[sem10.forma]]="e"),1,AND(Tabela_podst[[#This Row],[sem10.godziny]]>=$H$194,Tabela_podst[[#This Row],[sem10.forma]]="z"),2,AND(Tabela_podst[[#This Row],[sem10.godziny]]<$H$194,Tabela_podst[[#This Row],[sem10.forma]]="z"),1,TRUE,""),"")} | AN34: =SUM(Tabela_podst[[#This Row],[sem1.ects]],Tabela_podst[[#This Row],[sem2.ects]],Tabela_podst[[#This Row],[sem3.ects]],Tabela_podst[[#This Row],[sem4.ects]],Tabela_podst[[#This Row],[sem5.ects]],Tabela_podst[[#This Row],[sem6.ects]],Tabela_podst[[#This Row],[sem7.ects]],Tabela_podst[[#This Row],[sem8.ects]],Tabela_podst[[#This Row],[sem9.ects]],Tabela_podst[[#This Row],[sem10.ects]]) -> 1 | AO34: =IF(ISERR(SEARCH("UP",Tabela_podst[[#This Row],[Umiej.prakt.]],1)),0,Tabela_podst[[#This Row],[ects.razem]]) -> 0 | AP34: =IF(Tabela_podst[[#This Row],[czy.ects]]="TAK",ROUND((SUM(Tabela_podst[[#This Row],[godziny.konsultacja]],Tabela_podst[[#This Row],[godziny.egzamin]],Tabela_podst[[#This Row],[godziny.zajec.razem]])/25)/0.5,0)*0.5,0) -> 0.5 | AQ34: =SUM(Tabela_podst[[#This Row],[godziny.samoksztalcenie]],Tabela_podst[[#This Row],[godziny.konsultacja]],Tabela_podst[[#This Row],[godziny.egzamin]],Tabela_podst[[#This Row],[godziny.zajec.razem]]) -> 27 | AR34: =INT(SUM(Tabela_podst[[#This Row],[godziny.konsultacja]],Tabela_podst[[#This Row],[godziny.egzamin]],Tabela_podst[[#This Row],[godziny.zajec.razem]])*0.5+Tabela_podst[[#This Row],[godziny.zajec.razem]]*(15-$G$194)/9) -> 9 | AS34: =INT(Tabela_podst[[#This Row],[godziny.zajec.razem]]*0.1) -> 1 | AT34: =IF(Tabela_podst[[#This Row],[godziny.zajec.razem]]>0,IF(Tabela_podst[[#This Row],[godziny.zajec.razem]]>=45,4,2),0) -> 2 | AU34: =SUM(Tabela_podst[[#This Row],[sem1.godziny]],Tabela_podst[[#This Row],[sem2.godziny]],Tabela_podst[[#This Row],[sem3.godziny]],Tabela_podst[[#This Row],[sem4.godziny]],Tabela_podst[[#This Row],[sem5.godziny]],Tabela_podst[[#This Row],[sem6.godziny]],Tabela_podst[[#This Row],[sem7.godziny]],Tabela_podst[[#This Row],[sem8.godziny]],Tabela_podst[[#This Row],[sem9.godziny]],Tabela_podst[[#This Row],[sem10.godziny]]) -> 15 | AV34: =IF(Tabela_podst[[#This Row],[ects.bezposr.nauczyciel]],Tabela_podst[[#This Row],[ects.bezposr.nauczyciel]]/Tabela_podst[[#This Row],[ects.razem]],0) -> 0.5
B35: 0031 | C35: 504 | D35: pd.05.1 | E35: up | F35: Komunikacja interpersonalna | H35: konwersatorium | I35: TAK | J35: 15 | K35: {=IF(Tabela_podst[[#This Row],[czy.ects]]="TAK",_xlfn.IFS(AND(Tabela_podst[[#This Row],[sem1.godziny]]>=$Q$194,Tabela_podst[[#This Row],[sem1.forma]]="z"),8,AND(Tabela_podst[[#This Row],[sem1.godziny]]>=$I$194,Tabela_podst[[#This Row],[sem1.forma]]="z"),4,AND(Tabela_podst[[#This Row],[sem1.godziny]]>=$H$194,Tabela_podst[[#This Row],[sem1.forma]]="e"),2,AND(Tabela_podst[[#This Row],[sem1.godziny]]<$H$194,Tabela_podst[[#This Row],[sem1.forma]]="e"),1,AND(Tabela_podst[[#This Row],[sem1.godziny]]>=$H$194,Tabela_podst[[#This Row],[sem1.forma]]="z"),2,AND(Tabela_podst[[#This Row],[sem1.godziny]]<$H$194,Tabela_podst[[#This Row],[sem1.forma]]="z"),1,TRUE,""),"")} -> 1 | L35: z | N35: {=IF(Tabela_podst[[#This Row],[czy.ects]]="TAK",_xlfn.IFS(AND(Tabela_podst[[#This Row],[sem2.godziny]]>=$Q$194,Tabela_podst[[#This Row],[sem2.forma]]="z"),8,AND(Tabela_podst[[#This Row],[sem2.godziny]]>=$I$194,Tabela_podst[[#This Row],[sem2.forma]]="z"),4,AND(Tabela_podst[[#This Row],[sem2.godziny]]>=$H$194,Tabela_podst[[#This Row],[sem2.forma]]="e"),2,AND(Tabela_podst[[#This Row],[sem2.godziny]]<$H$194,Tabela_podst[[#This Row],[sem2.forma]]="e"),1,AND(Tabela_podst[[#This Row],[sem2.godziny]]>=$H$194,Tabela_podst[[#This Row],[sem2.forma]]="z"),2,AND(Tabela_podst[[#This Row],[sem2.godziny]]<$H$194,Tabela_podst[[#This Row],[sem2.forma]]="z"),1,TRUE,""),"")} | Q35: {=IF(Tabela_podst[[#This Row],[czy.ects]]="TAK",_xlfn.IFS(AND(Tabela_podst[[#This Row],[sem3.godziny]]>=$Q$194,Tabela_podst[[#This Row],[sem3.forma]]="z"),8,AND(Tabela_podst[[#This Row],[sem3.godziny]]>=$I$194,Tabela_podst[[#This Row],[sem3.forma]]="z"),4,AND(Tabela_podst[[#This Row],[sem3.godziny]]>=$H$194,Tabela_podst[[#This Row],[sem3.forma]]="e"),2,AND(Tabela_podst[[#This Row],[sem3.godziny]]<$H$194,Tabela_podst[[#This Row],[sem3.forma]]="e"),1,AND(Tabela_podst[[#This Row],[sem3.godziny]]>=$H$194,Tabela_podst[[#This Row],[sem3.forma]]="z"),2,AND(Tabela_podst[[#This Row],[sem3.godziny]]<$H$194,Tabela_podst[[#This Row],[sem3.forma]]="z"),1,TRUE,""),"")} | T35: {=IF(Tabela_podst[[#This Row],[czy.ects]]="TAK",_xlfn.IFS(AND(Tabela_podst[[#This Row],[sem4.godziny]]>=$Q$194,Tabela_podst[[#This Row],[sem4.forma]]="z"),8,AND(Tabela_podst[[#This Row],[sem4.godziny]]>=$I$194,Tabela_podst[[#This Row],[sem4.forma]]="z"),4,AND(Tabela_podst[[#This Row],[sem4.godziny]]>=$H$194,Tabela_podst[[#This Row],[sem4.forma]]="e"),2,AND(Tabela_podst[[#This Row],[sem4.godziny]]<$H$194,Tabela_podst[[#This Row],[sem4.forma]]="e"),1,AND(Tabela_podst[[#This Row],[sem4.godziny]]>=$H$194,Tabela_podst[[#This Row],[sem4.forma]]="z"),2,AND(Tabela_podst[[#This Row],[sem4.godziny]]<$H$194,Tabela_podst[[#This Row],[sem4.forma]]="z"),1,TRUE,""),"")} | W35: {=IF(Tabela_podst[[#This Row],[czy.ects]]="TAK",_xlfn.IFS(AND(Tabela_podst[[#This Row],[sem5.godziny]]>=$Q$194,Tabela_podst[[#This Row],[sem5.forma]]="z"),8,AND(Tabela_podst[[#This Row],[sem5.godziny]]>=$I$194,Tabela_podst[[#This Row],[sem5.forma]]="z"),4,AND(Tabela_podst[[#This Row],[sem5.godziny]]>=$H$194,Tabela_podst[[#This Row],[sem5.forma]]="e"),2,AND(Tabela_podst[[#This Row],[sem5.godziny]]<$H$194,Tabela_podst[[#This Row],[sem5.forma]]="e"),1,AND(Tabela_podst[[#This Row],[sem5.godziny]]>=$H$194,Tabela_podst[[#This Row],[sem5.forma]]="z"),2,AND(Tabela_podst[[#This Row],[sem5.godziny]]<$H$194,Tabela_podst[[#This Row],[sem5.forma]]="z"),1,TRUE,""),"")} | Z35: {=IF(Tabela_podst[[#This Row],[czy.ects]]="TAK",_xlfn.IFS(AND(Tabela_podst[[#This Row],[sem6.godziny]]>=$Q$194,Tabela_podst[[#This Row],[sem6.forma]]="z"),8,AND(Tabela_podst[[#This Row],[sem6.godziny]]>=$I$194,Tabela_podst[[#This Row],[sem6.forma]]="z"),4,AND(Tabela_podst[[#This Row],[sem6.godziny]]>=$H$194,Tabela_podst[[#This Row],[sem6.forma]]="e"),2,AND(Tabela_podst[[#This Row],[sem6.godziny]]<$H$194,Tabela_podst[[#This Row],[sem6.forma]]="e"),1,AND(Tabela_podst[[#This Row],[sem6.godziny]]>=$H$194,Tabela_podst[[#This Row],[sem6.forma]]="z"),2,AND(Tabela_podst[[#This Row],[sem6.godziny]]<$H$194,Tabela_podst[[#This Row],[sem6.forma]]="z"),1,TRUE,""),"")} | AC35: {=IF(Tabela_podst[[#This Row],[czy.ects]]="TAK",_xlfn.IFS(AND(Tabela_podst[[#This Row],[sem7.godziny]]>=$Q$194,Tabela_podst[[#This Row],[sem7.forma]]="z"),8,AND(Tabela_podst[[#This Row],[sem7.godziny]]>=$I$194,Tabela_podst[[#This Row],[sem7.forma]]="z"),4,AND(Tabela_podst[[#This Row],[sem7.godziny]]>=$H$194,Tabela_podst[[#This Row],[sem7.forma]]="e"),2,AND(Tabela_podst[[#This Row],[sem7.godziny]]<$H$194,Tabela_podst[[#This Row],[sem7.forma]]="e"),1,AND(Tabela_podst[[#This Row],[sem7.godziny]]>=$H$194,Tabela_podst[[#This Row],[sem7.forma]]="z"),2,AND(Tabela_podst[[#This Row],[sem7.godziny]]<$H$194,Tabela_podst[[#This Row],[sem7.forma]]="z"),1,TRUE,""),"")} | AF35: {=IF(Tabela_podst[[#This Row],[czy.ects]]="TAK",_xlfn.IFS(AND(Tabela_podst[[#This Row],[sem8.godziny]]>=$Q$194,Tabela_podst[[#This Row],[sem8.forma]]="z"),8,AND(Tabela_podst[[#This Row],[sem8.godziny]]>=$I$194,Tabela_podst[[#This Row],[sem8.forma]]="z"),4,AND(Tabela_podst[[#This Row],[sem8.godziny]]>=$H$194,Tabela_podst[[#This Row],[sem8.forma]]="e"),2,AND(Tabela_podst[[#This Row],[sem8.godziny]]<$H$194,Tabela_podst[[#This Row],[sem8.forma]]="e"),1,AND(Tabela_podst[[#This Row],[sem8.godziny]]>=$H$194,Tabela_podst[[#This Row],[sem8.forma]]="z"),2,AND(Tabela_podst[[#This Row],[sem8.godziny]]<$H$194,Tabela_podst[[#This Row],[sem8.forma]]="z"),1,TRUE,""),"")} | AI35: {=IF(Tabela_podst[[#This Row],[czy.ects]]="TAK",_xlfn.IFS(AND(Tabela_podst[[#This Row],[sem9.godziny]]>=$Q$194,Tabela_podst[[#This Row],[sem9.forma]]="z"),8,AND(Tabela_podst[[#This Row],[sem9.godziny]]>=$I$194,Tabela_podst[[#This Row],[sem9.forma]]="z"),4,AND(Tabela_podst[[#This Row],[sem9.godziny]]>=$H$194,Tabela_podst[[#This Row],[sem9.forma]]="e"),2,AND(Tabela_podst[[#This Row],[sem9.godziny]]<$H$194,Tabela_podst[[#This Row],[sem9.forma]]="e"),1,AND(Tabela_podst[[#This Row],[sem9.godziny]]>=$H$194,Tabela_podst[[#This Row],[sem9.forma]]="z"),2,AND(Tabela_podst[[#This Row],[sem9.godziny]]<$H$194,Tabela_podst[[#This Row],[sem9.forma]]="z"),1,TRUE,""),"")} | AL35: {=IF(Tabela_podst[[#This Row],[czy.ects]]="TAK",_xlfn.IFS(AND(Tabela_podst[[#This Row],[sem10.godziny]]>=$Q$194,Tabela_podst[[#This Row],[sem10.forma]]="z"),8,AND(Tabela_podst[[#This Row],[sem10.godziny]]>=$I$194,Tabela_podst[[#This Row],[sem10.forma]]="z"),4,AND(Tabela_podst[[#This Row],[sem10.godziny]]>=$H$194,Tabela_podst[[#This Row],[sem10.forma]]="e"),2,AND(Tabela_podst[[#This Row],[sem10.godziny]]<$H$194,Tabela_podst[[#This Row],[sem10.forma]]="e"),1,AND(Tabela_podst[[#This Row],[sem10.godziny]]>=$H$194,Tabela_podst[[#This Row],[sem10.forma]]="z"),2,AND(Tabela_podst[[#This Row],[sem10.godziny]]<$H$194,Tabela_podst[[#This Row],[sem10.forma]]="z"),1,TRUE,""),"")} | AN35: =SUM(Tabela_podst[[#This Row],[sem1.ects]],Tabela_podst[[#This Row],[sem2.ects]],Tabela_podst[[#This Row],[sem3.ects]],Tabela_podst[[#This Row],[sem4.ects]],Tabela_podst[[#This Row],[sem5.ects]],Tabela_podst[[#This Row],[sem6.ects]],Tabela_podst[[#This Row],[sem7.ects]],Tabela_podst[[#This Row],[sem8.ects]],Tabela_podst[[#This Row],[sem9.ects]],Tabela_podst[[#This Row],[sem10.ects]]) -> 1 | AO35: =IF(ISERR(SEARCH("UP",Tabela_podst[[#This Row],[Umiej.prakt.]],1)),0,Tabela_podst[[#This Row],[ects.razem]]) -> 1 | AP35: =IF(Tabela_podst[[#This Row],[czy.ects]]="TAK",ROUND((SUM(Tabela_podst[[#This Row],[godziny.konsultacja]],Tabela_podst[[#This Row],[godziny.egzamin]],Tabela_podst[[#This Row],[godziny.zajec.razem]])/25)/0.5,0)*0.5,0) -> 0.5 | AQ35: =SUM(Tabela_podst[[#This Row],[godziny.samoksztalcenie]],Tabela_podst[[#This Row],[godziny.konsultacja]],Tabela_podst[[#This Row],[godziny.egzamin]],Tabela_podst[[#This Row],[godziny.zajec.razem]]) -> 27 | AR35: =INT(SUM(Tabela_podst[[#This Row],[godziny.konsultacja]],Tabela_podst[[#This Row],[godziny.egzamin]],Tabela_podst[[#This Row],[godziny.zajec.razem]])*0.5+Tabela_podst[[#This Row],[godziny.zajec.razem]]*(15-$G$194)/9) -> 9 | AS35: =INT(Tabela_podst[[#This Row],[godziny.zajec.razem]]*0.1) -> 1 | AT35: =IF(Tabela_podst[[#This Row],[godziny.zajec.razem]]>0,IF(Tabela_podst[[#This Row],[godziny.zajec.razem]]>=45,4,2),0) -> 2 | AU35: =SUM(Tabela_podst[[#This Row],[sem1.godziny]],Tabela_podst[[#This Row],[sem2.godziny]],Tabela_podst[[#This Row],[sem3.godziny]],Tabela_podst[[#This Row],[sem4.godziny]],Tabela_podst[[#This Row],[sem5.godziny]],Tabela_podst[[#This Row],[sem6.godziny]],Tabela_podst[[#This Row],[sem7.godziny]],Tabela_podst[[#This Row],[sem8.godziny]],Tabela_podst[[#This Row],[sem9.godziny]],Tabela_podst[[#This Row],[sem10.godziny]]) -> 15 | AV35: =IF(Tabela_podst[[#This Row],[ects.bezposr.nauczyciel]],Tabela_podst[[#This Row],[ects.bezposr.nauczyciel]]/Tabela_podst[[#This Row],[ects.razem]],0) -> 0.5
B36: 0311 | C36: 501 | D36: pd.06.1 | F36: Marketing | H36: konwersatorium | I36: TAK | J36: 30 | K36: 3 | L36: z | N36: {=IF(Tabela_podst[[#This Row],[czy.ects]]="TAK",_xlfn.IFS(AND(Tabela_podst[[#This Row],[sem2.godziny]]>=$Q$194,Tabela_podst[[#This Row],[sem2.forma]]="z"),8,AND(Tabela_podst[[#This Row],[sem2.godziny]]>=$I$194,Tabela_podst[[#This Row],[sem2.forma]]="z"),4,AND(Tabela_podst[[#This Row],[sem2.godziny]]>=$H$194,Tabela_podst[[#This Row],[sem2.forma]]="e"),2,AND(Tabela_podst[[#This Row],[sem2.godziny]]<$H$194,Tabela_podst[[#This Row],[sem2.forma]]="e"),1,AND(Tabela_podst[[#This Row],[sem2.godziny]]>=$H$194,Tabela_podst[[#This Row],[sem2.forma]]="z"),2,AND(Tabela_podst[[#This Row],[sem2.godziny]]<$H$194,Tabela_podst[[#This Row],[sem2.forma]]="z"),1,TRUE,""),"")} | Q36: {=IF(Tabela_podst[[#This Row],[czy.ects]]="TAK",_xlfn.IFS(AND(Tabela_podst[[#This Row],[sem3.godziny]]>=$Q$194,Tabela_podst[[#This Row],[sem3.forma]]="z"),8,AND(Tabela_podst[[#This Row],[sem3.godziny]]>=$I$194,Tabela_podst[[#This Row],[sem3.forma]]="z"),4,AND(Tabela_podst[[#This Row],[sem3.godziny]]>=$H$194,Tabela_podst[[#This Row],[sem3.forma]]="e"),2,AND(Tabela_podst[[#This Row],[sem3.godziny]]<$H$194,Tabela_podst[[#This Row],[sem3.forma]]="e"),1,AND(Tabela_podst[[#This Row],[sem3.godziny]]>=$H$194,Tabela_podst[[#This Row],[sem3.forma]]="z"),2,AND(Tabela_podst[[#This Row],[sem3.godziny]]<$H$194,Tabela_podst[[#This Row],[sem3.forma]]="z"),1,TRUE,""),"")} | T36: {=IF(Tabela_podst[[#This Row],[czy.ects]]="TAK",_xlfn.IFS(AND(Tabela_podst[[#This Row],[sem4.godziny]]>=$Q$194,Tabela_podst[[#This Row],[sem4.forma]]="z"),8,AND(Tabela_podst[[#This Row],[sem4.godziny]]>=$I$194,Tabela_podst[[#This Row],[sem4.forma]]="z"),4,AND(Tabela_podst[[#This Row],[sem4.godziny]]>=$H$194,Tabela_podst[[#This Row],[sem4.forma]]="e"),2,AND(Tabela_podst[[#This Row],[sem4.godziny]]<$H$194,Tabela_podst[[#This Row],[sem4.forma]]="e"),1,AND(Tabela_podst[[#This Row],[sem4.godziny]]>=$H$194,Tabela_podst[[#This Row],[sem4.forma]]="z"),2,AND(Tabela_podst[[#This Row],[sem4.godziny]]<$H$194,Tabela_podst[[#This Row],[sem4.forma]]="z"),1,TRUE,""),"")} | W36: {=IF(Tabela_podst[[#This Row],[czy.ects]]="TAK",_xlfn.IFS(AND(Tabela_podst[[#This Row],[sem5.godziny]]>=$Q$194,Tabela_podst[[#This Row],[sem5.forma]]="z"),8,AND(Tabela_podst[[#This Row],[sem5.godziny]]>=$I$194,Tabela_podst[[#This Row],[sem5.forma]]="z"),4,AND(Tabela_podst[[#This Row],[sem5.godziny]]>=$H$194,Tabela_podst[[#This Row],[sem5.forma]]="e"),2,AND(Tabela_podst[[#This Row],[sem5.godziny]]<$H$194,Tabela_podst[[#This Row],[sem5.forma]]="e"),1,AND(Tabela_podst[[#This Row],[sem5.godziny]]>=$H$194,Tabela_podst[[#This Row],[sem5.forma]]="z"),2,AND(Tabela_podst[[#This Row],[sem5.godziny]]<$H$194,Tabela_podst[[#This Row],[sem5.forma]]="z"),1,TRUE,""),"")} | Z36: {=IF(Tabela_podst[[#This Row],[czy.ects]]="TAK",_xlfn.IFS(AND(Tabela_podst[[#This Row],[sem6.godziny]]>=$Q$194,Tabela_podst[[#This Row],[sem6.forma]]="z"),8,AND(Tabela_podst[[#This Row],[sem6.godziny]]>=$I$194,Tabela_podst[[#This Row],[sem6.forma]]="z"),4,AND(Tabela_podst[[#This Row],[sem6.godziny]]>=$H$194,Tabela_podst[[#This Row],[sem6.forma]]="e"),2,AND(Tabela_podst[[#This Row],[sem6.godziny]]<$H$194,Tabela_podst[[#This Row],[sem6.forma]]="e"),1,AND(Tabela_podst[[#This Row],[sem6.godziny]]>=$H$194,Tabela_podst[[#This Row],[sem6.forma]]="z"),2,AND(Tabela_podst[[#This Row],[sem6.godziny]]<$H$194,Tabela_podst[[#This Row],[sem6.forma]]="z"),1,TRUE,""),"")} | AC36: {=IF(Tabela_podst[[#This Row],[czy.ects]]="TAK",_xlfn.IFS(AND(Tabela_podst[[#This Row],[sem7.godziny]]>=$Q$194,Tabela_podst[[#This Row],[sem7.forma]]="z"),8,AND(Tabela_podst[[#This Row],[sem7.godziny]]>=$I$194,Tabela_podst[[#This Row],[sem7.forma]]="z"),4,AND(Tabela_podst[[#This Row],[sem7.godziny]]>=$H$194,Tabela_podst[[#This Row],[sem7.forma]]="e"),2,AND(Tabela_podst[[#This Row],[sem7.godziny]]<$H$194,Tabela_podst[[#This Row],[sem7.forma]]="e"),1,AND(Tabela_podst[[#This Row],[sem7.godziny]]>=$H$194,Tabela_podst[[#This Row],[sem7.forma]]="z"),2,AND(Tabela_podst[[#This Row],[sem7.godziny]]<$H$194,Tabela_podst[[#This Row],[sem7.forma]]="z"),1,TRUE,""),"")} | AF36: {=IF(Tabela_podst[[#This Row],[czy.ects]]="TAK",_xlfn.IFS(AND(Tabela_podst[[#This Row],[sem8.godziny]]>=$Q$194,Tabela_podst[[#This Row],[sem8.forma]]="z"),8,AND(Tabela_podst[[#This Row],[sem8.godziny]]>=$I$194,Tabela_podst[[#This Row],[sem8.forma]]="z"),4,AND(Tabela_podst[[#This Row],[sem8.godziny]]>=$H$194,Tabela_podst[[#This Row],[sem8.forma]]="e"),2,AND(Tabela_podst[[#This Row],[sem8.godziny]]<$H$194,Tabela_podst[[#This Row],[sem8.forma]]="e"),1,AND(Tabela_podst[[#This Row],[sem8.godziny]]>=$H$194,Tabela_podst[[#This Row],[sem8.forma]]="z"),2,AND(Tabela_podst[[#This Row],[sem8.godziny]]<$H$194,Tabela_podst[[#This Row],[sem8.forma]]="z"),1,TRUE,""),"")} | AI36: {=IF(Tabela_podst[[#This Row],[czy.ects]]="TAK",_xlfn.IFS(AND(Tabela_podst[[#This Row],[sem9.godziny]]>=$Q$194,Tabela_podst[[#This Row],[sem9.forma]]="z"),8,AND(Tabela_podst[[#This Row],[sem9.godziny]]>=$I$194,Tabela_podst[[#This Row],[sem9.forma]]="z"),4,AND(Tabela_podst[[#This Row],[sem9.godziny]]>=$H$194,Tabela_podst[[#This Row],[sem9.forma]]="e"),2,AND(Tabela_podst[[#This Row],[sem9.godziny]]<$H$194,Tabela_podst[[#This Row],[sem9.forma]]="e"),1,AND(Tabela_podst[[#This Row],[sem9.godziny]]>=$H$194,Tabela_podst[[#This Row],[sem9.forma]]="z"),2,AND(Tabela_podst[[#This Row],[sem9.godziny]]<$H$194,Tabela_podst[[#This Row],[sem9.forma]]="z"),1,TRUE,""),"")} | AL36: {=IF(Tabela_podst[[#This Row],[czy.ects]]="TAK",_xlfn.IFS(AND(Tabela_podst[[#This Row],[sem10.godziny]]>=$Q$194,Tabela_podst[[#This Row],[sem10.forma]]="z"),8,AND(Tabela_podst[[#This Row],[sem10.godziny]]>=$I$194,Tabela_podst[[#This Row],[sem10.forma]]="z"),4,AND(Tabela_podst[[#This Row],[sem10.godziny]]>=$H$194,Tabela_podst[[#This Row],[sem10.forma]]="e"),2,AND(Tabela_podst[[#This Row],[sem10.godziny]]<$H$194,Tabela_podst[[#This Row],[sem10.forma]]="e"),1,AND(Tabela_podst[[#This Row],[sem10.godziny]]>=$H$194,Tabela_podst[[#This Row],[sem10.forma]]="z"),2,AND(Tabela_podst[[#This Row],[sem10.godziny]]<$H$194,Tabela_podst[[#This Row],[sem10.forma]]="z"),1,TRUE,""),"")} | AN36: =SUM(Tabela_podst[[#This Row],[sem1.ects]],Tabela_podst[[#This Row],[sem2.ects]],Tabela_podst[[#This Row],[sem3.ects]],Tabela_podst[[#This Row],[sem4.ects]],Tabela_podst[[#This Row],[sem5.ects]],Tabela_podst[[#This Row],[sem6.ects]],Tabela_podst[[#This Row],[sem7.ects]],Tabela_podst[[#This Row],[sem8.ects]],Tabela_podst[[#This Row],[sem9.ects]],Tabela_podst[[#This Row],[sem10.ects]]) -> 3 | AO36: =IF(ISERR(SEARCH("UP",Tabela_podst[[#This Row],[Umiej.prakt.]],1)),0,Tabela_podst[[#This Row],[ects.razem]]) -> 0 | AP36: =IF(Tabela_podst[[#This Row],[czy.ects]]="TAK",ROUND((SUM(Tabela_podst[[#This Row],[godziny.konsultacja]],Tabela_podst[[#This Row],[godziny.egzamin]],Tabela_podst[[#This Row],[godziny.zajec.razem]])/25)/0.5,0)*0.5,0) -> 1.5 | AQ36: =SUM(Tabela_podst[[#This Row],[godziny.samoksztalcenie]],Tabela_podst[[#This Row],[godziny.konsultacja]],Tabela_podst[[#This Row],[godziny.egzamin]],Tabela_podst[[#This Row],[godziny.zajec.razem]]) -> 52 | AR36: =INT(SUM(Tabela_podst[[#This Row],[godziny.konsultacja]],Tabela_podst[[#This Row],[godziny.egzamin]],Tabela_podst[[#This Row],[godziny.zajec.razem]])*0.5+Tabela_podst[[#This Row],[godziny.zajec.razem]]*(15-$G$194)/9) -> 17 | AS36: =INT(Tabela_podst[[#This Row],[godziny.zajec.razem]]*0.1) -> 3 | AT36: =IF(Tabela_podst[[#This Row],[godziny.zajec.razem]]>0,IF(Tabela_podst[[#This Row],[godziny.zajec.razem]]>=45,4,2),0) -> 2 | AU36: =SUM(Tabela_podst[[#This Row],[sem1.godziny]],Tabela_podst[[#This Row],[sem2.godziny]],Tabela_podst[[#This Row],[sem3.godziny]],Tabela_podst[[#This Row],[sem4.godziny]],Tabela_podst[[#This Row],[sem5.godziny]],Tabela_podst[[#This Row],[sem6.godziny]],Tabela_podst[[#This Row],[sem7.godziny]],Tabela_podst[[#This Row],[sem8.godziny]],Tabela_podst[[#This Row],[sem9.godziny]],Tabela_podst[[#This Row],[sem10.godziny]]) -> 30 | AV36: =IF(Tabela_podst[[#This Row],[ects.bezposr.nauczyciel]],Tabela_podst[[#This Row],[ects.bezposr.nauczyciel]]/Tabela_podst[[#This Row],[ects.razem]],0) -> 0.5
B37: 0311 | C37: 501 | D37: pd.07.1 | F37: Mikroekonomia | H37: wykład | I37: TAK | K37: {=IF(Tabela_podst[[#This Row],[czy.ects]]="TAK",_xlfn.IFS(AND(Tabela_podst[[#This Row],[sem1.godziny]]>=$Q$194,Tabela_podst[[#This Row],[sem1.forma]]="z"),8,AND(Tabela_podst[[#This Row],[sem1.godziny]]>=$I$194,Tabela_podst[[#This Row],[sem1.forma]]="z"),4,AND(Tabela_podst[[#This Row],[sem1.godziny]]>=$H$194,Tabela_podst[[#This Row],[sem1.forma]]="e"),2,AND(Tabela_podst[[#This Row],[sem1.godziny]]<$H$194,Tabela_podst[[#This Row],[sem1.forma]]="e"),1,AND(Tabela_podst[[#This Row],[sem1.godziny]]>=$H$194,Tabela_podst[[#This Row],[sem1.forma]]="z"),2,AND(Tabela_podst[[#This Row],[sem1.godziny]]<$H$194,Tabela_podst[[#This Row],[sem1.forma]]="z"),1,TRUE,""),"")} | M37: 15 | N37: {=IF(Tabela_podst[[#This Row],[czy.ects]]="TAK",_xlfn.IFS(AND(Tabela_podst[[#This Row],[sem2.godziny]]>=$Q$194,Tabela_podst[[#This Row],[sem2.forma]]="z"),8,AND(Tabela_podst[[#This Row],[sem2.godziny]]>=$I$194,Tabela_podst[[#This Row],[sem2.forma]]="z"),4,AND(Tabela_podst[[#This Row],[sem2.godziny]]>=$H$194,Tabela_podst[[#This Row],[sem2.forma]]="e"),2,AND(Tabela_podst[[#This Row],[sem2.godziny]]<$H$194,Tabela_podst[[#This Row],[sem2.forma]]="e"),1,AND(Tabela_podst[[#This Row],[sem2.godziny]]>=$H$194,Tabela_podst[[#This Row],[sem2.forma]]="z"),2,AND(Tabela_podst[[#This Row],[sem2.godziny]]<$H$194,Tabela_podst[[#This Row],[sem2.forma]]="z"),1,TRUE,""),"")} -> 1 | O37: z | Q37: {=IF(Tabela_podst[[#This Row],[czy.ects]]="TAK",_xlfn.IFS(AND(Tabela_podst[[#This Row],[sem3.godziny]]>=$Q$194,Tabela_podst[[#This Row],[sem3.forma]]="z"),8,AND(Tabela_podst[[#This Row],[sem3.godziny]]>=$I$194,Tabela_podst[[#This Row],[sem3.forma]]="z"),4,AND(Tabela_podst[[#This Row],[sem3.godziny]]>=$H$194,Tabela_podst[[#This Row],[sem3.forma]]="e"),2,AND(Tabela_podst[[#This Row],[sem3.godziny]]<$H$194,Tabela_podst[[#This Row],[sem3.forma]]="e"),1,AND(Tabela_podst[[#This Row],[sem3.godziny]]>=$H$194,Tabela_podst[[#This Row],[sem3.forma]]="z"),2,AND(Tabela_podst[[#This Row],[sem3.godziny]]<$H$194,Tabela_podst[[#This Row],[sem3.forma]]="z"),1,TRUE,""),"")} | T37: {=IF(Tabela_podst[[#This Row],[czy.ects]]="TAK",_xlfn.IFS(AND(Tabela_podst[[#This Row],[sem4.godziny]]>=$Q$194,Tabela_podst[[#This Row],[sem4.forma]]="z"),8,AND(Tabela_podst[[#This Row],[sem4.godziny]]>=$I$194,Tabela_podst[[#This Row],[sem4.forma]]="z"),4,AND(Tabela_podst[[#This Row],[sem4.godziny]]>=$H$194,Tabela_podst[[#This Row],[sem4.forma]]="e"),2,AND(Tabela_podst[[#This Row],[sem4.godziny]]<$H$194,Tabela_podst[[#This Row],[sem4.forma]]="e"),1,AND(Tabela_podst[[#This Row],[sem4.godziny]]>=$H$194,Tabela_podst[[#This Row],[sem4.forma]]="z"),2,AND(Tabela_podst[[#This Row],[sem4.godziny]]<$H$194,Tabela_podst[[#This Row],[sem4.forma]]="z"),1,TRUE,""),"")} | W37: {=IF(Tabela_podst[[#This Row],[czy.ects]]="TAK",_xlfn.IFS(AND(Tabela_podst[[#This Row],[sem5.godziny]]>=$Q$194,Tabela_podst[[#This Row],[sem5.forma]]="z"),8,AND(Tabela_podst[[#This Row],[sem5.godziny]]>=$I$194,Tabela_podst[[#This Row],[sem5.forma]]="z"),4,AND(Tabela_podst[[#This Row],[sem5.godziny]]>=$H$194,Tabela_podst[[#This Row],[sem5.forma]]="e"),2,AND(Tabela_podst[[#This Row],[sem5.godziny]]<$H$194,Tabela_podst[[#This Row],[sem5.forma]]="e"),1,AND(Tabela_podst[[#This Row],[sem5.godziny]]>=$H$194,Tabela_podst[[#This Row],[sem5.forma]]="z"),2,AND(Tabela_podst[[#This Row],[sem5.godziny]]<$H$194,Tabela_podst[[#This Row],[sem5.forma]]="z"),1,TRUE,""),"")} | Z37: {=IF(Tabela_podst[[#This Row],[czy.ects]]="TAK",_xlfn.IFS(AND(Tabela_podst[[#This Row],[sem6.godziny]]>=$Q$194,Tabela_podst[[#This Row],[sem6.forma]]="z"),8,AND(Tabela_podst[[#This Row],[sem6.godziny]]>=$I$194,Tabela_podst[[#This Row],[sem6.forma]]="z"),4,AND(Tabela_podst[[#This Row],[sem6.godziny]]>=$H$194,Tabela_podst[[#This Row],[sem6.forma]]="e"),2,AND(Tabela_podst[[#This Row],[sem6.godziny]]<$H$194,Tabela_podst[[#This Row],[sem6.forma]]="e"),1,AND(Tabela_podst[[#This Row],[sem6.godziny]]>=$H$194,Tabela_podst[[#This Row],[sem6.forma]]="z"),2,AND(Tabela_podst[[#This Row],[sem6.godziny]]<$H$194,Tabela_podst[[#This Row],[sem6.forma]]="z"),1,TRUE,""),"")} | AC37: {=IF(Tabela_podst[[#This Row],[czy.ects]]="TAK",_xlfn.IFS(AND(Tabela_podst[[#This Row],[sem7.godziny]]>=$Q$194,Tabela_podst[[#This Row],[sem7.forma]]="z"),8,AND(Tabela_podst[[#This Row],[sem7.godziny]]>=$I$194,Tabela_podst[[#This Row],[sem7.forma]]="z"),4,AND(Tabela_podst[[#This Row],[sem7.godziny]]>=$H$194,Tabela_podst[[#This Row],[sem7.forma]]="e"),2,AND(Tabela_podst[[#This Row],[sem7.godziny]]<$H$194,Tabela_podst[[#This Row],[sem7.forma]]="e"),1,AND(Tabela_podst[[#This Row],[sem7.godziny]]>=$H$194,Tabela_podst[[#This Row],[sem7.forma]]="z"),2,AND(Tabela_podst[[#This Row],[sem7.godziny]]<$H$194,Tabela_podst[[#This Row],[sem7.forma]]="z"),1,TRUE,""),"")} | AF37: {=IF(Tabela_podst[[#This Row],[czy.ects]]="TAK",_xlfn.IFS(AND(Tabela_podst[[#This Row],[sem8.godziny]]>=$Q$194,Tabela_podst[[#This Row],[sem8.forma]]="z"),8,AND(Tabela_podst[[#This Row],[sem8.godziny]]>=$I$194,Tabela_podst[[#This Row],[sem8.forma]]="z"),4,AND(Tabela_podst[[#This Row],[sem8.godziny]]>=$H$194,Tabela_podst[[#This Row],[sem8.forma]]="e"),2,AND(Tabela_podst[[#This Row],[sem8.godziny]]<$H$194,Tabela_podst[[#This Row],[sem8.forma]]="e"),1,AND(Tabela_podst[[#This Row],[sem8.godziny]]>=$H$194,Tabela_podst[[#This Row],[sem8.forma]]="z"),2,AND(Tabela_podst[[#This Row],[sem8.godziny]]<$H$194,Tabela_podst[[#This Row],[sem8.forma]]="z"),1,TRUE,""),"")} | AI37: {=IF(Tabela_podst[[#This Row],[czy.ects]]="TAK",_xlfn.IFS(AND(Tabela_podst[[#This Row],[sem9.godziny]]>=$Q$194,Tabela_podst[[#This Row],[sem9.forma]]="z"),8,AND(Tabela_podst[[#This Row],[sem9.godziny]]>=$I$194,Tabela_podst[[#This Row],[sem9.forma]]="z"),4,AND(Tabela_podst[[#This Row],[sem9.godziny]]>=$H$194,Tabela_podst[[#This Row],[sem9.forma]]="e"),2,AND(Tabela_podst[[#This Row],[sem9.godziny]]<$H$194,Tabela_podst[[#This Row],[sem9.forma]]="e"),1,AND(Tabela_podst[[#This Row],[sem9.godziny]]>=$H$194,Tabela_podst[[#This Row],[sem9.forma]]="z"),2,AND(Tabela_podst[[#This Row],[sem9.godziny]]<$H$194,Tabela_podst[[#This Row],[sem9.forma]]="z"),1,TRUE,""),"")} | AL37: {=IF(Tabela_podst[[#This Row],[czy.ects]]="TAK",_xlfn.IFS(AND(Tabela_podst[[#This Row],[sem10.godziny]]>=$Q$194,Tabela_podst[[#This Row],[sem10.forma]]="z"),8,AND(Tabela_podst[[#This Row],[sem10.godziny]]>=$I$194,Tabela_podst[[#This Row],[sem10.forma]]="z"),4,AND(Tabela_podst[[#This Row],[sem10.godziny]]>=$H$194,Tabela_podst[[#This Row],[sem10.forma]]="e"),2,AND(Tabela_podst[[#This Row],[sem10.godziny]]<$H$194,Tabela_podst[[#This Row],[sem10.forma]]="e"),1,AND(Tabela_podst[[#This Row],[sem10.godziny]]>=$H$194,Tabela_podst[[#This Row],[sem10.forma]]="z"),2,AND(Tabela_podst[[#This Row],[sem10.godziny]]<$H$194,Tabela_podst[[#This Row],[sem10.forma]]="z"),1,TRUE,""),"")} | AN37: =SUM(Tabela_podst[[#This Row],[sem1.ects]],Tabela_podst[[#This Row],[sem2.ects]],Tabela_podst[[#This Row],[sem3.ects]],Tabela_podst[[#This Row],[sem4.ects]],Tabela_podst[[#This Row],[sem5.ects]],Tabela_podst[[#This Row],[sem6.ects]],Tabela_podst[[#This Row],[sem7.ects]],Tabela_podst[[#This Row],[sem8.ects]],Tabela_podst[[#This Row],[sem9.ects]],Tabela_podst[[#This Row],[sem10.ects]]) -> 1 | AO37: =IF(ISERR(SEARCH("UP",Tabela_podst[[#This Row],[Umiej.prakt.]],1)),0,Tabela_podst[[#This Row],[ects.razem]]) -> 0 | AP37: =IF(Tabela_podst[[#This Row],[czy.ects]]="TAK",ROUND((SUM(Tabela_podst[[#This Row],[godziny.konsultacja]],Tabela_podst[[#This Row],[godziny.egzamin]],Tabela_podst[[#This Row],[godziny.zajec.razem]])/25)/0.5,0)*0.5,0) -> 0.5 | AQ37: =SUM(Tabela_podst[[#This Row],[godziny.samoksztalcenie]],Tabela_podst[[#This Row],[godziny.konsultacja]],Tabela_podst[[#This Row],[godziny.egzamin]],Tabela_podst[[#This Row],[godziny.zajec.razem]]) -> 27 | AR37: =INT(SUM(Tabela_podst[[#This Row],[godziny.konsultacja]],Tabela_podst[[#This Row],[godziny.egzamin]],Tabela_podst[[#This Row],[godziny.zajec.razem]])*0.5+Tabela_podst[[#This Row],[godziny.zajec.razem]]*(15-$G$194)/9) -> 9 | AS37: =INT(Tabela_podst[[#This Row],[godziny.zajec.razem]]*0.1) -> 1 | AT37: =IF(Tabela_podst[[#This Row],[godziny.zajec.razem]]>0,IF(Tabela_podst[[#This Row],[godziny.zajec.razem]]>=45,4,2),0) -> 2 | AU37: =SUM(Tabela_podst[[#This Row],[sem1.godziny]],Tabela_podst[[#This Row],[sem2.godziny]],Tabela_podst[[#This Row],[sem3.godziny]],Tabela_podst[[#This Row],[sem4.godziny]],Tabela_podst[[#This Row],[sem5.godziny]],Tabela_podst[[#This Row],[sem6.godziny]],Tabela_podst[[#This Row],[sem7.godziny]],Tabela_podst[[#This Row],[sem8.godziny]],Tabela_podst[[#This Row],[sem9.godziny]],Tabela_podst[[#This Row],[sem10.godziny]]) -> 15 | AV37: =IF(Tabela_podst[[#This Row],[ects.bezposr.nauczyciel]],Tabela_podst[[#This Row],[ects.bezposr.nauczyciel]]/Tabela_podst[[#This Row],[ects.razem]],0) -> 0.5
B38: 0588 | C38: 501 | D38: pd.07.2 | F38: Mikroekonomia | H38: ćwiczenia | I38: TAK | K38: {=IF(Tabela_podst[[#This Row],[czy.ects]]="TAK",_xlfn.IFS(AND(Tabela_podst[[#This Row],[sem1.godziny]]>=$Q$194,Tabela_podst[[#This Row],[sem1.forma]]="z"),8,AND(Tabela_podst[[#This Row],[sem1.godziny]]>=$I$194,Tabela_podst[[#This Row],[sem1.forma]]="z"),4,AND(Tabela_podst[[#This Row],[sem1.godziny]]>=$H$194,Tabela_podst[[#This Row],[sem1.forma]]="e"),2,AND(Tabela_podst[[#This Row],[sem1.godziny]]<$H$194,Tabela_podst[[#This Row],[sem1.forma]]="e"),1,AND(Tabela_podst[[#This Row],[sem1.godziny]]>=$H$194,Tabela_podst[[#This Row],[sem1.forma]]="z"),2,AND(Tabela_podst[[#This Row],[sem1.godziny]]<$H$194,Tabela_podst[[#This Row],[sem1.forma]]="z"),1,TRUE,""),"")} | M38: 15 | N38: {=IF(Tabela_podst[[#This Row],[czy.ects]]="TAK",_xlfn.IFS(AND(Tabela_podst[[#This Row],[sem2.godziny]]>=$Q$194,Tabela_podst[[#This Row],[sem2.forma]]="z"),8,AND(Tabela_podst[[#This Row],[sem2.godziny]]>=$I$194,Tabela_podst[[#This Row],[sem2.forma]]="z"),4,AND(Tabela_podst[[#This Row],[sem2.godziny]]>=$H$194,Tabela_podst[[#This Row],[sem2.forma]]="e"),2,AND(Tabela_podst[[#This Row],[sem2.godziny]]<$H$194,Tabela_podst[[#This Row],[sem2.forma]]="e"),1,AND(Tabela_podst[[#This Row],[sem2.godziny]]>=$H$194,Tabela_podst[[#This Row],[sem2.forma]]="z"),2,AND(Tabela_podst[[#This Row],[sem2.godziny]]<$H$194,Tabela_podst[[#This Row],[sem2.forma]]="z"),1,TRUE,""),"")} -> 1 | O38: z | Q38: {=IF(Tabela_podst[[#This Row],[czy.ects]]="TAK",_xlfn.IFS(AND(Tabela_podst[[#This Row],[sem3.godziny]]>=$Q$194,Tabela_podst[[#This Row],[sem3.forma]]="z"),8,AND(Tabela_podst[[#This Row],[sem3.godziny]]>=$I$194,Tabela_podst[[#This Row],[sem3.forma]]="z"),4,AND(Tabela_podst[[#This Row],[sem3.godziny]]>=$H$194,Tabela_podst[[#This Row],[sem3.forma]]="e"),2,AND(Tabela_podst[[#This Row],[sem3.godziny]]<$H$194,Tabela_podst[[#This Row],[sem3.forma]]="e"),1,AND(Tabela_podst[[#This Row],[sem3.godziny]]>=$H$194,Tabela_podst[[#This Row],[sem3.forma]]="z"),2,AND(Tabela_podst[[#This Row],[sem3.godziny]]<$H$194,Tabela_podst[[#This Row],[sem3.forma]]="z"),1,TRUE,""),"")} | T38: {=IF(Tabela_podst[[#This Row],[czy.ects]]="TAK",_xlfn.IFS(AND(Tabela_podst[[#This Row],[sem4.godziny]]>=$Q$194,Tabela_podst[[#This Row],[sem4.forma]]="z"),8,AND(Tabela_podst[[#This Row],[sem4.godziny]]>=$I$194,Tabela_podst[[#This Row],[sem4.forma]]="z"),4,AND(Tabela_podst[[#This Row],[sem4.godziny]]>=$H$194,Tabela_podst[[#This Row],[sem4.forma]]="e"),2,AND(Tabela_podst[[#This Row],[sem4.godziny]]<$H$194,Tabela_podst[[#This Row],[sem4.forma]]="e"),1,AND(Tabela_podst[[#This Row],[sem4.godziny]]>=$H$194,Tabela_podst[[#This Row],[sem4.forma]]="z"),2,AND(Tabela_podst[[#This Row],[sem4.godziny]]<$H$194,Tabela_podst[[#This Row],[sem4.forma]]="z"),1,TRUE,""),"")} | W38: {=IF(Tabela_podst[[#This Row],[czy.ects]]="TAK",_xlfn.IFS(AND(Tabela_podst[[#This Row],[sem5.godziny]]>=$Q$194,Tabela_podst[[#This Row],[sem5.forma]]="z"),8,AND(Tabela_podst[[#This Row],[sem5.godziny]]>=$I$194,Tabela_podst[[#This Row],[sem5.forma]]="z"),4,AND(Tabela_podst[[#This Row],[sem5.godziny]]>=$H$194,Tabela_podst[[#This Row],[sem5.forma]]="e"),2,AND(Tabela_podst[[#This Row],[sem5.godziny]]<$H$194,Tabela_podst[[#This Row],[sem5.forma]]="e"),1,AND(Tabela_podst[[#This Row],[sem5.godziny]]>=$H$194,Tabela_podst[[#This Row],[sem5.forma]]="z"),2,AND(Tabela_podst[[#This Row],[sem5.godziny]]<$H$194,Tabela_podst[[#This Row],[sem5.forma]]="z"),1,TRUE,""),"")} | Z38: {=IF(Tabela_podst[[#This Row],[czy.ects]]="TAK",_xlfn.IFS(AND(Tabela_podst[[#This Row],[sem6.godziny]]>=$Q$194,Tabela_podst[[#This Row],[sem6.forma]]="z"),8,AND(Tabela_podst[[#This Row],[sem6.godziny]]>=$I$194,Tabela_podst[[#This Row],[sem6.forma]]="z"),4,AND(Tabela_podst[[#This Row],[sem6.godziny]]>=$H$194,Tabela_podst[[#This Row],[sem6.forma]]="e"),2,AND(Tabela_podst[[#This Row],[sem6.godziny]]<$H$194,Tabela_podst[[#This Row],[sem6.forma]]="e"),1,AND(Tabela_podst[[#This Row],[sem6.godziny]]>=$H$194,Tabela_podst[[#This Row],[sem6.forma]]="z"),2,AND(Tabela_podst[[#This Row],[sem6.godziny]]<$H$194,Tabela_podst[[#This Row],[sem6.forma]]="z"),1,TRUE,""),"")} | AC38: {=IF(Tabela_podst[[#This Row],[czy.ects]]="TAK",_xlfn.IFS(AND(Tabela_podst[[#This Row],[sem7.godziny]]>=$Q$194,Tabela_podst[[#This Row],[sem7.forma]]="z"),8,AND(Tabela_podst[[#This Row],[sem7.godziny]]>=$I$194,Tabela_podst[[#This Row],[sem7.forma]]="z"),4,AND(Tabela_podst[[#This Row],[sem7.godziny]]>=$H$194,Tabela_podst[[#This Row],[sem7.forma]]="e"),2,AND(Tabela_podst[[#This Row],[sem7.godziny]]<$H$194,Tabela_podst[[#This Row],[sem7.forma]]="e"),1,AND(Tabela_podst[[#This Row],[sem7.godziny]]>=$H$194,Tabela_podst[[#This Row],[sem7.forma]]="z"),2,AND(Tabela_podst[[#This Row],[sem7.godziny]]<$H$194,Tabela_podst[[#This Row],[sem7.forma]]="z"),1,TRUE,""),"")} | AF38: {=IF(Tabela_podst[[#This Row],[czy.ects]]="TAK",_xlfn.IFS(AND(Tabela_podst[[#This Row],[sem8.godziny]]>=$Q$194,Tabela_podst[[#This Row],[sem8.forma]]="z"),8,AND(Tabela_podst[[#This Row],[sem8.godziny]]>=$I$194,Tabela_podst[[#This Row],[sem8.forma]]="z"),4,AND(Tabela_podst[[#This Row],[sem8.godziny]]>=$H$194,Tabela_podst[[#This Row],[sem8.forma]]="e"),2,AND(Tabela_podst[[#This Row],[sem8.godziny]]<$H$194,Tabela_podst[[#This Row],[sem8.forma]]="e"),1,AND(Tabela_podst[[#This Row],[sem8.godziny]]>=$H$194,Tabela_podst[[#This Row],[sem8.forma]]="z"),2,AND(Tabela_podst[[#This Row],[sem8.godziny]]<$H$194,Tabela_podst[[#This Row],[sem8.forma]]="z"),1,TRUE,""),"")} | AI38: {=IF(Tabela_podst[[#This Row],[czy.ects]]="TAK",_xlfn.IFS(AND(Tabela_podst[[#This Row],[sem9.godziny]]>=$Q$194,Tabela_podst[[#This Row],[sem9.forma]]="z"),8,AND(Tabela_podst[[#This Row],[sem9.godziny]]>=$I$194,Tabela_podst[[#This Row],[sem9.forma]]="z"),4,AND(Tabela_podst[[#This Row],[sem9.godziny]]>=$H$194,Tabela_podst[[#This Row],[sem9.forma]]="e"),2,AND(Tabela_podst[[#This Row],[sem9.godziny]]<$H$194,Tabela_podst[[#This Row],[sem9.forma]]="e"),1,AND(Tabela_podst[[#This Row],[sem9.godziny]]>=$H$194,Tabela_podst[[#This Row],[sem9.forma]]="z"),2,AND(Tabela_podst[[#This Row],[sem9.godziny]]<$H$194,Tabela_podst[[#This Row],[sem9.forma]]="z"),1,TRUE,""),"")} | AL38: {=IF(Tabela_podst[[#This Row],[czy.ects]]="TAK",_xlfn.IFS(AND(Tabela_podst[[#This Row],[sem10.godziny]]>=$Q$194,Tabela_podst[[#This Row],[sem10.forma]]="z"),8,AND(Tabela_podst[[#This Row],[sem10.godziny]]>=$I$194,Tabela_podst[[#This Row],[sem10.forma]]="z"),4,AND(Tabela_podst[[#This Row],[sem10.godziny]]>=$H$194,Tabela_podst[[#This Row],[sem10.forma]]="e"),2,AND(Tabela_podst[[#This Row],[sem10.godziny]]<$H$194,Tabela_podst[[#This Row],[sem10.forma]]="e"),1,AND(Tabela_podst[[#This Row],[sem10.godziny]]>=$H$194,Tabela_podst[[#This Row],[sem10.forma]]="z"),2,AND(Tabela_podst[[#This Row],[sem10.godziny]]<$H$194,Tabela_podst[[#This Row],[sem10.forma]]="z"),1,TRUE,""),"")} | AN38: =SUM(Tabela_podst[[#This Row],[sem1.ects]],Tabela_podst[[#This Row],[sem2.ects]],Tabela_podst[[#This Row],[sem3.ects]],Tabela_podst[[#This Row],[sem4.ects]],Tabela_podst[[#This Row],[sem5.ects]],Tabela_podst[[#This Row],[sem6.ects]],Tabela_podst[[#This Row],[sem7.ects]],Tabela_podst[[#This Row],[sem8.ects]],Tabela_podst[[#This Row],[sem9.ects]],Tabela_podst[[#This Row],[sem10.ects]]) -> 1 | AO38: =IF(ISERR(SEARCH("UP",Tabela_podst[[#This Row],[Umiej.prakt.]],1)),0,Tabela_podst[[#This Row],[ects.razem]]) -> 0 | AP38: =IF(Tabela_podst[[#This Row],[czy.ects]]="TAK",ROUND((SUM(Tabela_podst[[#This Row],[godziny.konsultacja]],Tabela_podst[[#This Row],[godziny.egzamin]],Tabela_podst[[#This Row],[godziny.zajec.razem]])/25)/0.5,0)*0.5,0) -> 0.5 | AQ38: =SUM(Tabela_podst[[#This Row],[godziny.samoksztalcenie]],Tabela_podst[[#This Row],[godziny.konsultacja]],Tabela_podst[[#This Row],[godziny.egzamin]],Tabela_podst[[#This Row],[godziny.zajec.razem]]) -> 27 | AR38: =INT(SUM(Tabela_podst[[#This Row],[godziny.konsultacja]],Tabela_podst[[#This Row],[godziny.egzamin]],Tabela_podst[[#This Row],[godziny.zajec.razem]])*0.5+Tabela_podst[[#This Row],[godziny.zajec.razem]]*(15-$G$194)/9) -> 9 | AS38: =INT(Tabela_podst[[#This Row],[godziny.zajec.razem]]*0.1) -> 1 | AT38: =IF(Tabela_podst[[#This Row],[godziny.zajec.razem]]>0,IF(Tabela_podst[[#This Row],[godziny.zajec.razem]]>=45,4,2),0) -> 2 | AU38: =SUM(Tabela_podst[[#This Row],[sem1.godziny]],Tabela_podst[[#This Row],[sem2.godziny]],Tabela_podst[[#This Row],[sem3.godziny]],Tabela_podst[[#This Row],[sem4.godziny]],Tabela_podst[[#This Row],[sem5.godziny]],Tabela_podst[[#This Row],[sem6.godziny]],Tabela_podst[[#This Row],[sem7.godziny]],Tabela_podst[[#This Row],[sem8.godziny]],Tabela_podst[[#This Row],[sem9.godziny]],Tabela_podst[[#This Row],[sem10.godziny]]) -> 15 | AV38: =IF(Tabela_podst[[#This Row],[ects.bezposr.nauczyciel]],Tabela_podst[[#This Row],[ects.bezposr.nauczyciel]]/Tabela_podst[[#This Row],[ects.razem]],0) -> 0.5
B39: 0414 | C39: 501 | D39: pd.08.1 | F39: Zastosowanie metod ilościowych | H39: laboratoria | I39: TAK | K39: {=IF(Tabela_podst[[#This Row],[czy.ects]]="TAK",_xlfn.IFS(AND(Tabela_podst[[#This Row],[sem1.godziny]]>=$Q$194,Tabela_podst[[#This Row],[sem1.forma]]="z"),8,AND(Tabela_podst[[#This Row],[sem1.godziny]]>=$I$194,Tabela_podst[[#This Row],[sem1.forma]]="z"),4,AND(Tabela_podst[[#This Row],[sem1.godziny]]>=$H$194,Tabela_podst[[#This Row],[sem1.forma]]="e"),2,AND(Tabela_podst[[#This Row],[sem1.godziny]]<$H$194,Tabela_podst[[#This Row],[sem1.forma]]="e"),1,AND(Tabela_podst[[#This Row],[sem1.godziny]]>=$H$194,Tabela_podst[[#This Row],[sem1.forma]]="z"),2,AND(Tabela_podst[[#This Row],[sem1.godziny]]<$H$194,Tabela_podst[[#This Row],[sem1.forma]]="z"),1,TRUE,""),"")} | M39: 30 | N39: 3 | O39: z | Q39: {=IF(Tabela_podst[[#This Row],[czy.ects]]="TAK",_xlfn.IFS(AND(Tabela_podst[[#This Row],[sem3.godziny]]>=$Q$194,Tabela_podst[[#This Row],[sem3.forma]]="z"),8,AND(Tabela_podst[[#This Row],[sem3.godziny]]>=$I$194,Tabela_podst[[#This Row],[sem3.forma]]="z"),4,AND(Tabela_podst[[#This Row],[sem3.godziny]]>=$H$194,Tabela_podst[[#This Row],[sem3.forma]]="e"),2,AND(Tabela_podst[[#This Row],[sem3.godziny]]<$H$194,Tabela_podst[[#This Row],[sem3.forma]]="e"),1,AND(Tabela_podst[[#This Row],[sem3.godziny]]>=$H$194,Tabela_podst[[#This Row],[sem3.forma]]="z"),2,AND(Tabela_podst[[#This Row],[sem3.godziny]]<$H$194,Tabela_podst[[#This Row],[sem3.forma]]="z"),1,TRUE,""),"")} | T39: {=IF(Tabela_podst[[#This Row],[czy.ects]]="TAK",_xlfn.IFS(AND(Tabela_podst[[#This Row],[sem4.godziny]]>=$Q$194,Tabela_podst[[#This Row],[sem4.forma]]="z"),8,AND(Tabela_podst[[#This Row],[sem4.godziny]]>=$I$194,Tabela_podst[[#This Row],[sem4.forma]]="z"),4,AND(Tabela_podst[[#This Row],[sem4.godziny]]>=$H$194,Tabela_podst[[#This Row],[sem4.forma]]="e"),2,AND(Tabela_podst[[#This Row],[sem4.godziny]]<$H$194,Tabela_podst[[#This Row],[sem4.forma]]="e"),1,AND(Tabela_podst[[#This Row],[sem4.godziny]]>=$H$194,Tabela_podst[[#This Row],[sem4.forma]]="z"),2,AND(Tabela_podst[[#This Row],[sem4.godziny]]<$H$194,Tabela_podst[[#This Row],[sem4.forma]]="z"),1,TRUE,""),"")} | W39: {=IF(Tabela_podst[[#This Row],[czy.ects]]="TAK",_xlfn.IFS(AND(Tabela_podst[[#This Row],[sem5.godziny]]>=$Q$194,Tabela_podst[[#This Row],[sem5.forma]]="z"),8,AND(Tabela_podst[[#This Row],[sem5.godziny]]>=$I$194,Tabela_podst[[#This Row],[sem5.forma]]="z"),4,AND(Tabela_podst[[#This Row],[sem5.godziny]]>=$H$194,Tabela_podst[[#This Row],[sem5.forma]]="e"),2,AND(Tabela_podst[[#This Row],[sem5.godziny]]<$H$194,Tabela_podst[[#This Row],[sem5.forma]]="e"),1,AND(Tabela_podst[[#This Row],[sem5.godziny]]>=$H$194,Tabela_podst[[#This Row],[sem5.forma]]="z"),2,AND(Tabela_podst[[#This Row],[sem5.godziny]]<$H$194,Tabela_podst[[#This Row],[sem5.forma]]="z"),1,TRUE,""),"")} | Z39: {=IF(Tabela_podst[[#This Row],[czy.ects]]="TAK",_xlfn.IFS(AND(Tabela_podst[[#This Row],[sem6.godziny]]>=$Q$194,Tabela_podst[[#This Row],[sem6.forma]]="z"),8,AND(Tabela_podst[[#This Row],[sem6.godziny]]>=$I$194,Tabela_podst[[#This Row],[sem6.forma]]="z"),4,AND(Tabela_podst[[#This Row],[sem6.godziny]]>=$H$194,Tabela_podst[[#This Row],[sem6.forma]]="e"),2,AND(Tabela_podst[[#This Row],[sem6.godziny]]<$H$194,Tabela_podst[[#This Row],[sem6.forma]]="e"),1,AND(Tabela_podst[[#This Row],[sem6.godziny]]>=$H$194,Tabela_podst[[#This Row],[sem6.forma]]="z"),2,AND(Tabela_podst[[#This Row],[sem6.godziny]]<$H$194,Tabela_podst[[#This Row],[sem6.forma]]="z"),1,TRUE,""),"")} | AC39: {=IF(Tabela_podst[[#This Row],[czy.ects]]="TAK",_xlfn.IFS(AND(Tabela_podst[[#This Row],[sem7.godziny]]>=$Q$194,Tabela_podst[[#This Row],[sem7.forma]]="z"),8,AND(Tabela_podst[[#This Row],[sem7.godziny]]>=$I$194,Tabela_podst[[#This Row],[sem7.forma]]="z"),4,AND(Tabela_podst[[#This Row],[sem7.godziny]]>=$H$194,Tabela_podst[[#This Row],[sem7.forma]]="e"),2,AND(Tabela_podst[[#This Row],[sem7.godziny]]<$H$194,Tabela_podst[[#This Row],[sem7.forma]]="e"),1,AND(Tabela_podst[[#This Row],[sem7.godziny]]>=$H$194,Tabela_podst[[#This Row],[sem7.forma]]="z"),2,AND(Tabela_podst[[#This Row],[sem7.godziny]]<$H$194,Tabela_podst[[#This Row],[sem7.forma]]="z"),1,TRUE,""),"")} | AF39: {=IF(Tabela_podst[[#This Row],[czy.ects]]="TAK",_xlfn.IFS(AND(Tabela_podst[[#This Row],[sem8.godziny]]>=$Q$194,Tabela_podst[[#This Row],[sem8.forma]]="z"),8,AND(Tabela_podst[[#This Row],[sem8.godziny]]>=$I$194,Tabela_podst[[#This Row],[sem8.forma]]="z"),4,AND(Tabela_podst[[#This Row],[sem8.godziny]]>=$H$194,Tabela_podst[[#This Row],[sem8.forma]]="e"),2,AND(Tabela_podst[[#This Row],[sem8.godziny]]<$H$194,Tabela_podst[[#This Row],[sem8.forma]]="e"),1,AND(Tabela_podst[[#This Row],[sem8.godziny]]>=$H$194,Tabela_podst[[#This Row],[sem8.forma]]="z"),2,AND(Tabela_podst[[#This Row],[sem8.godziny]]<$H$194,Tabela_podst[[#This Row],[sem8.forma]]="z"),1,TRUE,""),"")} | AI39: {=IF(Tabela_podst[[#This Row],[czy.ects]]="TAK",_xlfn.IFS(AND(Tabela_podst[[#This Row],[sem9.godziny]]>=$Q$194,Tabela_podst[[#This Row],[sem9.forma]]="z"),8,AND(Tabela_podst[[#This Row],[sem9.godziny]]>=$I$194,Tabela_podst[[#This Row],[sem9.forma]]="z"),4,AND(Tabela_podst[[#This Row],[sem9.godziny]]>=$H$194,Tabela_podst[[#This Row],[sem9.forma]]="e"),2,AND(Tabela_podst[[#This Row],[sem9.godziny]]<$H$194,Tabela_podst[[#This Row],[sem9.forma]]="e"),1,AND(Tabela_podst[[#This Row],[sem9.godziny]]>=$H$194,Tabela_podst[[#This Row],[sem9.forma]]="z"),2,AND(Tabela_podst[[#This Row],[sem9.godziny]]<$H$194,Tabela_podst[[#This Row],[sem9.forma]]="z"),1,TRUE,""),"")} | AL39: {=IF(Tabela_podst[[#This Row],[czy.ects]]="TAK",_xlfn.IFS(AND(Tabela_podst[[#This Row],[sem10.godziny]]>=$Q$194,Tabela_podst[[#This Row],[sem10.forma]]="z"),8,AND(Tabela_podst[[#This Row],[sem10.godziny]]>=$I$194,Tabela_podst[[#This Row],[sem10.forma]]="z"),4,AND(Tabela_podst[[#This Row],[sem10.godziny]]>=$H$194,Tabela_podst[[#This Row],[sem10.forma]]="e"),2,AND(Tabela_podst[[#This Row],[sem10.godziny]]<$H$194,Tabela_podst[[#This Row],[sem10.forma]]="e"),1,AND(Tabela_podst[[#This Row],[sem10.godziny]]>=$H$194,Tabela_podst[[#This Row],[sem10.forma]]="z"),2,AND(Tabela_podst[[#This Row],[sem10.godziny]]<$H$194,Tabela_podst[[#This Row],[sem10.forma]]="z"),1,TRUE,""),"")} | AN39: =SUM(Tabela_podst[[#This Row],[sem1.ects]],Tabela_podst[[#This Row],[sem2.ects]],Tabela_podst[[#This Row],[sem3.ects]],Tabela_podst[[#This Row],[sem4.ects]],Tabela_podst[[#This Row],[sem5.ects]],Tabela_podst[[#This Row],[sem6.ects]],Tabela_podst[[#This Row],[sem7.ects]],Tabela_podst[[#This Row],[sem8.ects]],Tabela_podst[[#This Row],[sem9.ects]],Tabela_podst[[#This Row],[sem10.ects]]) -> 3 | AO39: =IF(ISERR(SEARCH("UP",Tabela_podst[[#This Row],[Umiej.prakt.]],1)),0,Tabela_podst[[#This Row],[ects.razem]]) -> 0 | AP39: =IF(Tabela_podst[[#This Row],[czy.ects]]="TAK",ROUND((SUM(Tabela_podst[[#This Row],[godziny.konsultacja]],Tabela_podst[[#This Row],[godziny.egzamin]],Tabela_podst[[#This Row],[godziny.zajec.razem]])/25)/0.5,0)*0.5,0) -> 1.5 | AQ39: =SUM(Tabela_podst[[#This Row],[godziny.samoksztalcenie]],Tabela_podst[[#This Row],[godziny.konsultacja]],Tabela_podst[[#This Row],[godziny.egzamin]],Tabela_podst[[#This Row],[godziny.zajec.razem]]) -> 52 | AR39: =INT(SUM(Tabela_podst[[#This Row],[godziny.konsultacja]],Tabela_podst[[#This Row],[godziny.egzamin]],Tabela_podst[[#This Row],[godziny.zajec.razem]])*0.5+Tabela_podst[[#This Row],[godziny.zajec.razem]]*(15-$G$194)/9) -> 17 | AS39: =INT(Tabela_podst[[#This Row],[godziny.zajec.razem]]*0.1) -> 3 | AT39: =IF(Tabela_podst[[#This Row],[godziny.zajec.razem]]>0,IF(Tabela_podst[[#This Row],[godziny.zajec.razem]]>=45,4,2),0) -> 2 | AU39: =SUM(Tabela_podst[[#This Row],[sem1.godziny]],Tabela_podst[[#This Row],[sem2.godziny]],Tabela_podst[[#This Row],[sem3.godziny]],Tabela_podst[[#This Row],[sem4.godziny]],Tabela_podst[[#This Row],[sem5.godziny]],Tabela_podst[[#This Row],[sem6.godziny]],Tabela_podst[[#This Row],[sem7.godziny]],Tabela_podst[[#This Row],[sem8.godziny]],Tabela_podst[[#This Row],[sem9.godziny]],Tabela_podst[[#This Row],[sem10.godziny]]) -> 30 | AV39: =IF(Tabela_podst[[#This Row],[ects.bezposr.nauczyciel]],Tabela_podst[[#This Row],[ects.bezposr.nauczyciel]]/Tabela_podst[[#This Row],[ects.razem]],0) -> 0.5
