Workbook
Name Excel_BuiltIn_Print_Area: ISCED!$A$1:$D$2
Name Excel_BuiltIn_Print_Area: KODY!$A$1:$C$57

Sheet PLAN ST
B2: Załącznik nr 1 do Programu studiów na kierunku FINANSE I RACHUNKOWOŚĆ, studia I stopnia, profil praktyczny, stanowiącego załącznik nr 1 do Uchwały nr 26/2023 Senatu ANS w Wałczu z dnia 28.09.2023 r. | J2: ROK 1 | P2: ROK 2 | V2: ROK 3 | AB2: ROK 4 | AH2: ROK 5
F3: Nazwa przedmiotu / zajęć / grupy zajęć | G3: Prowadzący zajęcia | H3: głowna forma zajęć | I3: Czy posiada ECTS | J3: SEMESTR 1 | M3: SEMESTR 2 | P3: SEMESTR 3 | S3: SEMESTR 4 | V3: SEMESTR 5 | Y3: SEMESTR 6 | AB3: SEMESTR 7 | AE3: SEMESTR 8 | AH3: SEMESTR 9 | AK3: SEMESTR 10 | AN3: ROZLICZENIE CZASU PRACY
B4: kod ISCED | C4: kod dziedziny / dyscypliny | D4: numer modułu | E4: cecha zajęć | J4: zajęcia | K4: ECTS | L4: forma zaliczenia | M4: zajęcia | N4: ECTS | O4: forma zaliczenia | P4: zajęcia | Q4: ECTS | R4: forma zaliczenia | S4: zajęcia | T4: ECTS | U4: forma zaliczenia | V4: zajęcia | W4: ECTS | X4: forma zaliczenia | Y4: zajęcia | Z4: ECTS | AA4: forma zaliczenia | AB4: zajęcia | AC4: ECTS | AD4: forma zaliczenia | AE4: zajęcia | AF4: ECTS | AG4: forma zaliczenia | AH4: zajęcia | AI4: ECTS | AJ4: forma zaliczenia | AK4: zajęcia | AL4: ECTS | AM4: forma zaliczenia | AN4: ECTS razem | AO4: ECTS przypisane zajęciom kształtującym umiejętności praktyczne | AP4: ECTS z bezpośrednim udziałem nauczycieli akademickich lub innych osób prowadzących zajęcia i studentów | AQ4: godziny pracy studenta razem | AR4: liczba godzin samokształcenia | AS4: liczba godzin konsultacji | AT4: liczba godzin weryfikacji/ewaluacji | AU4: liczba godzin zajęć na planie studiów | AV4: Stosunek procentowy liczby ECTS zajęć w bezpośrednim kontakcie do pracy własnej studenta
F5: RAZEM ZA CAŁOŚĆ
F6: Księgowość i podatki w przedsiębiorstwie | J6: =SUM(Tabela_ogolne[sem1.godziny],Tabela_podst[sem1.godziny],Tabela_kier[sem1.godziny],Tabela_SP1[sem1.godziny], Tabela_do_wyboru[sem1.godziny]) -> 330 | K6: =SUM(Tabela_ogolne[sem1.ects],Tabela_podst[sem1.ects],Tabela_kier[sem1.ects],Tabela_SP1[sem1.ects], Tabela_do_wyboru[sem1.ects]) -> 28 | M6: =SUM(Tabela_ogolne[sem2.godziny],Tabela_podst[sem2.godziny],Tabela_kier[sem2.godziny],Tabela_SP1[sem2.godziny], Tabela_do_wyboru[sem2.godziny]) -> 470 | N6: =SUM(Tabela_ogolne[sem2.ects],Tabela_podst[sem2.ects],Tabela_kier[sem2.ects],Tabela_SP1[sem2.ects], Tabela_do_wyboru[sem2.ects]) -> 29 | P6: =SUM(Tabela_ogolne[sem3.godziny],Tabela_podst[sem3.godziny],Tabela_kier[sem3.godziny],Tabela_SP1[sem3.godziny], Tabela_do_wyboru[sem3.godziny]) -> 455 | Q6: =SUM(Tabela_ogolne[sem3.ects],Tabela_podst[sem3.ects],Tabela_kier[sem3.ects],Tabela_SP1[sem3.ects], Tabela_do_wyboru[sem3.ects]) -> 29 | S6: =SUM(Tabela_ogolne[sem4.godziny],Tabela_podst[sem4.godziny],Tabela_kier[sem4.godziny],Tabela_SP1[sem4.godziny], Tabela_do_wyboru[sem4.godziny]) -> 455 | T6: =SUM(Tabela_ogolne[sem4.ects],Tabela_podst[sem4.ects],Tabela_kier[sem4.ects],Tabela_SP1[sem4.ects], Tabela_do_wyboru[sem4.ects]) -> 30 | V6: =SUM(Tabela_ogolne[sem5.godziny],Tabela_podst[sem5.godziny],Tabela_kier[sem5.godziny],Tabela_SP1[sem5.godziny], Tabela_do_wyboru[sem5.godziny]) -> 485 | W6: =SUM(Tabela_ogolne[sem5.ects],Tabela_podst[sem5.ects],Tabela_kier[sem5.ects],Tabela_SP1[sem5.ects], Tabela_do_wyboru[sem5.ects]) -> 32 | Y6: =SUM(Tabela_ogolne[sem6.godziny],Tabela_podst[sem6.godziny],Tabela_kier[sem6.godziny],Tabela_SP1[sem6.godziny], Tabela_do_wyboru[sem6.godziny]) -> 478 | Z6: =SUM(Tabela_ogolne[sem6.ects],Tabela_podst[sem6.ects],Tabela_kier[sem6.ects],Tabela_SP1[sem6.ects], Tabela_do_wyboru[sem6.ects]) -> 32 | AB6: =SUM(Tabela_ogolne[sem7.godziny],Tabela_podst[sem7.godziny],Tabela_kier[sem7.godziny],Tabela_SP1[sem7.godziny], Tabela_do_wyboru[sem7.godziny]) -> 0 | AC6: =SUM(Tabela_ogolne[sem7.ects],Tabela_podst[sem7.ects],Tabela_kier[sem7.ects],Tabela_SP1[sem7.ects], Tabela_do_wyboru[sem7.ects]) -> 0 | AE6: =SUM(Tabela_ogolne[sem8.godziny],Tabela_podst[sem8.godziny],Tabela_kier[sem8.godziny],Tabela_SP1[sem8.godziny], Tabela_do_wyboru[sem8.godziny]) -> 0 | AF6: =SUM(Tabela_ogolne[sem8.ects],Tabela_podst[sem8.ects],Tabela_kier[sem8.ects],Tabela_SP1[sem8.ects], Tabela_do_wyboru[sem8.ects]) -> 0 | AH6: =SUM(Tabela_ogolne[sem9.godziny],Tabela_podst[sem9.godziny],Tabela_kier[sem9.godziny],Tabela_SP1[sem9.godziny], Tabela_do_wyboru[sem9.godziny]) -> 0 | AI6: =SUM(Tabela_ogolne[sem9.ects],Tabela_podst[sem9.ects],Tabela_kier[sem9.ects],Tabela_SP1[sem9.ects], Tabela_do_wyboru[sem9.ects]) -> 0 | AK6: =SUM(Tabela_ogolne[sem10.godziny],Tabela_podst[sem10.godziny],Tabela_kier[sem10.godziny],Tabela_SP1[sem10.godziny], Tabela_do_wyboru[sem10.godziny]) -> 0 | AL6: =SUM(Tabela_ogolne[sem10.ects],Tabela_podst[sem10.ects],Tabela_kier[sem10.ects],Tabela_SP1[sem10.ects], Tabela_do_wyboru[sem10.ects]) -> 0 | AN6: =SUM(Tabela_ogolne[ects.razem],Tabela_podst[ects.razem],Tabela_kier[ects.razem],Tabela_SP1[ects.razem], Tabela_do_wyboru[ects.razem]) -> 180 | AO6: =SUM(Tabela_ogolne[ects.umiej.prakt.],Tabela_podst[ects.umiej.prakt.],Tabela_kier[ects.umiej.prakt.],Tabela_SP1[ects.umiej.prakt.], Tabela_do_wyboru[ects.umiej.prakt.]) -> 134 | AP6: =SUM(Tabela_ogolne[ects.bezposr.nauczyciel],Tabela_podst[ects.bezposr.nauczyciel],Tabela_kier[ects.bezposr.nauczyciel],Tabela_SP1[ects.bezposr.nauczyciel], Tabela_do_wyboru[ects.bezposr.nauczyciel]) -> 115 | AQ6: =SUM(Tabela_ogolne[godziny.razem.student],Tabela_podst[godziny.razem.student],Tabela_kier[godziny.razem.student],Tabela_SP1[godziny.razem.student], Tabela_do_wyboru[godziny.razem.student]) -> 4584 | AR6: =SUM(Tabela_ogolne[godziny.samoksztalcenie],Tabela_podst[godziny.samoksztalcenie],Tabela_kier[godziny.samoksztalcenie],Tabela_SP1[godziny.samoksztalcenie], Tabela_do_wyboru[godziny.samoksztalcenie]) -> 1515 | AS6: =SUM(Tabela_ogolne[godziny.konsultacja],Tabela_podst[godziny.konsultacja],Tabela_kier[godziny.konsultacja],Tabela_SP1[godziny.konsultacja], Tabela_do_wyboru[godziny.konsultacja]) -> 254 | AT6: =SUM(Tabela_ogolne[godziny.egzamin],Tabela_podst[godziny.egzamin],Tabela_kier[godziny.egzamin],Tabela_SP1[godziny.egzamin], Tabela_do_wyboru[godziny.egzamin]) -> 142 | AU6: =SUM(Tabela_ogolne[godziny.zajec.razem],Tabela_podst[godziny.zajec.razem],Tabela_kier[godziny.zajec.razem],Tabela_SP1[godziny.zajec.razem], Tabela_do_wyboru[godziny.zajec.razem]) -> 2673 | AV6: =IF(AP6,AP6/AN6,"") -> 0.63888889
F7: Płace i kadry | J7: =SUM(Tabela_ogolne[sem1.godziny],Tabela_podst[sem1.godziny],Tabela_kier[sem1.godziny],Tabela_SP2[sem1.godziny], Tabela_do_wyboru[sem1.godziny]) -> 330 | K7: =SUM(Tabela_ogolne[sem1.ects],Tabela_podst[sem1.ects],Tabela_kier[sem1.ects],Tabela_SP2[sem1.ects], Tabela_do_wyboru[sem1.ects]) -> 28 | M7: =SUM(Tabela_ogolne[sem2.godziny],Tabela_podst[sem2.godziny],Tabela_kier[sem2.godziny],Tabela_SP2[sem2.godziny], Tabela_do_wyboru[sem2.godziny]) -> 470 | N7: =SUM(Tabela_ogolne[sem2.ects],Tabela_podst[sem2.ects],Tabela_kier[sem2.ects],Tabela_SP2[sem2.ects], Tabela_do_wyboru[sem2.ects]) -> 29 | P7: =SUM(Tabela_ogolne[sem3.godziny],Tabela_podst[sem3.godziny],Tabela_kier[sem3.godziny],Tabela_SP2[sem3.godziny], Tabela_do_wyboru[sem3.godziny]) -> 455 | Q7: =SUM(Tabela_ogolne[sem3.ects],Tabela_podst[sem3.ects],Tabela_kier[sem3.ects],Tabela_SP2[sem3.ects], Tabela_do_wyboru[sem3.ects]) -> 29 | S7: =SUM(Tabela_ogolne[sem4.godziny],Tabela_podst[sem4.godziny],Tabela_kier[sem4.godziny],Tabela_SP2[sem4.godziny], Tabela_do_wyboru[sem4.godziny]) -> 455 | T7: =SUM(Tabela_ogolne[sem4.ects],Tabela_podst[sem4.ects],Tabela_kier[sem4.ects],Tabela_SP2[sem4.ects], Tabela_do_wyboru[sem4.ects]) -> 30 | V7: =SUM(Tabela_ogolne[sem5.godziny],Tabela_podst[sem5.godziny],Tabela_kier[sem5.godziny],Tabela_SP2[sem5.godziny], Tabela_do_wyboru[sem5.godziny]) -> 500 | W7: =SUM(Tabela_ogolne[sem5.ects],Tabela_podst[sem5.ects],Tabela_kier[sem5.ects],Tabela_SP2[sem5.ects], Tabela_do_wyboru[sem5.ects]) -> 32 | Y7: =SUM(Tabela_ogolne[sem6.godziny],Tabela_podst[sem6.godziny],Tabela_kier[sem6.godziny],Tabela_SP2[sem6.godziny], Tabela_do_wyboru[sem6.godziny]) -> 478 | Z7: =SUM(Tabela_ogolne[sem6.ects],Tabela_podst[sem6.ects],Tabela_kier[sem6.ects],Tabela_SP2[sem6.ects], Tabela_do_wyboru[sem6.ects]) -> 32 | AB7: =SUM(Tabela_ogolne[sem7.godziny],Tabela_podst[sem7.godziny],Tabela_kier[sem7.godziny],Tabela_SP2[sem7.godziny], Tabela_do_wyboru[sem7.godziny]) -> 0 | AC7: =SUM(Tabela_ogolne[sem7.ects],Tabela_podst[sem7.ects],Tabela_kier[sem7.ects],Tabela_SP2[sem7.ects], Tabela_do_wyboru[sem7.ects]) -> 0 | AE7: =SUM(Tabela_ogolne[sem8.godziny],Tabela_podst[sem8.godziny],Tabela_kier[sem8.godziny],Tabela_SP2[sem8.godziny], Tabela_do_wyboru[sem8.godziny]) -> 0 | AF7: =SUM(Tabela_ogolne[sem8.ects],Tabela_podst[sem8.ects],Tabela_kier[sem8.ects],Tabela_SP2[sem8.ects], Tabela_do_wyboru[sem8.ects]) -> 0 | AH7: =SUM(Tabela_ogolne[sem9.godziny],Tabela_podst[sem9.godziny],Tabela_kier[sem9.godziny],Tabela_SP2[sem9.godziny], Tabela_do_wyboru[sem9.godziny]) -> 0 | AI7: =SUM(Tabela_ogolne[sem9.ects],Tabela_podst[sem9.ects],Tabela_kier[sem9.ects],Tabela_SP2[sem9.ects], Tabela_do_wyboru[sem9.ects]) -> 0 | AK7: =SUM(Tabela_ogolne[sem10.godziny],Tabela_podst[sem10.godziny],Tabela_kier[sem10.godziny],Tabela_SP2[sem10.godziny], Tabela_do_wyboru[sem10.godziny]) -> 0 | AL7: =SUM(Tabela_ogolne[sem10.ects],Tabela_podst[sem10.ects],Tabela_kier[sem10.ects],Tabela_SP2[sem10.ects], Tabela_do_wyboru[sem10.ects]) -> 0 | AN7: =SUM(Tabela_ogolne[ects.razem],Tabela_podst[ects.razem],Tabela_kier[ects.razem],Tabela_SP2[ects.razem], Tabela_do_wyboru[ects.razem]) -> 180 | AO7: =SUM(Tabela_ogolne[ects.umiej.prakt.],Tabela_podst[ects.umiej.prakt.],Tabela_kier[ects.umiej.prakt.],Tabela_SP2[ects.umiej.prakt.], Tabela_do_wyboru[ects.umiej.prakt.]) -> 134 | AP7: =SUM(Tabela_ogolne[ects.bezposr.nauczyciel],Tabela_podst[ects.bezposr.nauczyciel],Tabela_kier[ects.bezposr.nauczyciel],Tabela_SP2[ects.bezposr.nauczyciel], Tabela_do_wyboru[ects.bezposr.nauczyciel]) -> 115.5 | AQ7: =SUM(Tabela_ogolne[godziny.razem.student],Tabela_podst[godziny.razem.student],Tabela_kier[godziny.razem.student],Tabela_SP2[godziny.razem.student], Tabela_do_wyboru[godziny.razem.student]) -> 4611 | AR7: =SUM(Tabela_ogolne[godziny.samoksztalcenie],Tabela_podst[godziny.samoksztalcenie],Tabela_kier[godziny.samoksztalcenie],Tabela_SP2[godziny.samoksztalcenie], Tabela_do_wyboru[godziny.samoksztalcenie]) -> 1524 | AS7: =SUM(Tabela_ogolne[godziny.konsultacja],Tabela_podst[godziny.konsultacja],Tabela_kier[godziny.konsultacja],Tabela_SP2[godziny.konsultacja], Tabela_do_wyboru[godziny.konsultacja]) -> 255 | AT7: =SUM(Tabela_ogolne[godziny.egzamin],Tabela_podst[godziny.egzamin],Tabela_kier[godziny.egzamin],Tabela_SP2[godziny.egzamin], Tabela_do_wyboru[godziny.egzamin]) -> 144 | AU7: =SUM(Tabela_ogolne[godziny.zajec.razem],Tabela_podst[godziny.zajec.razem],Tabela_kier[godziny.zajec.razem],Tabela_SP2[godziny.zajec.razem], Tabela_do_wyboru[godziny.zajec.razem]) -> 2688 | AV7: =IF(AP7,AP7/AN7,"") -> 0.64166667
F8: Menedżer projektów europejskich | J8: =SUM(Tabela_ogolne[sem1.godziny],Tabela_podst[sem1.godziny],Tabela_kier[sem1.godziny],Tabela_SP3[sem1.godziny], Tabela_do_wyboru[sem1.godziny]) -> 330 | K8: =SUM(Tabela_ogolne[sem1.ects],Tabela_podst[sem1.ects],Tabela_kier[sem1.ects],Tabela_SP3[sem1.ects], Tabela_do_wyboru[sem1.ects]) -> 28 | M8: =SUM(Tabela_ogolne[sem2.godziny],Tabela_podst[sem2.godziny],Tabela_kier[sem2.godziny],Tabela_SP3[sem2.godziny], Tabela_do_wyboru[sem2.godziny]) -> 470 | N8: =SUM(Tabela_ogolne[sem2.ects],Tabela_podst[sem2.ects],Tabela_kier[sem2.ects],Tabela_SP3[sem2.ects], Tabela_do_wyboru[sem2.ects]) -> 29 | P8: =SUM(Tabela_ogolne[sem3.godziny],Tabela_podst[sem3.godziny],Tabela_kier[sem3.godziny],Tabela_SP3[sem3.godziny], Tabela_do_wyboru[sem3.godziny]) -> 455 | Q8: =SUM(Tabela_ogolne[sem3.ects],Tabela_podst[sem3.ects],Tabela_kier[sem3.ects],Tabela_SP3[sem3.ects], Tabela_do_wyboru[sem3.ects]) -> 29 | S8: =SUM(Tabela_ogolne[sem4.godziny],Tabela_podst[sem4.godziny],Tabela_kier[sem4.godziny],Tabela_SP3[sem4.godziny], Tabela_do_wyboru[sem4.godziny]) -> 440 | T8: =SUM(Tabela_ogolne[sem4.ects],Tabela_podst[sem4.ects],Tabela_kier[sem4.ects],Tabela_SP3[sem4.ects], Tabela_do_wyboru[sem4.ects]) -> 29 | V8: =SUM(Tabela_ogolne[sem5.godziny],Tabela_podst[sem5.godziny],Tabela_kier[sem5.godziny],Tabela_SP3[sem5.godziny], Tabela_do_wyboru[sem5.godziny]) -> 500 | W8: =SUM(Tabela_ogolne[sem5.ects],Tabela_podst[sem5.ects],Tabela_kier[sem5.ects],Tabela_SP3[sem5.ects], Tabela_do_wyboru[sem5.ects]) -> 33 | Y8: =SUM(Tabela_ogolne[sem6.godziny],Tabela_podst[sem6.godziny],Tabela_kier[sem6.godziny],Tabela_SP3[sem6.godziny], Tabela_do_wyboru[sem6.godziny]) -> 478 | Z8: =SUM(Tabela_ogolne[sem6.ects],Tabela_podst[sem6.ects],Tabela_kier[sem6.ects],Tabela_SP3[sem6.ects], Tabela_do_wyboru[sem6.ects]) -> 32 | AB8: =SUM(Tabela_ogolne[sem7.godziny],Tabela_podst[sem7.godziny],Tabela_kier[sem7.godziny],Tabela_SP3[sem7.godziny], Tabela_do_wyboru[sem7.godziny]) -> 0 | AC8: =SUM(Tabela_ogolne[sem7.ects],Tabela_podst[sem7.ects],Tabela_kier[sem7.ects],Tabela_SP3[sem7.ects], Tabela_do_wyboru[sem7.ects]) -> 0 | AE8: =SUM(Tabela_ogolne[sem8.godziny],Tabela_podst[sem8.godziny],Tabela_kier[sem8.godziny],Tabela_SP3[sem8.godziny], Tabela_do_wyboru[sem8.godziny]) -> 0 | AF8: =SUM(Tabela_ogolne[sem8.ects],Tabela_podst[sem8.ects],Tabela_kier[sem8.ects],Tabela_SP3[sem8.ects], Tabela_do_wyboru[sem8.ects]) -> 0 | AH8: =SUM(Tabela_ogolne[sem9.godziny],Tabela_podst[sem9.godziny],Tabela_kier[sem9.godziny],Tabela_SP3[sem9.godziny], Tabela_do_wyboru[sem9.godziny]) -> 0 | AI8: =SUM(Tabela_ogolne[sem9.ects],Tabela_podst[sem9.ects],Tabela_kier[sem9.ects],Tabela_SP3[sem9.ects], Tabela_do_wyboru[sem9.ects]) -> 0 | AK8: =SUM(Tabela_ogolne[sem10.godziny],Tabela_podst[sem10.godziny],Tabela_kier[sem10.godziny],Tabela_SP3[sem10.godziny], Tabela_do_wyboru[sem10.godziny]) -> 0 | AL8: =SUM(Tabela_ogolne[sem10.ects],Tabela_podst[sem10.ects],Tabela_kier[sem10.ects],Tabela_SP3[sem10.ects], Tabela_do_wyboru[sem10.ects]) -> 0 | AN8: =SUM(Tabela_ogolne[ects.razem],Tabela_podst[ects.razem],Tabela_kier[ects.razem],Tabela_SP3[ects.razem], Tabela_do_wyboru[ects.razem]) -> 180 | AO8: =SUM(Tabela_ogolne[ects.umiej.prakt.],Tabela_podst[ects.umiej.prakt.],Tabela_kier[ects.umiej.prakt.],Tabela_SP3[ects.umiej.prakt.], Tabela_do_wyboru[ects.umiej.prakt.]) -> 134 | AP8: =SUM(Tabela_ogolne[ects.bezposr.nauczyciel],Tabela_podst[ects.bezposr.nauczyciel],Tabela_kier[ects.bezposr.nauczyciel],Tabela_SP3[ects.bezposr.nauczyciel], Tabela_do_wyboru[ects.bezposr.nauczyciel]) -> 115 | AQ8: =SUM(Tabela_ogolne[godziny.razem.student],Tabela_podst[godziny.razem.student],Tabela_kier[godziny.razem.student],Tabela_SP3[godziny.razem.student], Tabela_do_wyboru[godziny.razem.student]) -> 4584 | AR8: =SUM(Tabela_ogolne[godziny.samoksztalcenie],Tabela_podst[godziny.samoksztalcenie],Tabela_kier[godziny.samoksztalcenie],Tabela_SP3[godziny.samoksztalcenie], Tabela_do_wyboru[godziny.samoksztalcenie]) -> 1515 | AS8: =SUM(Tabela_ogolne[godziny.konsultacja],Tabela_podst[godziny.konsultacja],Tabela_kier[godziny.konsultacja],Tabela_SP3[godziny.konsultacja], Tabela_do_wyboru[godziny.konsultacja]) -> 254 | AT8: =SUM(Tabela_ogolne[godziny.egzamin],Tabela_podst[godziny.egzamin],Tabela_kier[godziny.egzamin],Tabela_SP3[godziny.egzamin], Tabela_do_wyboru[godziny.egzamin]) -> 142 | AU8: =SUM(Tabela_ogolne[godziny.zajec.razem],Tabela_podst[godziny.zajec.razem],Tabela_kier[godziny.zajec.razem],Tabela_SP3[godziny.zajec.razem], Tabela_do_wyboru[godziny.zajec.razem]) -> 2673 | AV8: =IF(AP8,AP8/AN8,"") -> 0.63888889
F9: SP4 | J9: =SUM(Tabela_ogolne[sem1.godziny],Tabela_podst[sem1.godziny],Tabela_kier[sem1.godziny],Tabela_SP4[sem1.godziny], Tabela_do_wyboru[sem1.godziny]) -> 330 | K9: =SUM(Tabela_ogolne[sem1.ects],Tabela_podst[sem1.ects],Tabela_kier[sem1.ects],Tabela_SP4[sem1.ects], Tabela_do_wyboru[sem1.ects]) -> 28 | M9: =SUM(Tabela_ogolne[sem2.godziny],Tabela_podst[sem2.godziny],Tabela_kier[sem2.godziny],Tabela_SP4[sem2.godziny], Tabela_do_wyboru[sem2.godziny]) -> 470 | N9: =SUM(Tabela_ogolne[sem2.ects],Tabela_podst[sem2.ects],Tabela_kier[sem2.ects],Tabela_SP4[sem2.ects], Tabela_do_wyboru[sem2.ects]) -> 29 | P9: =SUM(Tabela_ogolne[sem3.godziny],Tabela_podst[sem3.godziny],Tabela_kier[sem3.godziny],Tabela_SP4[sem3.godziny], Tabela_do_wyboru[sem3.godziny]) -> 455 | Q9: =SUM(Tabela_ogolne[sem3.ects],Tabela_podst[sem3.ects],Tabela_kier[sem3.ects],Tabela_SP4[sem3.ects], Tabela_do_wyboru[sem3.ects]) -> 29 | S9: =SUM(Tabela_ogolne[sem4.godziny],Tabela_podst[sem4.godziny],Tabela_kier[sem4.godziny],Tabela_SP4[sem4.godziny], Tabela_do_wyboru[sem4.godziny]) -> 165 | T9: =SUM(Tabela_ogolne[sem4.ects],Tabela_podst[sem4.ects],Tabela_kier[sem4.ects],Tabela_SP4[sem4.ects], Tabela_do_wyboru[sem4.ects]) -> 15 | V9: =SUM(Tabela_ogolne[sem5.godziny],Tabela_podst[sem5.godziny],Tabela_kier[sem5.godziny],Tabela_SP4[sem5.godziny], Tabela_do_wyboru[sem5.godziny]) -> 150 | W9: =SUM(Tabela_ogolne[sem5.ects],Tabela_podst[sem5.ects],Tabela_kier[sem5.ects],Tabela_SP4[sem5.ects], Tabela_do_wyboru[sem5.ects]) -> 12 | Y9: =SUM(Tabela_ogolne[sem6.godziny],Tabela_podst[sem6.godziny],Tabela_kier[sem6.godziny],Tabela_SP4[sem6.godziny], Tabela_do_wyboru[sem6.godziny]) -> 120 | Z9: =SUM(Tabela_ogolne[sem6.ects],Tabela_podst[sem6.ects],Tabela_kier[sem6.ects],Tabela_SP4[sem6.ects], Tabela_do_wyboru[sem6.ects]) -> 11 | AB9: =SUM(Tabela_ogolne[sem7.godziny],Tabela_podst[sem7.godziny],Tabela_kier[sem7.godziny],Tabela_SP4[sem7.godziny], Tabela_do_wyboru[sem7.godziny]) -> 0 | AC9: =SUM(Tabela_ogolne[sem7.ects],Tabela_podst[sem7.ects],Tabela_kier[sem7.ects],Tabela_SP4[sem7.ects], Tabela_do_wyboru[sem7.ects]) -> 0 | AE9: =SUM(Tabela_ogolne[sem8.godziny],Tabela_podst[sem8.godziny],Tabela_kier[sem8.godziny],Tabela_SP4[sem8.godziny], Tabela_do_wyboru[sem8.godziny]) -> 0 | AF9: =SUM(Tabela_ogolne[sem8.ects],Tabela_podst[sem8.ects],Tabela_kier[sem8.ects],Tabela_SP4[sem8.ects], Tabela_do_wyboru[sem8.ects]) -> 0 | AH9: =SUM(Tabela_ogolne[sem9.godziny],Tabela_podst[sem9.godziny],Tabela_kier[sem9.godziny],Tabela_SP4[sem9.godziny], Tabela_do_wyboru[sem9.godziny]) -> 0 | AI9: =SUM(Tabela_ogolne[sem9.ects],Tabela_podst[sem9.ects],Tabela_kier[sem9.ects],Tabela_SP4[sem9.ects], Tabela_do_wyboru[sem9.ects]) -> 0 | AK9: =SUM(Tabela_ogolne[sem10.godziny],Tabela_podst[sem10.godziny],Tabela_kier[sem10.godziny],Tabela_SP4[sem10.godziny], Tabela_do_wyboru[sem10.godziny]) -> 0 | AL9: =SUM(Tabela_ogolne[sem10.ects],Tabela_podst[sem10.ects],Tabela_kier[sem10.ects],Tabela_SP4[sem10.ects], Tabela_do_wyboru[sem10.ects]) -> 0 | AN9: =SUM(Tabela_ogolne[ects.razem],Tabela_podst[ects.razem],Tabela_kier[ects.razem],Tabela_SP4[ects.razem], Tabela_do_wyboru[ects.razem]) -> 124 | AO9: =SUM(Tabela_ogolne[ects.umiej.prakt.],Tabela_podst[ects.umiej.prakt.],Tabela_kier[ects.umiej.prakt.],Tabela_SP4[ects.umiej.prakt.], Tabela_do_wyboru[ects.umiej.prakt.]) -> 78 | AP9: =SUM(Tabela_ogolne[ects.bezposr.nauczyciel],Tabela_podst[ects.bezposr.nauczyciel],Tabela_kier[ects.bezposr.nauczyciel],Tabela_SP4[ects.bezposr.nauczyciel], Tabela_do_wyboru[ects.bezposr.nauczyciel]) -> 72 | AQ9: =SUM(Tabela_ogolne[godziny.razem.student],Tabela_podst[godziny.razem.student],Tabela_kier[godziny.razem.student],Tabela_SP4[godziny.razem.student], Tabela_do_wyboru[godziny.razem.student]) -> 2922 | AR9: =SUM(Tabela_ogolne[godziny.samoksztalcenie],Tabela_podst[godziny.samoksztalcenie],Tabela_kier[godziny.samoksztalcenie],Tabela_SP4[godziny.samoksztalcenie], Tabela_do_wyboru[godziny.samoksztalcenie]) -> 964 | AS9: =SUM(Tabela_ogolne[godziny.konsultacja],Tabela_podst[godziny.konsultacja],Tabela_kier[godziny.konsultacja],Tabela_SP4[godziny.konsultacja], Tabela_do_wyboru[godziny.konsultacja]) -> 158 | AT9: =SUM(Tabela_ogolne[godziny.egzamin],Tabela_podst[godziny.egzamin],Tabela_kier[godziny.egzamin],Tabela_SP4[godziny.egzamin], Tabela_do_wyboru[godziny.egzamin]) -> 110 | AU9: =SUM(Tabela_ogolne[godziny.zajec.razem],Tabela_podst[godziny.zajec.razem],Tabela_kier[godziny.zajec.razem],Tabela_SP4[godziny.zajec.razem], Tabela_do_wyboru[godziny.zajec.razem]) -> 1690 | AV9: =IF(AP9,AP9/AN9,"") -> 0.58064516
F10: SP5 | J10: =SUM(Tabela_ogolne[sem1.godziny],Tabela_podst[sem1.godziny],Tabela_kier[sem1.godziny],Tabela_SP5[sem1.godziny], Tabela_do_wyboru[sem1.godziny]) -> 330 | K10: =SUM(Tabela_ogolne[sem1.ects],Tabela_podst[sem1.ects],Tabela_kier[sem1.ects],Tabela_SP5[sem1.ects], Tabela_do_wyboru[sem1.ects]) -> 28 | M10: =SUM(Tabela_ogolne[sem2.godziny],Tabela_podst[sem2.godziny],Tabela_kier[sem2.godziny],Tabela_SP5[sem2.godziny], Tabela_do_wyboru[sem2.godziny]) -> 470 | N10: =SUM(Tabela_ogolne[sem2.ects],Tabela_podst[sem2.ects],Tabela_kier[sem2.ects],Tabela_SP5[sem2.ects], Tabela_do_wyboru[sem2.ects]) -> 29 | P10: =SUM(Tabela_ogolne[sem3.godziny],Tabela_podst[sem3.godziny],Tabela_kier[sem3.godziny],Tabela_SP5[sem3.godziny], Tabela_do_wyboru[sem3.godziny]) -> 455 | Q10: =SUM(Tabela_ogolne[sem3.ects],Tabela_podst[sem3.ects],Tabela_kier[sem3.ects],Tabela_SP5[sem3.ects], Tabela_do_wyboru[sem3.ects]) -> 29 | S10: =SUM(Tabela_ogolne[sem4.godziny],Tabela_podst[sem4.godziny],Tabela_kier[sem4.godziny],Tabela_SP5[sem4.godziny], Tabela_do_wyboru[sem4.godziny]) -> 165 | T10: =SUM(Tabela_ogolne[sem4.ects],Tabela_podst[sem4.ects],Tabela_kier[sem4.ects],Tabela_SP5[sem4.ects], Tabela_do_wyboru[sem4.ects]) -> 15 | V10: =SUM(Tabela_ogolne[sem5.godziny],Tabela_podst[sem5.godziny],Tabela_kier[sem5.godziny],Tabela_SP5[sem5.godziny], Tabela_do_wyboru[sem5.godziny]) -> 150 | W10: =SUM(Tabela_ogolne[sem5.ects],Tabela_podst[sem5.ects],Tabela_kier[sem5.ects],Tabela_SP5[sem5.ects], Tabela_do_wyboru[sem5.ects]) -> 12 | Y10: =SUM(Tabela_ogolne[sem6.godziny],Tabela_podst[sem6.godziny],Tabela_kier[sem6.godziny],Tabela_SP5[sem6.godziny], Tabela_do_wyboru[sem6.godziny]) -> 120 | Z10: =SUM(Tabela_ogolne[sem6.ects],Tabela_podst[sem6.ects],Tabela_kier[sem6.ects],Tabela_SP5[sem6.ects], Tabela_do_wyboru[sem6.ects]) -> 11 | AB10: =SUM(Tabela_ogolne[sem7.godziny],Tabela_podst[sem7.godziny],Tabela_kier[sem7.godziny],Tabela_SP5[sem7.godziny], Tabela_do_wyboru[sem7.godziny]) -> 0 | AC10: =SUM(Tabela_ogolne[sem7.ects],Tabela_podst[sem7.ects],Tabela_kier[sem7.ects],Tabela_SP5[sem7.ects], Tabela_do_wyboru[sem7.ects]) -> 0 | AE10: =SUM(Tabela_ogolne[sem8.godziny],Tabela_podst[sem8.godziny],Tabela_kier[sem8.godziny],Tabela_SP5[sem8.godziny], Tabela_do_wyboru[sem8.godziny]) -> 0 | AF10: =SUM(Tabela_ogolne[sem8.ects],Tabela_podst[sem8.ects],Tabela_kier[sem8.ects],Tabela_SP5[sem8.ects], Tabela_do_wyboru[sem8.ects]) -> 0 | AH10: =SUM(Tabela_ogolne[sem9.godziny],Tabela_podst[sem9.godziny],Tabela_kier[sem9.godziny],Tabela_SP5[sem9.godziny], Tabela_do_wyboru[sem9.godziny]) -> 0 | AI10: =SUM(Tabela_ogolne[sem9.ects],Tabela_podst[sem9.ects],Tabela_kier[sem9.ects],Tabela_SP5[sem9.ects], Tabela_do_wyboru[sem9.ects]) -> 0 | AK10: =SUM(Tabela_ogolne[sem10.godziny],Tabela_podst[sem10.godziny],Tabela_kier[sem10.godziny],Tabela_SP5[sem10.godziny], Tabela_do_wyboru[sem10.godziny]) -> 0 | AL10: =SUM(Tabela_ogolne[sem10.ects],Tabela_podst[sem10.ects],Tabela_kier[sem10.ects],Tabela_SP5[sem10.ects], Tabela_do_wyboru[sem10.ects]) -> 0 | AN10: =SUM(Tabela_ogolne[ects.razem],Tabela_podst[ects.razem],Tabela_kier[ects.razem],Tabela_SP5[ects.razem], Tabela_do_wyboru[ects.razem]) -> 124 | AO10: =SUM(Tabela_ogolne[ects.umiej.prakt.],Tabela_podst[ects.umiej.prakt.],Tabela_kier[ects.umiej.prakt.],Tabela_SP5[ects.umiej.prakt.], Tabela_do_wyboru[ects.umiej.prakt.]) -> 78 | AP10: =SUM(Tabela_ogolne[ects.bezposr.nauczyciel],Tabela_podst[ects.bezposr.nauczyciel],Tabela_kier[ects.bezposr.nauczyciel],Tabela_SP5[ects.bezposr.nauczyciel], Tabela_do_wyboru[ects.bezposr.nauczyciel]) -> 72 | AQ10: =SUM(Tabela_ogolne[godziny.razem.student],Tabela_podst[godziny.razem.student],Tabela_kier[godziny.razem.student],Tabela_SP5[godziny.razem.student], Tabela_do_wyboru[godziny.razem.student]) -> 2922 | AR10: =SUM(Tabela_ogolne[godziny.samoksztalcenie],Tabela_podst[godziny.samoksztalcenie],Tabela_kier[godziny.samoksztalcenie],Tabela_SP5[godziny.samoksztalcenie], Tabela_do_wyboru[godziny.samoksztalcenie]) -> 964 | AS10: =SUM(Tabela_ogolne[godziny.konsultacja],Tabela_podst[godziny.konsultacja],Tabela_kier[godziny.konsultacja],Tabela_SP5[godziny.konsultacja], Tabela_do_wyboru[godziny.konsultacja]) -> 158 | AT10: =SUM(Tabela_ogolne[godziny.egzamin],Tabela_podst[godziny.egzamin],Tabela_kier[godziny.egzamin],Tabela_SP5[godziny.egzamin], Tabela_do_wyboru[godziny.egzamin]) -> 110 | AU10: =SUM(Tabela_ogolne[godziny.zajec.razem],Tabela_podst[godziny.zajec.razem],Tabela_kier[godziny.zajec.razem],Tabela_SP5[godziny.zajec.razem], Tabela_do_wyboru[godziny.zajec.razem]) -> 1690 | AV10: =IF(AP10,AP10/AN10,"") -> 0.58064516
B12: A1. PRZYGOTOWANIE MERYTORYCZNE DO NAUCZANIA PIERWSZEGO PRZEDMIOTU LUB PROWADZENIA PIERWSZYCH ZAJĘĆ
B14: PRZEDMIOTY OGÓLNOUCZELNIANE
B15: RAZEM W GRUPIE PRZEDMIOTÓW OGÓLNOUCZELNIANYCH | J15: =SUM(Tabela_ogolne[sem1.godziny]) -> 60 | K15: =SUM(Tabela_ogolne[sem1.ects]) -> 3 | M15: =SUM(Tabela_ogolne[sem2.godziny]) -> 60 | N15: =SUM(Tabela_ogolne[sem2.ects]) -> 3 | P15: =SUM(Tabela_ogolne[sem3.godziny]) -> 60 | Q15: =SUM(Tabela_ogolne[sem3.ects]) -> 3 | S15: =SUM(Tabela_ogolne[sem4.godziny]) -> 30 | T15: =SUM(Tabela_ogolne[sem4.ects]) -> 3 | V15: =SUM(Tabela_ogolne[sem5.godziny]) -> 30 | W15: =SUM(Tabela_ogolne[sem5.ects]) -> 2 | Y15: =SUM(Tabela_ogolne[sem6.godziny]) -> 0 | Z15: =SUM(Tabela_ogolne[sem6.ects]) -> 0 | AB15: =SUM(Tabela_ogolne[sem7.godziny]) -> 0 | AC15: =SUM(Tabela_ogolne[sem7.ects]) -> 0 | AE15: =SUM(Tabela_ogolne[sem8.godziny]) -> 0 | AF15: =SUM(Tabela_ogolne[sem8.ects]) -> 0 | AH15: =SUM(Tabela_ogolne[sem9.godziny]) -> 0 | AI15: =SUM(Tabela_ogolne[sem9.ects]) -> 0 | AK15: =SUM(Tabela_ogolne[sem10.godziny]) -> 0 | AL15: =SUM(Tabela_ogolne[sem10.ects]) -> 0 | AN15: =SUM(Tabela_ogolne[ects.razem]) -> 14 | AO15: =SUM(Tabela_ogolne[ects.umiej.prakt.]) -> 13 | AP15: =SUM(Tabela_ogolne[ects.bezposr.nauczyciel]) -> 7 | AQ15: =SUM(Tabela_ogolne[godziny.razem.student]) -> 420 | AR15: =SUM(Tabela_ogolne[godziny.samoksztalcenie]) -> 139 | AS15: =SUM(Tabela_ogolne[godziny.konsultacja]) -> 21 | AT15: =SUM(Tabela_ogolne[godziny.egzamin]) -> 20 | AU15: =SUM(Tabela_ogolne[godziny.zajec.razem]) -> 240
B16: kod.isced | C16: kod.dziedziny | D16: Modul | E16: Umiej.prakt. | F16: Nazwa przedmiotu | G16: Prowadzacy | H16: Forma | I16: czy.ects | J16: sem1.godziny | K16: sem1.ects | L16: sem1.forma | M16: sem2.godziny | N16: sem2.ects | O16: sem2.forma | P16: sem3.godziny | Q16: sem3.ects | R16: sem3.forma | S16: sem4.godziny | T16: sem4.ects | U16: sem4.forma | V16: sem5.godziny | W16: sem5.ects | X16: sem5.forma | Y16: sem6.godziny | Z16: sem6.ects | AA16: sem6.forma | AB16: sem7.godziny | AC16: sem7.ects | AD16: sem7.forma | AE16: sem8.godziny | AF16: sem8.ects | AG16: sem8.forma | AH16: sem9.godziny | AI16: sem9.ects | AJ16: sem9.forma | AK16: sem10.godziny | AL16: sem10.ects | AM16: sem10.forma | AN16: ects.razem | AO16: ects.umiej.prakt. | AP16: ects.bezposr.nauczyciel | AQ16: godziny.razem.student | AR16: godziny.samoksztalcenie | AS16: godziny.konsultacja | AT16: godziny.egzamin | AU16: godziny.zajec.razem | AV16: ects.bezpos.kontakt.procent
B17: 0011 | C17: 104 | D17: ou.01.1 | E17: up | F17: Zaawansowana wypowiedź akademicka | H17: konwersatorium | I17: TAK | J17: 15 | K17: {=IF(Tabela_ogolne[[#This Row],[czy.ects]]="TAK",_xlfn.IFS(AND(Tabela_ogolne[[#This Row],[sem1.godziny]]>=$Q$191,Tabela_ogolne[[#This Row],[sem1.forma]]="z"),8,AND(Tabela_ogolne[[#This Row],[sem1.godziny]]>=$I$191,Tabela_ogolne[[#This Row],[sem1.forma]]="z"),4,AND(Tabela_ogolne[[#This Row],[sem1.godziny]]>=$H$191,Tabela_ogolne[[#This Row],[sem1.forma]]="e"),2,AND(Tabela_ogolne[[#This Row],[sem1.godziny]]<$H$191,Tabela_ogolne[[#This Row],[sem1.forma]]="e"),1,AND(Tabela_ogolne[[#This Row],[sem1.godziny]]>=$H$191,Tabela_ogolne[[#This Row],[sem1.forma]]="z"),2,AND(Tabela_ogolne[[#This Row],[sem1.godziny]]<$H$191,Tabela_ogolne[[#This Row],[sem1.forma]]="z"),1,TRUE,""),"")} -> 1 | L17: z | N17: {=IF(Tabela_ogolne[[#This Row],[czy.ects]]="TAK",_xlfn.IFS(AND(Tabela_ogolne[[#This Row],[sem2.godziny]]>=$Q$191,Tabela_ogolne[[#This Row],[sem2.forma]]="z"),8,AND(Tabela_ogolne[[#This Row],[sem2.godziny]]>=$I$191,Tabela_ogolne[[#This Row],[sem2.forma]]="z"),4,AND(Tabela_ogolne[[#This Row],[sem2.godziny]]>=$H$191,Tabela_ogolne[[#This Row],[sem2.forma]]="e"),2,AND(Tabela_ogolne[[#This Row],[sem2.godziny]]<$H$191,Tabela_ogolne[[#This Row],[sem2.forma]]="e"),1,AND(Tabela_ogolne[[#This Row],[sem2.godziny]]>=$H$191,Tabela_ogolne[[#This Row],[sem2.forma]]="z"),2,AND(Tabela_ogolne[[#This Row],[sem2.godziny]]<$H$191,Tabela_ogolne[[#This Row],[sem2.forma]]="z"),1,TRUE,""),"")} | Q17: {=IF(Tabela_ogolne[[#This Row],[czy.ects]]="TAK",_xlfn.IFS(AND(Tabela_ogolne[[#This Row],[sem3.godziny]]>=$Q$191,Tabela_ogolne[[#This Row],[sem3.forma]]="z"),8,AND(Tabela_ogolne[[#This Row],[sem3.godziny]]>=$I$191,Tabela_ogolne[[#This Row],[sem3.forma]]="z"),4,AND(Tabela_ogolne[[#This Row],[sem3.godziny]]>=$H$191,Tabela_ogolne[[#This Row],[sem3.forma]]="e"),2,AND(Tabela_ogolne[[#This Row],[sem3.godziny]]<$H$191,Tabela_ogolne[[#This Row],[sem3.forma]]="e"),1,AND(Tabela_ogolne[[#This Row],[sem3.godziny]]>=$H$191,Tabela_ogolne[[#This Row],[sem3.forma]]="z"),2,AND(Tabela_ogolne[[#This Row],[sem3.godziny]]<$H$191,Tabela_ogolne[[#This Row],[sem3.forma]]="z"),1,TRUE,""),"")} | T17: {=IF(Tabela_ogolne[[#This Row],[czy.ects]]="TAK",_xlfn.IFS(AND(Tabela_ogolne[[#This Row],[sem4.godziny]]>=$Q$191,Tabela_ogolne[[#This Row],[sem4.forma]]="z"),8,AND(Tabela_ogolne[[#This Row],[sem4.godziny]]>=$I$191,Tabela_ogolne[[#This Row],[sem4.forma]]="z"),4,AND(Tabela_ogolne[[#This Row],[sem4.godziny]]>=$H$191,Tabela_ogolne[[#This Row],[sem4.forma]]="e"),2,AND(Tabela_ogolne[[#This Row],[sem4.godziny]]<$H$191,Tabela_ogolne[[#This Row],[sem4.forma]]="e"),1,AND(Tabela_ogolne[[#This Row],[sem4.godziny]]>=$H$191,Tabela_ogolne[[#This Row],[sem4.forma]]="z"),2,AND(Tabela_ogolne[[#This Row],[sem4.godziny]]<$H$191,Tabela_ogolne[[#This Row],[sem4.forma]]="z"),1,TRUE,""),"")} | W17: {=IF(Tabela_ogolne[[#This Row],[czy.ects]]="TAK",_xlfn.IFS(AND(Tabela_ogolne[[#This Row],[sem5.godziny]]>=$Q$191,Tabela_ogolne[[#This Row],[sem5.forma]]="z"),8,AND(Tabela_ogolne[[#This Row],[sem5.godziny]]>=$I$191,Tabela_ogolne[[#This Row],[sem5.forma]]="z"),4,AND(Tabela_ogolne[[#This Row],[sem5.godziny]]>=$H$191,Tabela_ogolne[[#This Row],[sem5.forma]]="e"),2,AND(Tabela_ogolne[[#This Row],[sem5.godziny]]<$H$191,Tabela_ogolne[[#This Row],[sem5.forma]]="e"),1,AND(Tabela_ogolne[[#This Row],[sem5.godziny]]>=$H$191,Tabela_ogolne[[#This Row],[sem5.forma]]="z"),2,AND(Tabela_ogolne[[#This Row],[sem5.godziny]]<$H$191,Tabela_ogolne[[#This Row],[sem5.forma]]="z"),1,TRUE,""),"")} | Z17: {=IF(Tabela_ogolne[[#This Row],[czy.ects]]="TAK",_xlfn.IFS(AND(Tabela_ogolne[[#This Row],[sem6.godziny]]>=$Q$191,Tabela_ogolne[[#This Row],[sem6.forma]]="z"),8,AND(Tabela_ogolne[[#This Row],[sem6.godziny]]>=$I$191,Tabela_ogolne[[#This Row],[sem6.forma]]="z"),4,AND(Tabela_ogolne[[#This Row],[sem6.godziny]]>=$H$191,Tabela_ogolne[[#This Row],[sem6.forma]]="e"),2,AND(Tabela_ogolne[[#This Row],[sem6.godziny]]<$H$191,Tabela_ogolne[[#This Row],[sem6.forma]]="e"),1,AND(Tabela_ogolne[[#This Row],[sem6.godziny]]>=$H$191,Tabela_ogolne[[#This Row],[sem6.forma]]="z"),2,AND(Tabela_ogolne[[#This Row],[sem6.godziny]]<$H$191,Tabela_ogolne[[#This Row],[sem6.forma]]="z"),1,TRUE,""),"")} | AC17: {=IF(Tabela_ogolne[[#This Row],[czy.ects]]="TAK",_xlfn.IFS(AND(Tabela_ogolne[[#This Row],[sem7.godziny]]>=$Q$191,Tabela_ogolne[[#This Row],[sem7.forma]]="z"),8,AND(Tabela_ogolne[[#This Row],[sem7.godziny]]>=$I$191,Tabela_ogolne[[#This Row],[sem7.forma]]="z"),4,AND(Tabela_ogolne[[#This Row],[sem7.godziny]]>=$H$191,Tabela_ogolne[[#This Row],[sem7.forma]]="e"),2,AND(Tabela_ogolne[[#This Row],[sem7.godziny]]<$H$191,Tabela_ogolne[[#This Row],[sem7.forma]]="e"),1,AND(Tabela_ogolne[[#This Row],[sem7.godziny]]>=$H$191,Tabela_ogolne[[#This Row],[sem7.forma]]="z"),2,AND(Tabela_ogolne[[#This Row],[sem7.godziny]]<$H$191,Tabela_ogolne[[#This Row],[sem7.forma]]="z"),1,TRUE,""),"")} | AF17: {=IF(Tabela_ogolne[[#This Row],[czy.ects]]="TAK",_xlfn.IFS(AND(Tabela_ogolne[[#This Row],[sem8.godziny]]>=$Q$191,Tabela_ogolne[[#This Row],[sem8.forma]]="z"),8,AND(Tabela_ogolne[[#This Row],[sem8.godziny]]>=$I$191,Tabela_ogolne[[#This Row],[sem8.forma]]="z"),4,AND(Tabela_ogolne[[#This Row],[sem8.godziny]]>=$H$191,Tabela_ogolne[[#This Row],[sem8.forma]]="e"),2,AND(Tabela_ogolne[[#This Row],[sem8.godziny]]<$H$191,Tabela_ogolne[[#This Row],[sem8.forma]]="e"),1,AND(Tabela_ogolne[[#This Row],[sem8.godziny]]>=$H$191,Tabela_ogolne[[#This Row],[sem8.forma]]="z"),2,AND(Tabela_ogolne[[#This Row],[sem8.godziny]]<$H$191,Tabela_ogolne[[#This Row],[sem8.forma]]="z"),1,TRUE,""),"")} | AI17: {=IF(Tabela_ogolne[[#This Row],[czy.ects]]="TAK",_xlfn.IFS(AND(Tabela_ogolne[[#This Row],[sem9.godziny]]>=$Q$191,Tabela_ogolne[[#This Row],[sem9.forma]]="z"),8,AND(Tabela_ogolne[[#This Row],[sem9.godziny]]>=$I$191,Tabela_ogolne[[#This Row],[sem9.forma]]="z"),4,AND(Tabela_ogolne[[#This Row],[sem9.godziny]]>=$H$191,Tabela_ogolne[[#This Row],[sem9.forma]]="e"),2,AND(Tabela_ogolne[[#This Row],[sem9.godziny]]<$H$191,Tabela_ogolne[[#This Row],[sem9.forma]]="e"),1,AND(Tabela_ogolne[[#This Row],[sem9.godziny]]>=$H$191,Tabela_ogolne[[#This Row],[sem9.forma]]="z"),2,AND(Tabela_ogolne[[#This Row],[sem9.godziny]]<$H$191,Tabela_ogolne[[#This Row],[sem9.forma]]="z"),1,TRUE,""),"")} | AL17: {=IF(Tabela_ogolne[[#This Row],[czy.ects]]="TAK",_xlfn.IFS(AND(Tabela_ogolne[[#This Row],[sem10.godziny]]>=$Q$191,Tabela_ogolne[[#This Row],[sem10.forma]]="z"),8,AND(Tabela_ogolne[[#This Row],[sem10.godziny]]>=$I$191,Tabela_ogolne[[#This Row],[sem10.forma]]="z"),4,AND(Tabela_ogolne[[#This Row],[sem10.godziny]]>=$H$191,Tabela_ogolne[[#This Row],[sem10.forma]]="e"),2,AND(Tabela_ogolne[[#This Row],[sem10.godziny]]<$H$191,Tabela_ogolne[[#This Row],[sem10.forma]]="e"),1,AND(Tabela_ogolne[[#This Row],[sem10.godziny]]>=$H$191,Tabela_ogolne[[#This Row],[sem10.forma]]="z"),2,AND(Tabela_ogolne[[#This Row],[sem10.godziny]]<$H$191,Tabela_ogolne[[#This Row],[sem10.forma]]="z"),1,TRUE,""),"")} | AN17: =SUM(Tabela_ogolne[[#This Row],[sem1.ects]],Tabela_ogolne[[#This Row],[sem2.ects]],Tabela_ogolne[[#This Row],[sem3.ects]],Tabela_ogolne[[#This Row],[sem4.ects]],Tabela_ogolne[[#This Row],[sem5.ects]],Tabela_ogolne[[#This Row],[sem6.ects]],Tabela_ogolne[[#This Row],[sem7.ects]],Tabela_ogolne[[#This Row],[sem8.ects]],Tabela_ogolne[[#This Row],[sem9.ects]],Tabela_ogolne[[#This Row],[sem10.ects]]) -> 1 | AO17: =IF(ISERR(SEARCH("UP",Tabela_ogolne[[#This Row],[Umiej.prakt.]],1)),0,Tabela_ogolne[[#This Row],[ects.razem]]) -> 1 | AP17: =IF(Tabela_ogolne[[#This Row],[czy.ects]]="TAK",ROUND((SUM(Tabela_ogolne[[#This Row],[godziny.konsultacja]],Tabela_ogolne[[#This Row],[godziny.egzamin]],Tabela_ogolne[[#This Row],[godziny.zajec.razem]])/25)/0.5,0)*0.5,0) -> 0.5 | AQ17: =SUM(Tabela_ogolne[[#This Row],[godziny.samoksztalcenie]],Tabela_ogolne[[#This Row],[godziny.konsultacja]],Tabela_ogolne[[#This Row],[godziny.egzamin]],Tabela_ogolne[[#This Row],[godziny.zajec.razem]]) -> 27 | AR17: =INT(SUM(Tabela_ogolne[[#This Row],[godziny.konsultacja]],Tabela_ogolne[[#This Row],[godziny.egzamin]],Tabela_ogolne[[#This Row],[godziny.zajec.razem]])*0.5+Tabela_ogolne[[#This Row],[godziny.zajec.razem]]*(15-$G$191)/9) -> 9 | AS17: =INT(Tabela_ogolne[[#This Row],[godziny.zajec.razem]]*0.1) -> 1 | AT17: =IF(Tabela_ogolne[[#This Row],[godziny.zajec.razem]]>0,IF(Tabela_ogolne[[#This Row],[godziny.zajec.razem]]>=45,4,2),0) -> 2 | AU17: =SUM(Tabela_ogolne[[#This Row],[sem1.godziny]],Tabela_ogolne[[#This Row],[sem2.godziny]],Tabela_ogolne[[#This Row],[sem3.godziny]],Tabela_ogolne[[#This Row],[sem4.godziny]],Tabela_ogolne[[#This Row],[sem5.godziny]],Tabela_ogolne[[#This Row],[sem6.godziny]],Tabela_ogolne[[#This Row],[sem7.godziny]],Tabela_ogolne[[#This Row],[sem8.godziny]],Tabela_ogolne[[#This Row],[sem9.godziny]],Tabela_ogolne[[#This Row],[sem10.godziny]]) -> 15 | AV17: =IF(Tabela_ogolne[[#This Row],[ects.bezposr.nauczyciel]],Tabela_ogolne[[#This Row],[ects.bezposr.nauczyciel]]/Tabela_ogolne[[#This Row],[ects.razem]],0) -> 0.5
B18: 0011 | C18: 506 | D18: ou.02.1 | F18: Przysposobienie akademickie | H18: konwersatorium | I18: NIE | J18: 5 | K18: {=IF(Tabela_ogolne[[#This Row],[czy.ects]]="TAK",_xlfn.IFS(AND(Tabela_ogolne[[#This Row],[sem1.godziny]]>=$Q$191,Tabela_ogolne[[#This Row],[sem1.forma]]="z"),8,AND(Tabela_ogolne[[#This Row],[sem1.godziny]]>=$I$191,Tabela_ogolne[[#This Row],[sem1.forma]]="z"),4,AND(Tabela_ogolne[[#This Row],[sem1.godziny]]>=$H$191,Tabela_ogolne[[#This Row],[sem1.forma]]="e"),2,AND(Tabela_ogolne[[#This Row],[sem1.godziny]]<$H$191,Tabela_ogolne[[#This Row],[sem1.forma]]="e"),1,AND(Tabela_ogolne[[#This Row],[sem1.godziny]]>=$H$191,Tabela_ogolne[[#This Row],[sem1.forma]]="z"),2,AND(Tabela_ogolne[[#This Row],[sem1.godziny]]<$H$191,Tabela_ogolne[[#This Row],[sem1.forma]]="z"),1,TRUE,""),"")} | L18: b | N18: {=IF(Tabela_ogolne[[#This Row],[czy.ects]]="TAK",_xlfn.IFS(AND(Tabela_ogolne[[#This Row],[sem2.godziny]]>=$Q$191,Tabela_ogolne[[#This Row],[sem2.forma]]="z"),8,AND(Tabela_ogolne[[#This Row],[sem2.godziny]]>=$I$191,Tabela_ogolne[[#This Row],[sem2.forma]]="z"),4,AND(Tabela_ogolne[[#This Row],[sem2.godziny]]>=$H$191,Tabela_ogolne[[#This Row],[sem2.forma]]="e"),2,AND(Tabela_ogolne[[#This Row],[sem2.godziny]]<$H$191,Tabela_ogolne[[#This Row],[sem2.forma]]="e"),1,AND(Tabela_ogolne[[#This Row],[sem2.godziny]]>=$H$191,Tabela_ogolne[[#This Row],[sem2.forma]]="z"),2,AND(Tabela_ogolne[[#This Row],[sem2.godziny]]<$H$191,Tabela_ogolne[[#This Row],[sem2.forma]]="z"),1,TRUE,""),"")} | Q18: {=IF(Tabela_ogolne[[#This Row],[czy.ects]]="TAK",_xlfn.IFS(AND(Tabela_ogolne[[#This Row],[sem3.godziny]]>=$Q$191,Tabela_ogolne[[#This Row],[sem3.forma]]="z"),8,AND(Tabela_ogolne[[#This Row],[sem3.godziny]]>=$I$191,Tabela_ogolne[[#This Row],[sem3.forma]]="z"),4,AND(Tabela_ogolne[[#This Row],[sem3.godziny]]>=$H$191,Tabela_ogolne[[#This Row],[sem3.forma]]="e"),2,AND(Tabela_ogolne[[#This Row],[sem3.godziny]]<$H$191,Tabela_ogolne[[#This Row],[sem3.forma]]="e"),1,AND(Tabela_ogolne[[#This Row],[sem3.godziny]]>=$H$191,Tabela_ogolne[[#This Row],[sem3.forma]]="z"),2,AND(Tabela_ogolne[[#This Row],[sem3.godziny]]<$H$191,Tabela_ogolne[[#This Row],[sem3.forma]]="z"),1,TRUE,""),"")} | T18: {=IF(Tabela_ogolne[[#This Row],[czy.ects]]="TAK",_xlfn.IFS(AND(Tabela_ogolne[[#This Row],[sem4.godziny]]>=$Q$191,Tabela_ogolne[[#This Row],[sem4.forma]]="z"),8,AND(Tabela_ogolne[[#This Row],[sem4.godziny]]>=$I$191,Tabela_ogolne[[#This Row],[sem4.forma]]="z"),4,AND(Tabela_ogolne[[#This Row],[sem4.godziny]]>=$H$191,Tabela_ogolne[[#This Row],[sem4.forma]]="e"),2,AND(Tabela_ogolne[[#This Row],[sem4.godziny]]<$H$191,Tabela_ogolne[[#This Row],[sem4.forma]]="e"),1,AND(Tabela_ogolne[[#This Row],[sem4.godziny]]>=$H$191,Tabela_ogolne[[#This Row],[sem4.forma]]="z"),2,AND(Tabela_ogolne[[#This Row],[sem4.godziny]]<$H$191,Tabela_ogolne[[#This Row],[sem4.forma]]="z"),1,TRUE,""),"")} | W18: {=IF(Tabela_ogolne[[#This Row],[czy.ects]]="TAK",_xlfn.IFS(AND(Tabela_ogolne[[#This Row],[sem5.godziny]]>=$Q$191,Tabela_ogolne[[#This Row],[sem5.forma]]="z"),8,AND(Tabela_ogolne[[#This Row],[sem5.godziny]]>=$I$191,Tabela_ogolne[[#This Row],[sem5.forma]]="z"),4,AND(Tabela_ogolne[[#This Row],[sem5.godziny]]>=$H$191,Tabela_ogolne[[#This Row],[sem5.forma]]="e"),2,AND(Tabela_ogolne[[#This Row],[sem5.godziny]]<$H$191,Tabela_ogolne[[#This Row],[sem5.forma]]="e"),1,AND(Tabela_ogolne[[#This Row],[sem5.godziny]]>=$H$191,Tabela_ogolne[[#This Row],[sem5.forma]]="z"),2,AND(Tabela_ogolne[[#This Row],[sem5.godziny]]<$H$191,Tabela_ogolne[[#This Row],[sem5.forma]]="z"),1,TRUE,""),"")} | Z18: {=IF(Tabela_ogolne[[#This Row],[czy.ects]]="TAK",_xlfn.IFS(AND(Tabela_ogolne[[#This Row],[sem6.godziny]]>=$Q$191,Tabela_ogolne[[#This Row],[sem6.forma]]="z"),8,AND(Tabela_ogolne[[#This Row],[sem6.godziny]]>=$I$191,Tabela_ogolne[[#This Row],[sem6.forma]]="z"),4,AND(Tabela_ogolne[[#This Row],[sem6.godziny]]>=$H$191,Tabela_ogolne[[#This Row],[sem6.forma]]="e"),2,AND(Tabela_ogolne[[#This Row],[sem6.godziny]]<$H$191,Tabela_ogolne[[#This Row],[sem6.forma]]="e"),1,AND(Tabela_ogolne[[#This Row],[sem6.godziny]]>=$H$191,Tabela_ogolne[[#This Row],[sem6.forma]]="z"),2,AND(Tabela_ogolne[[#This Row],[sem6.godziny]]<$H$191,Tabela_ogolne[[#This Row],[sem6.forma]]="z"),1,TRUE,""),"")} | AC18: {=IF(Tabela_ogolne[[#This Row],[czy.ects]]="TAK",_xlfn.IFS(AND(Tabela_ogolne[[#This Row],[sem7.godziny]]>=$Q$191,Tabela_ogolne[[#This Row],[sem7.forma]]="z"),8,AND(Tabela_ogolne[[#This Row],[sem7.godziny]]>=$I$191,Tabela_ogolne[[#This Row],[sem7.forma]]="z"),4,AND(Tabela_ogolne[[#This Row],[sem7.godziny]]>=$H$191,Tabela_ogolne[[#This Row],[sem7.forma]]="e"),2,AND(Tabela_ogolne[[#This Row],[sem7.godziny]]<$H$191,Tabela_ogolne[[#This Row],[sem7.forma]]="e"),1,AND(Tabela_ogolne[[#This Row],[sem7.godziny]]>=$H$191,Tabela_ogolne[[#This Row],[sem7.forma]]="z"),2,AND(Tabela_ogolne[[#This Row],[sem7.godziny]]<$H$191,Tabela_ogolne[[#This Row],[sem7.forma]]="z"),1,TRUE,""),"")} | AF18: {=IF(Tabela_ogolne[[#This Row],[czy.ects]]="TAK",_xlfn.IFS(AND(Tabela_ogolne[[#This Row],[sem8.godziny]]>=$Q$191,Tabela_ogolne[[#This Row],[sem8.forma]]="z"),8,AND(Tabela_ogolne[[#This Row],[sem8.godziny]]>=$I$191,Tabela_ogolne[[#This Row],[sem8.forma]]="z"),4,AND(Tabela_ogolne[[#This Row],[sem8.godziny]]>=$H$191,Tabela_ogolne[[#This Row],[sem8.forma]]="e"),2,AND(Tabela_ogolne[[#This Row],[sem8.godziny]]<$H$191,Tabela_ogolne[[#This Row],[sem8.forma]]="e"),1,AND(Tabela_ogolne[[#This Row],[sem8.godziny]]>=$H$191,Tabela_ogolne[[#This Row],[sem8.forma]]="z"),2,AND(Tabela_ogolne[[#This Row],[sem8.godziny]]<$H$191,Tabela_ogolne[[#This Row],[sem8.forma]]="z"),1,TRUE,""),"")} | AI18: {=IF(Tabela_ogolne[[#This Row],[czy.ects]]="TAK",_xlfn.IFS(AND(Tabela_ogolne[[#This Row],[sem9.godziny]]>=$Q$191,Tabela_ogolne[[#This Row],[sem9.forma]]="z"),8,AND(Tabela_ogolne[[#This Row],[sem9.godziny]]>=$I$191,Tabela_ogolne[[#This Row],[sem9.forma]]="z"),4,AND(Tabela_ogolne[[#This Row],[sem9.godziny]]>=$H$191,Tabela_ogolne[[#This Row],[sem9.forma]]="e"),2,AND(Tabela_ogolne[[#This Row],[sem9.godziny]]<$H$191,Tabela_ogolne[[#This Row],[sem9.forma]]="e"),1,AND(Tabela_ogolne[[#This Row],[sem9.godziny]]>=$H$191,Tabela_ogolne[[#This Row],[sem9.forma]]="z"),2,AND(Tabela_ogolne[[#This Row],[sem9.godziny]]<$H$191,Tabela_ogolne[[#This Row],[sem9.forma]]="z"),1,TRUE,""),"")} | AL18: {=IF(Tabela_ogolne[[#This Row],[czy.ects]]="TAK",_xlfn.IFS(AND(Tabela_ogolne[[#This Row],[sem10.godziny]]>=$Q$191,Tabela_ogolne[[#This Row],[sem10.forma]]="z"),8,AND(Tabela_ogolne[[#This Row],[sem10.godziny]]>=$I$191,Tabela_ogolne[[#This Row],[sem10.forma]]="z"),4,AND(Tabela_ogolne[[#This Row],[sem10.godziny]]>=$H$191,Tabela_ogolne[[#This Row],[sem10.forma]]="e"),2,AND(Tabela_ogolne[[#This Row],[sem10.godziny]]<$H$191,Tabela_ogolne[[#This Row],[sem10.forma]]="e"),1,AND(Tabela_ogolne[[#This Row],[sem10.godziny]]>=$H$191,Tabela_ogolne[[#This Row],[sem10.forma]]="z"),2,AND(Tabela_ogolne[[#This Row],[sem10.godziny]]<$H$191,Tabela_ogolne[[#This Row],[sem10.forma]]="z"),1,TRUE,""),"")} | AN18: =SUM(Tabela_ogolne[[#This Row],[sem1.ects]],Tabela_ogolne[[#This Row],[sem2.ects]],Tabela_ogolne[[#This Row],[sem3.ects]],Tabela_ogolne[[#This Row],[sem4.ects]],Tabela_ogolne[[#This Row],[sem5.ects]],Tabela_ogolne[[#This Row],[sem6.ects]],Tabela_ogolne[[#This Row],[sem7.ects]],Tabela_ogolne[[#This Row],[sem8.ects]],Tabela_ogolne[[#This Row],[sem9.ects]],Tabela_ogolne[[#This Row],[sem10.ects]]) -> 0 | AO18: =IF(ISERR(SEARCH("UP",Tabela_ogolne[[#This Row],[Umiej.prakt.]],1)),0,Tabela_ogolne[[#This Row],[ects.razem]]) -> 0 | AP18: =IF(Tabela_ogolne[[#This Row],[czy.ects]]="TAK",ROUND((SUM(Tabela_ogolne[[#This Row],[godziny.konsultacja]],Tabela_ogolne[[#This Row],[godziny.egzamin]],Tabela_ogolne[[#This Row],[godziny.zajec.razem]])/25)/0.5,0)*0.5,0) -> 0 | AQ18: =SUM(Tabela_ogolne[[#This Row],[godziny.samoksztalcenie]],Tabela_ogolne[[#This Row],[godziny.konsultacja]],Tabela_ogolne[[#This Row],[godziny.egzamin]],Tabela_ogolne[[#This Row],[godziny.zajec.razem]]) -> 10 | AR18: =INT(SUM(Tabela_ogolne[[#This Row],[godziny.konsultacja]],Tabela_ogolne[[#This Row],[godziny.egzamin]],Tabela_ogolne[[#This Row],[godziny.zajec.razem]])*0.5+Tabela_ogolne[[#This Row],[godziny.zajec.razem]]*(15-$G$191)/9) -> 3 | AS18: =INT(Tabela_ogolne[[#This Row],[godziny.zajec.razem]]*0.1) -> 0 | AT18: =IF(Tabela_ogolne[[#This Row],[godziny.zajec.razem]]>0,IF(Tabela_ogolne[[#This Row],[godziny.zajec.razem]]>=45,4,2),0) -> 2 | AU18: =SUM(Tabela_ogolne[[#This Row],[sem1.godziny]],Tabela_ogolne[[#This Row],[sem2.godziny]],Tabela_ogolne[[#This Row],[sem3.godziny]],Tabela_ogolne[[#This Row],[sem4.godziny]],Tabela_ogolne[[#This Row],[sem5.godziny]],Tabela_ogolne[[#This Row],[sem6.godziny]],Tabela_ogolne[[#This Row],[sem7.godziny]],Tabela_ogolne[[#This Row],[sem8.godziny]],Tabela_ogolne[[#This Row],[sem9.godziny]],Tabela_ogolne[[#This Row],[sem10.godziny]]) -> 5 | AV18: =IF(Tabela_ogolne[[#This Row],[ects.bezposr.nauczyciel]],Tabela_ogolne[[#This Row],[ects.bezposr.nauczyciel]]/Tabela_ogolne[[#This Row],[ects.razem]],0) -> 0
B19: 0611 | C19: 203 | D19: ou.03.1 | E19: up | F19: Technologie informacyjne | H19: ćwiczenia | I19: TAK | J19: 15 | K19: {=IF(Tabela_ogolne[[#This Row],[czy.ects]]="TAK",_xlfn.IFS(AND(Tabela_ogolne[[#This Row],[sem1.godziny]]>=$Q$191,Tabela_ogolne[[#This Row],[sem1.forma]]="z"),8,AND(Tabela_ogolne[[#This Row],[sem1.godziny]]>=$I$191,Tabela_ogolne[[#This Row],[sem1.forma]]="z"),4,AND(Tabela_ogolne[[#This Row],[sem1.godziny]]>=$H$191,Tabela_ogolne[[#This Row],[sem1.forma]]="e"),2,AND(Tabela_ogolne[[#This Row],[sem1.godziny]]<$H$191,Tabela_ogolne[[#This Row],[sem1.forma]]="e"),1,AND(Tabela_ogolne[[#This Row],[sem1.godziny]]>=$H$191,Tabela_ogolne[[#This Row],[sem1.forma]]="z"),2,AND(Tabela_ogolne[[#This Row],[sem1.godziny]]<$H$191,Tabela_ogolne[[#This Row],[sem1.forma]]="z"),1,TRUE,""),"")} -> 1 | L19: z | N19: {=IF(Tabela_ogolne[[#This Row],[czy.ects]]="TAK",_xlfn.IFS(AND(Tabela_ogolne[[#This Row],[sem2.godziny]]>=$Q$191,Tabela_ogolne[[#This Row],[sem2.forma]]="z"),8,AND(Tabela_ogolne[[#This Row],[sem2.godziny]]>=$I$191,Tabela_ogolne[[#This Row],[sem2.forma]]="z"),4,AND(Tabela_ogolne[[#This Row],[sem2.godziny]]>=$H$191,Tabela_ogolne[[#This Row],[sem2.forma]]="e"),2,AND(Tabela_ogolne[[#This Row],[sem2.godziny]]<$H$191,Tabela_ogolne[[#This Row],[sem2.forma]]="e"),1,AND(Tabela_ogolne[[#This Row],[sem2.godziny]]>=$H$191,Tabela_ogolne[[#This Row],[sem2.forma]]="z"),2,AND(Tabela_ogolne[[#This Row],[sem2.godziny]]<$H$191,Tabela_ogolne[[#This Row],[sem2.forma]]="z"),1,TRUE,""),"")} | Q19: {=IF(Tabela_ogolne[[#This Row],[czy.ects]]="TAK",_xlfn.IFS(AND(Tabela_ogolne[[#This Row],[sem3.godziny]]>=$Q$191,Tabela_ogolne[[#This Row],[sem3.forma]]="z"),8,AND(Tabela_ogolne[[#This Row],[sem3.godziny]]>=$I$191,Tabela_ogolne[[#This Row],[sem3.forma]]="z"),4,AND(Tabela_ogolne[[#This Row],[sem3.godziny]]>=$H$191,Tabela_ogolne[[#This Row],[sem3.forma]]="e"),2,AND(Tabela_ogolne[[#This Row],[sem3.godziny]]<$H$191,Tabela_ogolne[[#This Row],[sem3.forma]]="e"),1,AND(Tabela_ogolne[[#This Row],[sem3.godziny]]>=$H$191,Tabela_ogolne[[#This Row],[sem3.forma]]="z"),2,AND(Tabela_ogolne[[#This Row],[sem3.godziny]]<$H$191,Tabela_ogolne[[#This Row],[sem3.forma]]="z"),1,TRUE,""),"")} | T19: {=IF(Tabela_ogolne[[#This Row],[czy.ects]]="TAK",_xlfn.IFS(AND(Tabela_ogolne[[#This Row],[sem4.godziny]]>=$Q$191,Tabela_ogolne[[#This Row],[sem4.forma]]="z"),8,AND(Tabela_ogolne[[#This Row],[sem4.godziny]]>=$I$191,Tabela_ogolne[[#This Row],[sem4.forma]]="z"),4,AND(Tabela_ogolne[[#This Row],[sem4.godziny]]>=$H$191,Tabela_ogolne[[#This Row],[sem4.forma]]="e"),2,AND(Tabela_ogolne[[#This Row],[sem4.godziny]]<$H$191,Tabela_ogolne[[#This Row],[sem4.forma]]="e"),1,AND(Tabela_ogolne[[#This Row],[sem4.godziny]]>=$H$191,Tabela_ogolne[[#This Row],[sem4.forma]]="z"),2,AND(Tabela_ogolne[[#This Row],[sem4.godziny]]<$H$191,Tabela_ogolne[[#This Row],[sem4.forma]]="z"),1,TRUE,""),"")} | W19: {=IF(Tabela_ogolne[[#This Row],[czy.ects]]="TAK",_xlfn.IFS(AND(Tabela_ogolne[[#This Row],[sem5.godziny]]>=$Q$191,Tabela_ogolne[[#This Row],[sem5.forma]]="z"),8,AND(Tabela_ogolne[[#This Row],[sem5.godziny]]>=$I$191,Tabela_ogolne[[#This Row],[sem5.forma]]="z"),4,AND(Tabela_ogolne[[#This Row],[sem5.godziny]]>=$H$191,Tabela_ogolne[[#This Row],[sem5.forma]]="e"),2,AND(Tabela_ogolne[[#This Row],[sem5.godziny]]<$H$191,Tabela_ogolne[[#This Row],[sem5.forma]]="e"),1,AND(Tabela_ogolne[[#This Row],[sem5.godziny]]>=$H$191,Tabela_ogolne[[#This Row],[sem5.forma]]="z"),2,AND(Tabela_ogolne[[#This Row],[sem5.godziny]]<$H$191,Tabela_ogolne[[#This Row],[sem5.forma]]="z"),1,TRUE,""),"")} | Z19: {=IF(Tabela_ogolne[[#This Row],[czy.ects]]="TAK",_xlfn.IFS(AND(Tabela_ogolne[[#This Row],[sem6.godziny]]>=$Q$191,Tabela_ogolne[[#This Row],[sem6.forma]]="z"),8,AND(Tabela_ogolne[[#This Row],[sem6.godziny]]>=$I$191,Tabela_ogolne[[#This Row],[sem6.forma]]="z"),4,AND(Tabela_ogolne[[#This Row],[sem6.godziny]]>=$H$191,Tabela_ogolne[[#This Row],[sem6.forma]]="e"),2,AND(Tabela_ogolne[[#This Row],[sem6.godziny]]<$H$191,Tabela_ogolne[[#This Row],[sem6.forma]]="e"),1,AND(Tabela_ogolne[[#This Row],[sem6.godziny]]>=$H$191,Tabela_ogolne[[#This Row],[sem6.forma]]="z"),2,AND(Tabela_ogolne[[#This Row],[sem6.godziny]]<$H$191,Tabela_ogolne[[#This Row],[sem6.forma]]="z"),1,TRUE,""),"")} | AC19: {=IF(Tabela_ogolne[[#This Row],[czy.ects]]="TAK",_xlfn.IFS(AND(Tabela_ogolne[[#This Row],[sem7.godziny]]>=$Q$191,Tabela_ogolne[[#This Row],[sem7.forma]]="z"),8,AND(Tabela_ogolne[[#This Row],[sem7.godziny]]>=$I$191,Tabela_ogolne[[#This Row],[sem7.forma]]="z"),4,AND(Tabela_ogolne[[#This Row],[sem7.godziny]]>=$H$191,Tabela_ogolne[[#This Row],[sem7.forma]]="e"),2,AND(Tabela_ogolne[[#This Row],[sem7.godziny]]<$H$191,Tabela_ogolne[[#This Row],[sem7.forma]]="e"),1,AND(Tabela_ogolne[[#This Row],[sem7.godziny]]>=$H$191,Tabela_ogolne[[#This Row],[sem7.forma]]="z"),2,AND(Tabela_ogolne[[#This Row],[sem7.godziny]]<$H$191,Tabela_ogolne[[#This Row],[sem7.forma]]="z"),1,TRUE,""),"")} | AF19: {=IF(Tabela_ogolne[[#This Row],[czy.ects]]="TAK",_xlfn.IFS(AND(Tabela_ogolne[[#This Row],[sem8.godziny]]>=$Q$191,Tabela_ogolne[[#This Row],[sem8.forma]]="z"),8,AND(Tabela_ogolne[[#This Row],[sem8.godziny]]>=$I$191,Tabela_ogolne[[#This Row],[sem8.forma]]="z"),4,AND(Tabela_ogolne[[#This Row],[sem8.godziny]]>=$H$191,Tabela_ogolne[[#This Row],[sem8.forma]]="e"),2,AND(Tabela_ogolne[[#This Row],[sem8.godziny]]<$H$191,Tabela_ogolne[[#This Row],[sem8.forma]]="e"),1,AND(Tabela_ogolne[[#This Row],[sem8.godziny]]>=$H$191,Tabela_ogolne[[#This Row],[sem8.forma]]="z"),2,AND(Tabela_ogolne[[#This Row],[sem8.godziny]]<$H$191,Tabela_ogolne[[#This Row],[sem8.forma]]="z"),1,TRUE,""),"")} | AI19: {=IF(Tabela_ogolne[[#This Row],[czy.ects]]="TAK",_xlfn.IFS(AND(Tabela_ogolne[[#This Row],[sem9.godziny]]>=$Q$191,Tabela_ogolne[[#This Row],[sem9.forma]]="z"),8,AND(Tabela_ogolne[[#This Row],[sem9.godziny]]>=$I$191,Tabela_ogolne[[#This Row],[sem9.forma]]="z"),4,AND(Tabela_ogolne[[#This Row],[sem9.godziny]]>=$H$191,Tabela_ogolne[[#This Row],[sem9.forma]]="e"),2,AND(Tabela_ogolne[[#This Row],[sem9.godziny]]<$H$191,Tabela_ogolne[[#This Row],[sem9.forma]]="e"),1,AND(Tabela_ogolne[[#This Row],[sem9.godziny]]>=$H$191,Tabela_ogolne[[#This Row],[sem9.forma]]="z"),2,AND(Tabela_ogolne[[#This Row],[sem9.godziny]]<$H$191,Tabela_ogolne[[#This Row],[sem9.forma]]="z"),1,TRUE,""),"")} | AL19: {=IF(Tabela_ogolne[[#This Row],[czy.ects]]="TAK",_xlfn.IFS(AND(Tabela_ogolne[[#This Row],[sem10.godziny]]>=$Q$191,Tabela_ogolne[[#This Row],[sem10.forma]]="z"),8,AND(Tabela_ogolne[[#This Row],[sem10.godziny]]>=$I$191,Tabela_ogolne[[#This Row],[sem10.forma]]="z"),4,AND(Tabela_ogolne[[#This Row],[sem10.godziny]]>=$H$191,Tabela_ogolne[[#This Row],[sem10.forma]]="e"),2,AND(Tabela_ogolne[[#This Row],[sem10.godziny]]<$H$191,Tabela_ogolne[[#This Row],[sem10.forma]]="e"),1,AND(Tabela_ogolne[[#This Row],[sem10.godziny]]>=$H$191,Tabela_ogolne[[#This Row],[sem10.forma]]="z"),2,AND(Tabela_ogolne[[#This Row],[sem10.godziny]]<$H$191,Tabela_ogolne[[#This Row],[sem10.forma]]="z"),1,TRUE,""),"")} | AN19: =SUM(Tabela_ogolne[[#This Row],[sem1.ects]],Tabela_ogolne[[#This Row],[sem2.ects]],Tabela_ogolne[[#This Row],[sem3.ects]],Tabela_ogolne[[#This Row],[sem4.ects]],Tabela_ogolne[[#This Row],[sem5.ects]],Tabela_ogolne[[#This Row],[sem6.ects]],Tabela_ogolne[[#This Row],[sem7.ects]],Tabela_ogolne[[#This Row],[sem8.ects]],Tabela_ogolne[[#This Row],[sem9.ects]],Tabela_ogolne[[#This Row],[sem10.ects]]) -> 1 | AO19: =IF(ISERR(SEARCH("UP",Tabela_ogolne[[#This Row],[Umiej.prakt.]],1)),0,Tabela_ogolne[[#This Row],[ects.razem]]) -> 1 | AP19: =IF(Tabela_ogolne[[#This Row],[czy.ects]]="TAK",ROUND((SUM(Tabela_ogolne[[#This Row],[godziny.konsultacja]],Tabela_ogolne[[#This Row],[godziny.egzamin]],Tabela_ogolne[[#This Row],[godziny.zajec.razem]])/25)/0.5,0)*0.5,0) -> 0.5 | AQ19: =SUM(Tabela_ogolne[[#This Row],[godziny.samoksztalcenie]],Tabela_ogolne[[#This Row],[godziny.konsultacja]],Tabela_ogolne[[#This Row],[godziny.egzamin]],Tabela_ogolne[[#This Row],[godziny.zajec.razem]]) -> 27 | AR19: =INT(SUM(Tabela_ogolne[[#This Row],[godziny.konsultacja]],Tabela_ogolne[[#This Row],[godziny.egzamin]],Tabela_ogolne[[#This Row],[godziny.zajec.razem]])*0.5+Tabela_ogolne[[#This Row],[godziny.zajec.razem]]*(15-$G$191)/9) -> 9 | AS19: =INT(Tabela_ogolne[[#This Row],[godziny.zajec.razem]]*0.1) -> 1 | AT19: =IF(Tabela_ogolne[[#This Row],[godziny.zajec.razem]]>0,IF(Tabela_ogolne[[#This Row],[godziny.zajec.razem]]>=45,4,2),0) -> 2 | AU19: =SUM(Tabela_ogolne[[#This Row],[sem1.godziny]],Tabela_ogolne[[#This Row],[sem2.godziny]],Tabela_ogolne[[#This Row],[sem3.godziny]],Tabela_ogolne[[#This Row],[sem4.godziny]],Tabela_ogolne[[#This Row],[sem5.godziny]],Tabela_ogolne[[#This Row],[sem6.godziny]],Tabela_ogolne[[#This Row],[sem7.godziny]],Tabela_ogolne[[#This Row],[sem8.godziny]],Tabela_ogolne[[#This Row],[sem9.godziny]],Tabela_ogolne[[#This Row],[sem10.godziny]]) -> 15 | AV19: =IF(Tabela_ogolne[[#This Row],[ects.bezposr.nauczyciel]],Tabela_ogolne[[#This Row],[ects.bezposr.nauczyciel]]/Tabela_ogolne[[#This Row],[ects.razem]],0) -> 0.5
